Back to Mac ARM64 build report for BioC 3.18
ABCDEFGHIJKLMNO[P]QRSTUVWXYZ

This page was generated on 2024-02-29 11:32:09 -0500 (Thu, 29 Feb 2024).

HostnameOSArch (*)R versionInstalled pkgs
kjohnson1macOS 13.6.1 Venturaarm644.3.2 (2023-10-31) -- "Eye Holes" 4300
Click on any hostname to see more info about the system (e.g. compilers)      (*) as reported by 'uname -p', except on Windows and Mac OS X

All results for package PharmacoGx


To the developers/maintainers of the PharmacoGx package:
- Use the following Renviron settings to reproduce errors and warnings.
- If 'R CMD check' started to fail recently on the Linux builder(s) over a missing dependency, add the missing dependency to 'Suggests:' in your DESCRIPTION file. See Renviron.bioc for more information.

raw results

Package 1534/2266HostnameOS / ArchINSTALLBUILDCHECKBUILD BIN
PharmacoGx 3.6.0  (landing page)
Benjamin Haibe-Kains
Snapshot Date: 2024-02-27 09:00:02 -0500 (Tue, 27 Feb 2024)
git_url: https://git.bioconductor.org/packages/PharmacoGx
git_branch: RELEASE_3_18
git_last_commit: 449b0a6
git_last_commit_date: 2023-10-24 10:52:14 -0500 (Tue, 24 Oct 2023)
kjohnson1macOS 13.6.1 Ventura / arm64  OK    OK    OK    OK  UNNEEDED, same version is already published

Results for Bioconductor software packages that depend directly on package PharmacoGx

QUICK STATSOS / ArchINSTALLBUILDCHECKBUILD BIN
kjohnson1macOS 13.6.1 Ventura / arm64
002
002
0002
002
Package 1/2HostnameOS / ArchINSTALLBUILDCHECKBUILD BIN
gDRimport 1.0.0  (landing page)
Arkadiusz Gladki
git_last_commit: bc9e88f
git_last_commit_date: 2023-10-24 11:49:32 -0500
kjohnson1macOS 13.6.1 Ventura / arm64  OK    OK    OK    OK  UNNEEDED, same version is already published
Package 2/2HostnameOS / ArchINSTALLBUILDCHECKBUILD BIN
Xeva 1.18.0  (landing page)
Benjamin Haibe-Kains
git_last_commit: 203e568
git_last_commit_date: 2023-10-24 11:11:27 -0500
kjohnson1macOS 13.6.1 Ventura / arm64  OK    OK    OK    OK  UNNEEDED, same version is already published