Back to Mac ARM64 build report for BioC 3.18
[A]BCDEFGHIJKLMNOPQRSTUVWXYZ

This page was generated on 2024-02-29 11:32:02 -0500 (Thu, 29 Feb 2024).

HostnameOSArch (*)R versionInstalled pkgs
kjohnson1macOS 13.6.1 Venturaarm644.3.2 (2023-10-31) -- "Eye Holes" 4300
Click on any hostname to see more info about the system (e.g. compilers)      (*) as reported by 'uname -p', except on Windows and Mac OS X

All results for package AnnotationHub


To the developers/maintainers of the AnnotationHub package:
- Use the following Renviron settings to reproduce errors and warnings.
- If 'R CMD check' started to fail recently on the Linux builder(s) over a missing dependency, add the missing dependency to 'Suggests:' in your DESCRIPTION file. See Renviron.bioc for more information.

raw results

Package 72/2266HostnameOS / ArchINSTALLBUILDCHECKBUILD BIN
AnnotationHub 3.10.0  (landing page)
Bioconductor Package Maintainer
Snapshot Date: 2024-02-27 09:00:02 -0500 (Tue, 27 Feb 2024)
git_url: https://git.bioconductor.org/packages/AnnotationHub
git_branch: RELEASE_3_18
git_last_commit: 76efb99
git_last_commit_date: 2023-10-24 09:53:34 -0500 (Tue, 24 Oct 2023)
kjohnson1macOS 13.6.1 Ventura / arm64  OK    OK    WARNINGS    OK  UNNEEDED, same version is already published

Results for Bioconductor software packages that depend directly on package AnnotationHub

QUICK STATSOS / ArchINSTALLBUILDCHECKBUILD BIN
kjohnson1macOS 13.6.1 Ventura / arm64
0148
0148
03936
0048
Package 1/49HostnameOS / ArchINSTALLBUILDCHECKBUILD BIN
adductomicsR 1.18.0  (landing page)
Josie Hayes
git_last_commit: 35a34c9
git_last_commit_date: 2023-10-24 11:10:34 -0500
kjohnson1macOS 13.6.1 Ventura / arm64  OK    OK    WARNINGS    OK  UNNEEDED, same version is already published
Package 2/49HostnameOS / ArchINSTALLBUILDCHECKBUILD BIN
AnnotationHubData 1.32.1  (landing page)
Bioconductor Package Maintainer
git_last_commit: 938caa2
git_last_commit_date: 2024-02-12 13:07:50 -0500
kjohnson1macOS 13.6.1 Ventura / arm64  OK    OK    WARNINGS    OK  UNNEEDED, same version is already published
Package 3/49HostnameOS / ArchINSTALLBUILDCHECKBUILD BIN
annotatr 1.28.0  (landing page)
Raymond G. Cavalcante
git_last_commit: 8a19608
git_last_commit_date: 2023-10-24 10:53:43 -0500
kjohnson1macOS 13.6.1 Ventura / arm64  OK    OK    OK    OK  UNNEEDED, same version is already published
Package 4/49HostnameOS / ArchINSTALLBUILDCHECKBUILD BIN
atena 1.8.0  (landing page)
Beatriz Calvo-Serra
git_last_commit: 634a469
git_last_commit_date: 2023-10-24 11:36:26 -0500
kjohnson1macOS 13.6.1 Ventura / arm64  OK    OK    OK    OK  UNNEEDED, same version is already published
Package 5/49HostnameOS / ArchINSTALLBUILDCHECKBUILD BIN
BiocHubsShiny 1.2.0  (landing page)
Marcel Ramos
git_last_commit: ed13c43
git_last_commit_date: 2023-10-24 11:46:37 -0500
kjohnson1macOS 13.6.1 Ventura / arm64  OK    OK    OK    OK  UNNEEDED, same version is already published
Package 6/49HostnameOS / ArchINSTALLBUILDCHECKBUILD BIN
circRNAprofiler 1.16.0  (landing page)
Simona Aufiero
git_last_commit: 39fe35b
git_last_commit_date: 2023-10-24 11:15:12 -0500
kjohnson1macOS 13.6.1 Ventura / arm64  OK    OK    OK    OK  UNNEEDED, same version is already published
Package 7/49HostnameOS / ArchINSTALLBUILDCHECKBUILD BIN
coMethDMR 1.6.0  (landing page)
Fernanda Veitzman
git_last_commit: aa83334
git_last_commit_date: 2023-10-24 11:38:47 -0500
kjohnson1macOS 13.6.1 Ventura / arm64  OK    OK    OK    OK  UNNEEDED, same version is already published
Package 8/49HostnameOS / ArchINSTALLBUILDCHECKBUILD BIN
cTRAP 1.20.0  (landing page)
Nuno Saraiva-Agostinho
git_last_commit: c77177f
git_last_commit_date: 2023-10-24 11:08:57 -0500
kjohnson1macOS 13.6.1 Ventura / arm64  OK    OK    ERROR    OK  
Package 9/49HostnameOS / ArchINSTALLBUILDCHECKBUILD BIN
customCMPdb 1.12.0  (landing page)
Yuzhu Duan
git_last_commit: b93db2f
git_last_commit_date: 2023-10-24 11:26:27 -0500
kjohnson1macOS 13.6.1 Ventura / arm64  OK    OK    OK    OK  UNNEEDED, same version is already published
Package 10/49HostnameOS / ArchINSTALLBUILDCHECKBUILD BIN
dmrseq 1.22.1  (landing page)
Keegan Korthauer
git_last_commit: daaf07a
git_last_commit_date: 2024-02-20 13:55:13 -0500
kjohnson1macOS 13.6.1 Ventura / arm64  OK    OK    OK    OK  UNNEEDED, same version is already published
Package 11/49HostnameOS / ArchINSTALLBUILDCHECKBUILD BIN
ENmix 1.38.01  (landing page)
Zongli Xu
git_last_commit: 0a1ee50
git_last_commit_date: 2023-10-25 08:27:48 -0500
kjohnson1macOS 13.6.1 Ventura / arm64  OK    OK    OK    OK  UNNEEDED, same version is already published
Package 12/49HostnameOS / ArchINSTALLBUILDCHECKBUILD BIN
EpiCompare 1.6.5  (landing page)
Thomas Roberts
git_last_commit: a863246
git_last_commit_date: 2024-02-13 04:58:29 -0500
kjohnson1macOS 13.6.1 Ventura / arm64  OK    OK    OK    OK  UNNEEDED, same version is already published
Package 13/49HostnameOS / ArchINSTALLBUILDCHECKBUILD BIN
EpiMix 1.4.0  (landing page)
Yuanning Zheng
git_last_commit: dd3578d
git_last_commit_date: 2023-10-24 11:43:01 -0500
kjohnson1macOS 13.6.1 Ventura / arm64  OK    OK    OK    OK  UNNEEDED, same version is already published
Package 14/49HostnameOS / ArchINSTALLBUILDCHECKBUILD BIN
epimutacions 1.6.1  (landing page)
Dolors Pelegri-Siso
git_last_commit: ba2e314
git_last_commit_date: 2023-11-03 07:47:17 -0500
kjohnson1macOS 13.6.1 Ventura / arm64  OK    OK    OK    OK  UNNEEDED, same version is already published
Package 15/49HostnameOS / ArchINSTALLBUILDCHECKBUILD BIN
ExperimentHub 2.10.0  (landing page)
Bioconductor Package Maintainer
git_last_commit: f9cb6a0
git_last_commit_date: 2023-10-24 10:48:01 -0500
kjohnson1macOS 13.6.1 Ventura / arm64  OK    OK    WARNINGS    OK  UNNEEDED, same version is already published
Package 16/49HostnameOS / ArchINSTALLBUILDCHECKBUILD BIN
gDNAx 1.0.1  (landing page)
Beatriz Calvo-Serra
git_last_commit: cdd4660
git_last_commit_date: 2024-02-09 10:19:06 -0500
kjohnson1macOS 13.6.1 Ventura / arm64  OK    OK    OK    OK  UNNEEDED, same version is already published
Package 17/49HostnameOS / ArchINSTALLBUILDCHECKBUILD BIN
GenomicScores 2.14.3  (landing page)
Robert Castelo
git_last_commit: fba5ae0
git_last_commit_date: 2023-12-21 10:38:29 -0500
kjohnson1macOS 13.6.1 Ventura / arm64  OK    OK    OK    OK  UNNEEDED, same version is already published
Package 18/49HostnameOS / ArchINSTALLBUILDCHECKBUILD BIN
GRaNIE 1.6.1  (landing page)
Christian Arnold
git_last_commit: 35f2aa9
git_last_commit_date: 2023-10-26 11:47:33 -0500
kjohnson1macOS 13.6.1 Ventura / arm64  OK    OK    OK    OK  UNNEEDED, same version is already published
Package 19/49HostnameOS / ArchINSTALLBUILDCHECKBUILD BIN
GSEABenchmarkeR 1.22.0  (landing page)
Ludwig Geistlinger
git_last_commit: 40d5688
git_last_commit_date: 2023-10-24 11:03:50 -0500
kjohnson1macOS 13.6.1 Ventura / arm64  OK    OK    OK    OK  UNNEEDED, same version is already published
Package 20/49HostnameOS / ArchINSTALLBUILDCHECKBUILD BIN
gwascat 2.34.0  (landing page)
VJ Carey
git_last_commit: 9252d33
git_last_commit_date: 2023-10-24 09:49:29 -0500
kjohnson1macOS 13.6.1 Ventura / arm64  OK    OK    OK    OK  UNNEEDED, same version is already published
Package 21/49HostnameOS / ArchINSTALLBUILDCHECKBUILD BIN
hipathia 3.2.0  (landing page)
Marta R. Hidalgo
git_last_commit: 251de34
git_last_commit_date: 2023-10-24 11:04:44 -0500
kjohnson1macOS 13.6.1 Ventura / arm64  OK    OK    OK    OK  UNNEEDED, same version is already published
Package 22/49HostnameOS / ArchINSTALLBUILDCHECKBUILD BIN
ipdDb 1.20.0  (landing page)
Steffen Klasberg
git_last_commit: 91c41ad
git_last_commit_date: 2023-10-24 11:06:26 -0500
kjohnson1macOS 13.6.1 Ventura / arm64  OK    OK    OK    OK  UNNEEDED, same version is already published
Package 23/49HostnameOS / ArchINSTALLBUILDCHECKBUILD BIN
iSEEhub 1.4.0  (landing page)
Kevin Rue-Albrecht
git_last_commit: a3ff71c
git_last_commit_date: 2023-10-24 11:44:04 -0500
kjohnson1macOS 13.6.1 Ventura / arm64  OK    OK    OK    OK  UNNEEDED, same version is already published
Package 24/49HostnameOS / ArchINSTALLBUILDCHECKBUILD BIN
LRcell 1.10.0  (landing page)
Wenjing Ma
git_last_commit: 3cb2264
git_last_commit_date: 2023-10-24 11:31:38 -0500
kjohnson1macOS 13.6.1 Ventura / arm64  OK    OK    OK    OK  UNNEEDED, same version is already published
Package 25/49HostnameOS / ArchINSTALLBUILDCHECKBUILD BIN
MACSr 1.10.0  (landing page)
Qiang Hu
git_last_commit: 640c4c3
git_last_commit_date: 2023-10-24 11:29:48 -0500
kjohnson1macOS 13.6.1 Ventura / arm64  OK    OK    OK    OK  UNNEEDED, same version is already published
Package 26/49HostnameOS / ArchINSTALLBUILDCHECKBUILD BIN
meshes 1.28.0  (landing page)
Guangchuang Yu
git_last_commit: 227153b
git_last_commit_date: 2023-10-24 10:53:45 -0500
kjohnson1macOS 13.6.1 Ventura / arm64  OK    OK    OK    OK  UNNEEDED, same version is already published
Package 27/49HostnameOS / ArchINSTALLBUILDCHECKBUILD BIN
MetaboAnnotation 1.6.1  (landing page)
Johannes Rainer
git_last_commit: 7983e3e
git_last_commit_date: 2023-10-26 03:57:55 -0500
kjohnson1macOS 13.6.1 Ventura / arm64  OK    OK    OK    OK  UNNEEDED, same version is already published
Package 28/49HostnameOS / ArchINSTALLBUILDCHECKBUILD BIN
MethReg 1.12.0  (landing page)
Tiago Silva
git_last_commit: 30684d3
git_last_commit_date: 2023-10-24 11:25:49 -0500
kjohnson1macOS 13.6.1 Ventura / arm64  OK    OK    WARNINGS    OK  UNNEEDED, same version is already published
Package 29/49HostnameOS / ArchINSTALLBUILDCHECKBUILD BIN
Moonlight2R 1.0.0  (landing page)
Matteo Tiberti
git_last_commit: f5bfcb9
git_last_commit_date: 2023-10-24 11:51:18 -0500
kjohnson1macOS 13.6.1 Ventura / arm64  OK    OK    OK    OK  UNNEEDED, same version is already published
Package 30/49HostnameOS / ArchINSTALLBUILDCHECKBUILD BIN
MSnID 1.36.0  (landing page)
Vlad Petyuk
git_last_commit: 605438e
git_last_commit_date: 2023-10-24 10:38:36 -0500
kjohnson1macOS 13.6.1 Ventura / arm64  OK    OK    ERROR    OK  
Package 31/49HostnameOS / ArchINSTALLBUILDCHECKBUILD BIN
octad 1.4.0  (landing page)
E. Chekalin
git_last_commit: 4fe9b79
git_last_commit_date: 2023-10-24 11:45:19 -0500
kjohnson1macOS 13.6.1 Ventura / arm64  OK    OK    OK    OK  UNNEEDED, same version is already published
Package 32/49HostnameOS / ArchINSTALLBUILDCHECKBUILD BIN
OGRE 1.6.0  (landing page)
Sven Berres
git_last_commit: a47cbc3
git_last_commit_date: 2023-10-24 11:39:04 -0500
kjohnson1macOS 13.6.1 Ventura / arm64  OK    OK    OK    OK  UNNEEDED, same version is already published
Package 33/49HostnameOS / ArchINSTALLBUILDCHECKBUILD BIN
ontoProc 1.24.0  (landing page)
Vincent Carey
git_last_commit: 5718db1
git_last_commit_date: 2023-10-24 11:00:55 -0500
kjohnson1macOS 13.6.1 Ventura / arm64  OK    OK    OK    OK  UNNEEDED, same version is already published
Package 34/49HostnameOS / ArchINSTALLBUILDCHECKBUILD BIN
orthos 1.0.1  (landing page)
Panagiotis Papasaikas
git_last_commit: 84d1a58
git_last_commit_date: 2023-11-02 08:46:54 -0500
kjohnson1macOS 13.6.1 Ventura / arm64  OK    OK    OK    OK  UNNEEDED, same version is already published
Package 35/49HostnameOS / ArchINSTALLBUILDCHECKBUILD BIN
partCNV 1.0.0  (landing page)
Ziyi Li
git_last_commit: 4075147
git_last_commit_date: 2023-10-24 11:49:24 -0500
kjohnson1macOS 13.6.1 Ventura / arm64  OK    OK    OK    OK  UNNEEDED, same version is already published
Package 36/49HostnameOS / ArchINSTALLBUILDCHECKBUILD BIN
psichomics 1.28.1  (landing page)
Nuno Saraiva-Agostinho
git_last_commit: 444a86a
git_last_commit_date: 2024-02-04 17:55:30 -0500
kjohnson1macOS 13.6.1 Ventura / arm64  OK    OK    OK    OK  UNNEEDED, same version is already published
Package 37/49HostnameOS / ArchINSTALLBUILDCHECKBUILD BIN
pwOmics 1.34.0  (landing page)
Torsten Schoeps
git_last_commit: dc5bce7
git_last_commit_date: 2023-10-24 10:43:28 -0500
kjohnson1macOS 13.6.1 Ventura / arm64  OK    OK    WARNINGS    OK  UNNEEDED, same version is already published
Package 38/49HostnameOS / ArchINSTALLBUILDCHECKBUILD BIN
regutools 1.14.0  (landing page)
Joselyn Chavez
git_last_commit: 5db6548
git_last_commit_date: 2023-10-24 11:22:02 -0500
kjohnson1macOS 13.6.1 Ventura / arm64  OK    OK    OK    OK  UNNEEDED, same version is already published
Package 39/49HostnameOS / ArchINSTALLBUILDCHECKBUILD BIN
REMP 1.26.0  (landing page)
Yinan Zheng
git_last_commit: ee4ee19
git_last_commit_date: 2023-10-24 10:55:28 -0500
kjohnson1macOS 13.6.1 Ventura / arm64  OK    OK    OK    OK  UNNEEDED, same version is already published
Package 40/49HostnameOS / ArchINSTALLBUILDCHECKBUILD BIN
restfulSE 1.24.0  (landing page)
Shweta Gopaulakrishnan
git_last_commit: 8154538
git_last_commit_date: 2023-10-24 10:59:57 -0500
kjohnson1macOS 13.6.1 Ventura / arm64  OK    OK    OK    OK  UNNEEDED, same version is already published
Package 41/49HostnameOS / ArchINSTALLBUILDCHECKBUILD BIN
RLSeq 1.8.0  (landing page)
Henry Miller
git_last_commit: 299fafc
git_last_commit_date: 2023-10-24 11:38:24 -0500
kjohnson1macOS 13.6.1 Ventura / arm64  ERROR    ERROR  skippedskipped
Package 42/49HostnameOS / ArchINSTALLBUILDCHECKBUILD BIN
scanMiRApp 1.8.0  (landing page)
Pierre-Luc Germain
git_last_commit: 1f05d94
git_last_commit_date: 2023-10-24 11:35:21 -0500
kjohnson1macOS 13.6.1 Ventura / arm64  OK    OK    WARNINGS    OK  UNNEEDED, same version is already published
Package 43/49HostnameOS / ArchINSTALLBUILDCHECKBUILD BIN
scAnnotatR 1.8.0  (landing page)
Johannes Griss
git_last_commit: 5367b84
git_last_commit_date: 2023-10-24 11:36:04 -0500
kjohnson1macOS 13.6.1 Ventura / arm64  OK    OK    WARNINGS    OK  UNNEEDED, same version is already published
Package 44/49HostnameOS / ArchINSTALLBUILDCHECKBUILD BIN
scmeth 1.22.0  (landing page)
Divy Kangeyan
git_last_commit: 39a201a
git_last_commit_date: 2023-10-24 11:02:56 -0500
kjohnson1macOS 13.6.1 Ventura / arm64  OK    OK    OK    OK  UNNEEDED, same version is already published
Package 45/49HostnameOS / ArchINSTALLBUILDCHECKBUILD BIN
scTensor 2.12.0  (landing page)
Koki Tsuyuzaki
git_last_commit: 40a43b3
git_last_commit_date: 2023-10-24 11:09:40 -0500
kjohnson1macOS 13.6.1 Ventura / arm64  OK    OK    WARNINGS    OK  UNNEEDED, same version is already published
Package 46/49HostnameOS / ArchINSTALLBUILDCHECKBUILD BIN
singleCellTK 2.12.2  (landing page)
Joshua David Campbell
git_last_commit: 14c92130
git_last_commit_date: 2024-02-05 14:45:10 -0500
kjohnson1macOS 13.6.1 Ventura / arm64  OK    OK    ERROR    OK  
Package 47/49HostnameOS / ArchINSTALLBUILDCHECKBUILD BIN
SpliceWiz 1.4.1  (landing page)
Alex Chit Hei Wong
git_last_commit: e98216c
git_last_commit_date: 2024-01-04 23:20:45 -0500
kjohnson1macOS 13.6.1 Ventura / arm64  OK    OK    OK    OK  UNNEEDED, same version is already published
Package 48/49HostnameOS / ArchINSTALLBUILDCHECKBUILD BIN
tximeta 1.20.3  (landing page)
Michael Love
git_last_commit: 4b7dc4d
git_last_commit_date: 2024-01-28 21:16:35 -0500
kjohnson1macOS 13.6.1 Ventura / arm64  OK    OK    OK    OK  UNNEEDED, same version is already published
Package 49/49HostnameOS / ArchINSTALLBUILDCHECKBUILD BIN
Ularcirc 1.20.0  (landing page)
David Humphreys
git_last_commit: 65fe081
git_last_commit_date: 2023-10-24 11:05:57 -0500
kjohnson1macOS 13.6.1 Ventura / arm64  OK    OK    WARNINGS    OK  UNNEEDED, same version is already published