Back to Multiple platform build/check report for BioC 3.18:   simplified   long
ABCDEF[G]HIJKLMNOPQRSTUVWXYZ

This page was generated on 2023-09-22 11:35:29 -0400 (Fri, 22 Sep 2023).

HostnameOSArch (*)R versionInstalled pkgs
nebbiolo2Linux (Ubuntu 22.04.2 LTS)x86_644.3.1 (2023-06-16) -- "Beagle Scouts" 4659
palomino4Windows Server 2022 Datacenterx644.3.1 (2023-06-16 ucrt) -- "Beagle Scouts" 4394
lconwaymacOS 12.6.5 Montereyx86_644.3.1 Patched (2023-06-17 r84564) -- "Beagle Scouts" 4408
kunpeng2Linux (openEuler 22.03 LTS-SP1)aarch644.3.1 (2023-06-16) -- "Beagle Scouts" 4397
Click on any hostname to see more info about the system (e.g. compilers)      (*) as reported by 'uname -p', except on Windows and Mac OS X

All results for package GOSemSim


To the developers/maintainers of the GOSemSim package:
- Allow up to 24 hours (and sometimes 48 hours) for your latest push to git@git.bioconductor.org:packages/GOSemSim.git to reflect on this report. See Troubleshooting Build Report for more information.
- Use the following Renviron settings to reproduce errors and warnings.
- If 'R CMD check' started to fail recently on the Linux builder(s) over a missing dependency, add the missing dependency to 'Suggests:' in your DESCRIPTION file. See Renviron.bioc for more information.

raw results

Package 869/2233HostnameOS / ArchINSTALLBUILDCHECKBUILD BIN
GOSemSim 2.27.3  (landing page)
Guangchuang Yu
Snapshot Date: 2023-09-21 14:05:09 -0400 (Thu, 21 Sep 2023)
git_url: https://git.bioconductor.org/packages/GOSemSim
git_branch: devel
git_last_commit: cc359af
git_last_commit_date: 2023-09-12 03:06:46 -0400 (Tue, 12 Sep 2023)
nebbiolo2Linux (Ubuntu 22.04.2 LTS) / x86_64  OK    OK    OK  UNNEEDED, same version is already published
palomino4Windows Server 2022 Datacenter / x64  OK    OK    OK    OK  UNNEEDED, same version is already published
lconwaymacOS 12.6.5 Monterey / x86_64  OK    OK    OK    OK  UNNEEDED, same version is already published
kunpeng2Linux (openEuler 22.03 LTS-SP1) / aarch64  OK    OK    OK  

Results for Bioconductor software packages that depend directly on package GOSemSim

QUICK STATSOS / ArchINSTALLBUILDCHECKBUILD BIN
nebbiolo2Linux (Ubuntu 22.04.2 LTS) / x86_64
009
009
0018
palomino4Windows Server 2022 Datacenter / x64
009
009
0018
009
lconwaymacOS 12.6.5 Monterey / x86_64
009
009
0018
009
kunpeng2Linux (openEuler 22.03 LTS-SP1) / aarch64
009
018
0116
Package 1/9HostnameOS / ArchINSTALLBUILDCHECKBUILD BIN
clusterProfiler 4.9.3  (landing page)
Guangchuang Yu
git_last_commit: 60dcc01
git_last_commit_date: 2023-08-30 23:45:13 -0400
nebbiolo2Linux (Ubuntu 22.04.2 LTS) / x86_64  OK    OK    OK  UNNEEDED, same version is already published
palomino4Windows Server 2022 Datacenter / x64  OK    OK    OK    OK  UNNEEDED, same version is already published
lconwaymacOS 12.6.5 Monterey / x86_64  OK    OK    OK    OK  UNNEEDED, same version is already published
kunpeng2Linux (openEuler 22.03 LTS-SP1) / aarch64  OK    OK    ERROR  
Package 2/9HostnameOS / ArchINSTALLBUILDCHECKBUILD BIN
DOSE 3.27.2  (landing page)
Guangchuang Yu
git_last_commit: 93a4b98
git_last_commit_date: 2023-07-01 12:22:24 -0400
nebbiolo2Linux (Ubuntu 22.04.2 LTS) / x86_64  OK    OK    OK  UNNEEDED, same version is already published
palomino4Windows Server 2022 Datacenter / x64  OK    OK    OK    OK  UNNEEDED, same version is already published
lconwaymacOS 12.6.5 Monterey / x86_64  OK    OK    OK    OK  UNNEEDED, same version is already published
kunpeng2Linux (openEuler 22.03 LTS-SP1) / aarch64  OK    OK    OK  
Package 3/9HostnameOS / ArchINSTALLBUILDCHECKBUILD BIN
enrichplot 1.21.3  (landing page)
Guangchuang Yu
git_last_commit: fc0a2ee
git_last_commit_date: 2023-09-15 11:59:41 -0400
nebbiolo2Linux (Ubuntu 22.04.2 LTS) / x86_64  OK    OK    OK  UNNEEDED, same version is already published
palomino4Windows Server 2022 Datacenter / x64  OK    OK    OK    OK  UNNEEDED, same version is already published
lconwaymacOS 12.6.5 Monterey / x86_64  OK    OK    OK    OK  UNNEEDED, same version is already published
kunpeng2Linux (openEuler 22.03 LTS-SP1) / aarch64  OK    OK    OK  
Package 4/9HostnameOS / ArchINSTALLBUILDCHECKBUILD BIN
meshes 1.27.0  (landing page)
Guangchuang Yu
git_last_commit: 98171f1
git_last_commit_date: 2023-07-01 11:53:41 -0400
nebbiolo2Linux (Ubuntu 22.04.2 LTS) / x86_64  OK    OK    OK  UNNEEDED, same version is already published
palomino4Windows Server 2022 Datacenter / x64  OK    OK    OK    OK  UNNEEDED, same version is already published
lconwaymacOS 12.6.5 Monterey / x86_64  OK    OK    OK    OK  UNNEEDED, same version is already published
kunpeng2Linux (openEuler 22.03 LTS-SP1) / aarch64  OK    OK    OK  
Package 5/9HostnameOS / ArchINSTALLBUILDCHECKBUILD BIN
Rcpi 1.37.1  (landing page)
Nan Xiao
git_last_commit: 1a75ee2
git_last_commit_date: 2023-06-27 01:30:02 -0400
nebbiolo2Linux (Ubuntu 22.04.2 LTS) / x86_64  OK    OK    OK  UNNEEDED, same version is already published
palomino4Windows Server 2022 Datacenter / x64  OK    OK    OK    OK  UNNEEDED, same version is already published
lconwaymacOS 12.6.5 Monterey / x86_64  OK    OK    OK    OK  UNNEEDED, same version is already published
kunpeng2Linux (openEuler 22.03 LTS-SP1) / aarch64  OK    OK    OK  
Package 6/9HostnameOS / ArchINSTALLBUILDCHECKBUILD BIN
rrvgo 1.13.2  (landing page)
Sergi Sayols
git_last_commit: 778b4e0
git_last_commit_date: 2023-09-06 17:17:25 -0400
nebbiolo2Linux (Ubuntu 22.04.2 LTS) / x86_64  OK    OK    OK  UNNEEDED, same version is already published
palomino4Windows Server 2022 Datacenter / x64  OK    OK    OK    OK  UNNEEDED, same version is already published
lconwaymacOS 12.6.5 Monterey / x86_64  OK    OK    OK    OK  UNNEEDED, same version is already published
kunpeng2Linux (openEuler 22.03 LTS-SP1) / aarch64  OK    OK    OK  
Package 7/9HostnameOS / ArchINSTALLBUILDCHECKBUILD BIN
simplifyEnrichment 1.11.0  (landing page)
Zuguang Gu
git_last_commit: 317cfca
git_last_commit_date: 2023-04-25 11:18:39 -0400
nebbiolo2Linux (Ubuntu 22.04.2 LTS) / x86_64  OK    OK    OK  UNNEEDED, same version is already published
palomino4Windows Server 2022 Datacenter / x64  OK    OK    OK    OK  UNNEEDED, same version is already published
lconwaymacOS 12.6.5 Monterey / x86_64  OK    OK    OK    OK  UNNEEDED, same version is already published
kunpeng2Linux (openEuler 22.03 LTS-SP1) / aarch64  OK    ERROR  skipped
Package 8/9HostnameOS / ArchINSTALLBUILDCHECKBUILD BIN
tRanslatome 1.39.0  (landing page)
Toma Tebaldi , Erik Dassi
git_last_commit: 9b69ddf
git_last_commit_date: 2023-04-25 10:27:15 -0400
nebbiolo2Linux (Ubuntu 22.04.2 LTS) / x86_64  OK    OK    OK  UNNEEDED, same version is already published
palomino4Windows Server 2022 Datacenter / x64  OK    OK    OK    OK  UNNEEDED, same version is already published
lconwaymacOS 12.6.5 Monterey / x86_64  OK    OK    OK    OK  UNNEEDED, same version is already published
kunpeng2Linux (openEuler 22.03 LTS-SP1) / aarch64  OK    OK    OK  
Package 9/9HostnameOS / ArchINSTALLBUILDCHECKBUILD BIN
ViSEAGO 1.15.0  (landing page)
Aurelien Brionne
git_last_commit: 27a153d
git_last_commit_date: 2023-09-11 10:08:19 -0400
nebbiolo2Linux (Ubuntu 22.04.2 LTS) / x86_64  OK    OK    WARNINGS  UNNEEDED, same version is already published
palomino4Windows Server 2022 Datacenter / x64  OK    OK    WARNINGS    OK  UNNEEDED, same version is already published
lconwaymacOS 12.6.5 Monterey / x86_64  OK    OK    WARNINGS    OK  UNNEEDED, same version is already published
kunpeng2Linux (openEuler 22.03 LTS-SP1) / aarch64  OK    OK    WARNINGS