Back to Multiple platform build/check report for BioC 3.18:   simplified   long
ABCD[E]FGHIJKLMNOPQRSTUVWXYZ

This page was generated on 2023-12-07 11:35:50 -0500 (Thu, 07 Dec 2023).

HostnameOSArch (*)R versionInstalled pkgs
nebbiolo2Linux (Ubuntu 22.04.2 LTS)x86_644.3.2 Patched (2023-11-13 r85521) -- "Eye Holes" 4688
palomino4Windows Server 2022 Datacenterx644.3.2 (2023-10-31 ucrt) -- "Eye Holes" 4439
lconwaymacOS 12.7.1 Montereyx86_644.3.2 Patched (2023-11-01 r85457) -- "Eye Holes" 4458
Click on any hostname to see more info about the system (e.g. compilers)      (*) as reported by 'uname -p', except on Windows and Mac OS X

Package 648/2266HostnameOS / ArchINSTALLBUILDCHECKBUILD BIN
EpiCompare 1.6.1  (landing page)
Thomas Roberts
Snapshot Date: 2023-12-06 14:05:06 -0500 (Wed, 06 Dec 2023)
git_url: https://git.bioconductor.org/packages/EpiCompare
git_branch: RELEASE_3_18
git_last_commit: 2a32d4f
git_last_commit_date: 2023-11-20 06:43:54 -0500 (Mon, 20 Nov 2023)
nebbiolo2Linux (Ubuntu 22.04.2 LTS) / x86_64  OK    OK    ERROR  
palomino4Windows Server 2022 Datacenter / x64  OK    ERROR  skippedskipped
lconwaymacOS 12.7.1 Monterey / x86_64  OK    OK    OK    OK  UNNEEDED, same version is already published
kjohnson1macOS 13.6.1 Ventura / arm64see weekly results here

CHECK results for EpiCompare on nebbiolo2


To the developers/maintainers of the EpiCompare package:
- Allow up to 24 hours (and sometimes 48 hours) for your latest push to git@git.bioconductor.org:packages/EpiCompare.git to reflect on this report. See Troubleshooting Build Report for more information.
- Use the following Renviron settings to reproduce errors and warnings.
- If 'R CMD check' started to fail recently on the Linux builder(s) over a missing dependency, add the missing dependency to 'Suggests:' in your DESCRIPTION file. See Renviron.bioc for more information.

raw results


Summary

Package: EpiCompare
Version: 1.6.1
Command: /home/biocbuild/bbs-3.18-bioc/R/bin/R CMD check --install=check:EpiCompare.install-out.txt --library=/home/biocbuild/bbs-3.18-bioc/R/site-library --timings EpiCompare_1.6.1.tar.gz
StartedAt: 2023-12-06 21:58:58 -0500 (Wed, 06 Dec 2023)
EndedAt: 2023-12-06 22:12:42 -0500 (Wed, 06 Dec 2023)
EllapsedTime: 823.3 seconds
RetCode: 1
Status:   ERROR  
CheckDir: EpiCompare.Rcheck
Warnings: NA

Command output

##############################################################################
##############################################################################
###
### Running command:
###
###   /home/biocbuild/bbs-3.18-bioc/R/bin/R CMD check --install=check:EpiCompare.install-out.txt --library=/home/biocbuild/bbs-3.18-bioc/R/site-library --timings EpiCompare_1.6.1.tar.gz
###
##############################################################################
##############################################################################


* using log directory ‘/home/biocbuild/bbs-3.18-bioc/meat/EpiCompare.Rcheck’
* using R version 4.3.2 Patched (2023-11-13 r85521)
* using platform: x86_64-pc-linux-gnu (64-bit)
* R was compiled by
    gcc (Ubuntu 11.4.0-1ubuntu1~22.04) 11.4.0
    GNU Fortran (Ubuntu 11.4.0-1ubuntu1~22.04) 11.4.0
* running under: Ubuntu 22.04.3 LTS
* using session charset: UTF-8
* checking for file ‘EpiCompare/DESCRIPTION’ ... OK
* checking extension type ... Package
* this is package ‘EpiCompare’ version ‘1.6.1’
* package encoding: UTF-8
* checking package namespace information ... OK
* checking package dependencies ... OK
* checking if this is a source package ... OK
* checking if there is a namespace ... OK
* checking for hidden files and directories ... OK
* checking for portable file names ... OK
* checking for sufficient/correct file permissions ... OK
* checking whether package ‘EpiCompare’ can be installed ... OK
* checking installed package size ... OK
* checking package directory ... OK
* checking ‘build’ directory ... OK
* checking DESCRIPTION meta-information ... OK
* checking top-level files ... OK
* checking for left-over files ... OK
* checking index information ... OK
* checking package subdirectories ... OK
* checking R files for non-ASCII characters ... OK
* checking R files for syntax errors ... OK
* checking whether the package can be loaded ... OK
* checking whether the package can be loaded with stated dependencies ... OK
* checking whether the package can be unloaded cleanly ... OK
* checking whether the namespace can be loaded with stated dependencies ... OK
* checking whether the namespace can be unloaded cleanly ... OK
* checking loading without being on the library search path ... OK
* checking dependencies in R code ... OK
* checking S3 generic/method consistency ... OK
* checking replacement functions ... OK
* checking foreign function calls ... OK
* checking R code for possible problems ... OK
* checking Rd files ... OK
* checking Rd metadata ... OK
* checking Rd cross-references ... OK
* checking for missing documentation entries ... OK
* checking for code/documentation mismatches ... OK
* checking Rd \usage sections ... OK
* checking Rd contents ... OK
* checking for unstated dependencies in examples ... OK
* checking contents of ‘data’ directory ... OK
* checking data for non-ASCII characters ... OK
* checking data for ASCII and uncompressed saves ... OK
* checking files in ‘vignettes’ ... OK
* checking examples ... OK
Examples with CPU (user + system) or elapsed time > 5s
                             user system elapsed
plot_enrichment            39.741  2.128  48.988
plot_ChIPseeker_annotation 21.514  1.360  22.875
rebin_peaks                12.287  3.738   6.257
EpiCompare                  9.322  1.222  10.608
plot_precision_recall       7.208  1.534   4.797
plot_corr                   6.336  1.776   6.300
plot_chromHMM               5.208  0.694   6.201
* checking for unstated dependencies in ‘tests’ ... OK
* checking tests ...
  Running ‘testthat.R’
 ERROR
Running the tests in ‘tests/testthat.R’ failed.
Last 13 lines of output:
   21.   │                   ├─base::withVisible(...)
   22.   │                   └─evaluate:::eval_with_user_handlers(expr, envir, enclos, user_handlers)
   23.   │                     └─base::eval(expr, envir, enclos)
   24.   │                       └─base::eval(expr, envir, enclos)
   25.   └─EpiCompare:::save_output(...)
   26.     └─ggplot2::ggsave(...)
   27.       ├─grid::grid.draw(plot)
   28.       └─ggplot2:::grid.draw.ggplot(plot)
   29.         ├─base::print(x)
   30.         └─ggplot2:::print.ggplot(x)
   31.           └─grid::grid.newpage()
  
  [ FAIL 1 | WARN 7 | SKIP 0 | PASS 92 ]
  Error: Test failures
  Execution halted
* checking for unstated dependencies in vignettes ... OK
* checking package vignettes in ‘inst/doc’ ... OK
* checking running R code from vignettes ...
  ‘EpiCompare.Rmd’ using ‘UTF-8’... OK
  ‘docker.Rmd’ using ‘UTF-8’... OK
  ‘example_report.Rmd’ using ‘UTF-8’... OK
 NONE
* checking re-building of vignette outputs ... OK
* checking PDF version of manual ... OK
* DONE

Status: 1 ERROR
See
  ‘/home/biocbuild/bbs-3.18-bioc/meat/EpiCompare.Rcheck/00check.log’
for details.


Installation output

EpiCompare.Rcheck/00install.out

##############################################################################
##############################################################################
###
### Running command:
###
###   /home/biocbuild/bbs-3.18-bioc/R/bin/R CMD INSTALL EpiCompare
###
##############################################################################
##############################################################################


* installing to library ‘/home/biocbuild/bbs-3.18-bioc/R/site-library’
* installing *source* package ‘EpiCompare’ ...
** using staged installation
** R
** data
** inst
** byte-compile and prepare package for lazy loading
Warning: replacing previous import ‘Biostrings::pattern’ by ‘grid::pattern’ when loading ‘genomation’
** help
*** installing help indices
** building package indices
** installing vignettes
** testing if installed package can be loaded from temporary location
Warning: replacing previous import ‘Biostrings::pattern’ by ‘grid::pattern’ when loading ‘genomation’
** testing if installed package can be loaded from final location
Warning: replacing previous import ‘Biostrings::pattern’ by ‘grid::pattern’ when loading ‘genomation’
** testing if installed package keeps a record of temporary installation path
* DONE (EpiCompare)

Tests output

EpiCompare.Rcheck/tests/testthat.Rout.fail


R version 4.3.2 Patched (2023-11-13 r85521) -- "Eye Holes"
Copyright (C) 2023 The R Foundation for Statistical Computing
Platform: x86_64-pc-linux-gnu (64-bit)

R is free software and comes with ABSOLUTELY NO WARRANTY.
You are welcome to redistribute it under certain conditions.
Type 'license()' or 'licence()' for distribution details.

R is a collaborative project with many contributors.
Type 'contributors()' for more information and
'citation()' on how to cite R or R packages in publications.

Type 'demo()' for some demos, 'help()' for on-line help, or
'help.start()' for an HTML browser interface to help.
Type 'q()' to quit R.

> library(testthat)
> library(EpiCompare)

Warning message:
replacing previous import 'Biostrings::pattern' by 'grid::pattern' when loading 'genomation' 
> 
> test_check("EpiCompare")
All EpiCompare features are being used.
WARNING: precision-recall curves cannot be generated when reference=NULL.


processing file: EpiCompare.Rmd
output file: EpiCompare.knit.md

/usr/bin/pandoc +RTS -K512m -RTS EpiCompare.knit.md --to html4 --from markdown+autolink_bare_uris+tex_math_single_backslash --output /tmp/Rtmp9S9T7F/EpiCompare_testthat/EpiCompare.html --lua-filter /home/biocbuild/bbs-3.18-bioc/R/site-library/rmarkdown/rmarkdown/lua/pagebreak.lua --lua-filter /home/biocbuild/bbs-3.18-bioc/R/site-library/rmarkdown/rmarkdown/lua/latex-div.lua --self-contained --variable bs3=TRUE --section-divs --table-of-contents --toc-depth 3 --variable toc_float=1 --variable toc_selectors=h1,h2,h3 --variable toc_collapsed=1 --variable toc_smooth_scroll=1 --variable toc_print=1 --template /home/biocbuild/bbs-3.18-bioc/R/site-library/rmarkdown/rmd/h/default.html --no-highlight --variable highlightjs=1 --number-sections --variable theme=bootstrap --css custom.css --mathjax --variable 'mathjax-url=https://mathjax.rstudio.com/latest/MathJax.js?config=TeX-AMS-MML_HTMLorMML' --include-in-header /tmp/Rtmp9S9T7F/rmarkdown-str357fa0150cbb.html --variable code_folding=hide --variable code_menu=1 
[WARNING] This document format requires a nonempty <title> element.
  Please specify either 'title' or 'pagetitle' in the metadata,
  e.g. by using --metadata pagetitle="..." on the command line.
  Falling back to 'EpiCompare.knit'

Output created: /tmp/Rtmp9S9T7F/EpiCompare_testthat/EpiCompare.html
[1] "Done in 2.19 min."
All outputs saved to: /tmp/Rtmp9S9T7F/EpiCompare_testthat
NOTE: The following EpiCompare features are NOT being used: 
 - upset_plot=
 - stat_plot=
 - chromHMM_plot=
 - chipseeker_plot=
 - enrichment_plot=
 - tss_plot=
 - precision_recall_plot=
 - corr_plot=
 - add_download_button=


processing file: EpiCompare.Rmd

Quitting from lines 279-295 [width_boxplot] (EpiCompare.Rmd)
[1] 1
[1] 3
[1] 5
[1] 7
[1] 9
[1] 11
[1] 13
[1] 15
[1] 17
[1] 19
[1] 21
[1] 23
[1] 25
[1] 2
[1] 4
[1] 6
[1] 8
[1] 10
[1] 12
[1] 14
[1] 16
[1] 18
[1] 20
[1] 22
[1] 24
[1] 26
[1] 1
[1] 2
[1] 3
[1] 4
[1] 5
[1] 6
[1] 7
[1] 8
[1] 9
[1] 10
[1] 11
[1] 12
[1] 13
[1] 14
[1] 15
[1] 16
[1] 17
[1] 18
[1] 19
[1] 20
[1] 21
[1] 22
[1] 23
[1] 24
[1] 25
[1] 26
[1] 1
[1] 2
[1] 3
[1] 4
[1] 5
[1] 6
[1] 7
[1] 8
[1] 9
[1] 10
[1] 11
[1] 12
[1] 13
[1] 14
[1] 15
[1] 16
[1] 17
[1] 18
[1] 19
[1] 20
[1] 21
[1] 22
[1] 23
[1] 24
[1] 25
[1] 26
Removing non-standard chromosomes.
Computing consensus peaks for group: Imperial 
 - 2 files 
 - 1,670-2,707 peaks each
Identified 1,325 consensus peaks from 2 peak files
Computing consensus peaks for group: ENCODE 
 - 1 files 
 - 5,142-5,142 peaks each
WARNING: Cannot compute consensus peaks when group has <2 peak files. Returning original GRanges object instead.
Done computing consensus peaks in 0 min.
Removing non-standard chromosomes.
Computing consensus peaks for group: Imperial 
 - 2 files 
 - 1,670-2,707 peaks each
Identified 2,982 consensus peaks from 2 peak files
Computing consensus peaks for group: ENCODE 
 - 1 files 
 - 5,142-5,142 peaks each
WARNING: Cannot compute consensus peaks when group has <2 peak files. Returning original GRanges object instead.
Done computing consensus peaks in 0.41 min.
Standardising peak files in 6,659 bins of 5e+05 bp.
Merging data into matrix.
Binned matrix size: 6,659 x 3
Matrix sparsity: 0.9526
Calculating correlation matrix.
Done computing correlations in 2 seconds.
Saving correlation results ==> /tmp/Rtmp9S9T7F/file357fa06087bc8e.corr.csv.gz
Standardising peak files in 32,488 bins of 1e+05 bp.
Merging data into matrix.
Binned matrix size: 32,488 x 3
Matrix sparsity: 0.974
Calculating correlation matrix.
Done computing correlations in 3 seconds.
Saving correlation results ==> /tmp/Rtmp9S9T7F/file357fa063efe122.corr.csv.gz
Standardising peak files in 323,636 bins of 1e+04 bp.
Merging data into matrix.
Binned matrix size: 323,636 x 3
Matrix sparsity: 0.9936
Calculating correlation matrix.
Done computing correlations in 4 seconds.
Saving correlation results ==> /tmp/Rtmp9S9T7F/file357fa05697ec07.corr.csv.gz
Standardising peak files in 647,114 bins of 5,000 bp.
Merging data into matrix.
Binned matrix size: 647,114 x 3
Matrix sparsity: 0.996
Calculating correlation matrix.
Done computing correlations in 7 seconds.
Saving correlation results ==> /tmp/Rtmp9S9T7F/file357fa055f82868.corr.csv.gz
--- Running fragment_info() ---
Done.
Writing ==> /tmp/Rtmp9S9T7F/processed_results/encode_H3K27ac.narrowPeaks.bed
Writing ==> /tmp/Rtmp9S9T7F/processed_results/CnT_H3K27ac.narrowPeaks.bed
Writing ==> /tmp/Rtmp9S9T7F/processed_results/CnR_H3K27ac.narrowPeaks.bed
Searching for *.narrowPeaks.bed$ files...
3 matching files identified.
Constructing file names.
Importing files.
Reading narrowPeaks
Reading narrowPeaks
Reading narrowPeaks
3 files retrieved.
Searching for peaks.narrow files...
3 matching files identified.
Constructing file names.
Returning paths.
Searching for peaks.narrow files...
0 matching files identified. Returning NULL.
Writing ==> /tmp/Rtmp9S9T7F/processed_results/encode_H3K27ac.narrowPeaks.bed
Preparing chain file.
loading from cache
require("rtracklayer")
Performing liftover:  hg19  -->  hg38
Removing non-standard chromosomes.
Preparing chain file.
Preparing chain file.
loading from cache
Performing liftover:  hg38  -->  hg19
Removing non-standard chromosomes.
loading from cache
Performing liftover:  hg19  -->  mm9
Removing non-standard chromosomes.
NOTE: The following EpiCompare features are NOT being used: 
 - upset_plot=
 - stat_plot=
 - chromHMM_plot=
 - chipseeker_plot=
 - enrichment_plot=
 - tss_plot=
 - precision_recall_plot=
 - corr_plot=
 - add_download_button=


processing file: EpiCompare.Rmd
output file: EpiCompare.knit.md

/usr/bin/pandoc +RTS -K512m -RTS EpiCompare.knit.md --to html4 --from markdown+autolink_bare_uris+tex_math_single_backslash --output /tmp/Rtmp9S9T7F/EpiCompare_test/EpiCompare.html --lua-filter /home/biocbuild/bbs-3.18-bioc/R/site-library/rmarkdown/rmarkdown/lua/pagebreak.lua --lua-filter /home/biocbuild/bbs-3.18-bioc/R/site-library/rmarkdown/rmarkdown/lua/latex-div.lua --self-contained --variable bs3=TRUE --section-divs --table-of-contents --toc-depth 3 --variable toc_float=1 --variable toc_selectors=h1,h2,h3 --variable toc_collapsed=1 --variable toc_smooth_scroll=1 --variable toc_print=1 --template /home/biocbuild/bbs-3.18-bioc/R/site-library/rmarkdown/rmd/h/default.html --no-highlight --variable highlightjs=1 --number-sections --variable theme=bootstrap --css custom.css --mathjax --variable 'mathjax-url=https://mathjax.rstudio.com/latest/MathJax.js?config=TeX-AMS-MML_HTMLorMML' --include-in-header /tmp/Rtmp9S9T7F/rmarkdown-str357fa01baa7589.html --variable code_folding=hide --variable code_menu=1 
[WARNING] This document format requires a nonempty <title> element.
  Please specify either 'title' or 'pagetitle' in the metadata,
  e.g. by using --metadata pagetitle="..." on the command line.
  Falling back to 'EpiCompare.knit'

Output created: /tmp/Rtmp9S9T7F/EpiCompare_test/EpiCompare.html
[1] "Done in 0.12 min."
All outputs saved to: /tmp/Rtmp9S9T7F/EpiCompare_test
NOTE: The following EpiCompare features are NOT being used: 
 - upset_plot=
 - stat_plot=
 - chromHMM_plot=
 - chipseeker_plot=
 - enrichment_plot=
 - tss_plot=
 - precision_recall_plot=
 - corr_plot=
 - add_download_button=


processing file: EpiCompare.Rmd
output file: EpiCompare.knit.md

/usr/bin/pandoc +RTS -K512m -RTS EpiCompare.knit.md --to html4 --from markdown+autolink_bare_uris+tex_math_single_backslash --output /tmp/Rtmp9S9T7F/EpiCompare_test/EpiCompare.html --lua-filter /home/biocbuild/bbs-3.18-bioc/R/site-library/rmarkdown/rmarkdown/lua/pagebreak.lua --lua-filter /home/biocbuild/bbs-3.18-bioc/R/site-library/rmarkdown/rmarkdown/lua/latex-div.lua --self-contained --variable bs3=TRUE --section-divs --table-of-contents --toc-depth 3 --variable toc_float=1 --variable toc_selectors=h1,h2,h3 --variable toc_collapsed=1 --variable toc_smooth_scroll=1 --variable toc_print=1 --template /home/biocbuild/bbs-3.18-bioc/R/site-library/rmarkdown/rmd/h/default.html --no-highlight --variable highlightjs=1 --number-sections --variable theme=bootstrap --css custom.css --mathjax --variable 'mathjax-url=https://mathjax.rstudio.com/latest/MathJax.js?config=TeX-AMS-MML_HTMLorMML' --include-in-header /tmp/Rtmp9S9T7F/rmarkdown-str357fa066e0762e.html --variable code_folding=hide --variable code_menu=1 
[WARNING] This document format requires a nonempty <title> element.
  Please specify either 'title' or 'pagetitle' in the metadata,
  e.g. by using --metadata pagetitle="..." on the command line.
  Falling back to 'EpiCompare.knit'

Output created: /tmp/Rtmp9S9T7F/EpiCompare_test/EpiCompare.html
[1] "Done in 0.13 min."
All outputs saved to: /tmp/Rtmp9S9T7F/EpiCompare_test
NOTE: The following EpiCompare features are NOT being used: 
 - upset_plot=
 - stat_plot=
 - chromHMM_plot=
 - chipseeker_plot=
 - enrichment_plot=
 - tss_plot=
 - precision_recall_plot=
 - corr_plot=
 - add_download_button=


processing file: EpiCompare.Rmd
output file: EpiCompare.knit.md

/usr/bin/pandoc +RTS -K512m -RTS EpiCompare.knit.md --to html4 --from markdown+autolink_bare_uris+tex_math_single_backslash --output /tmp/Rtmp9S9T7F/EpiCompare_test/testthat_example_Dec_06_2023.html --lua-filter /home/biocbuild/bbs-3.18-bioc/R/site-library/rmarkdown/rmarkdown/lua/pagebreak.lua --lua-filter /home/biocbuild/bbs-3.18-bioc/R/site-library/rmarkdown/rmarkdown/lua/latex-div.lua --self-contained --variable bs3=TRUE --section-divs --table-of-contents --toc-depth 3 --variable toc_float=1 --variable toc_selectors=h1,h2,h3 --variable toc_collapsed=1 --variable toc_smooth_scroll=1 --variable toc_print=1 --template /home/biocbuild/bbs-3.18-bioc/R/site-library/rmarkdown/rmd/h/default.html --no-highlight --variable highlightjs=1 --number-sections --variable theme=bootstrap --css custom.css --mathjax --variable 'mathjax-url=https://mathjax.rstudio.com/latest/MathJax.js?config=TeX-AMS-MML_HTMLorMML' --include-in-header /tmp/Rtmp9S9T7F/rmarkdown-str357fa02a9434fa.html --variable code_folding=hide --variable code_menu=1 
[WARNING] This document format requires a nonempty <title> element.
  Please specify either 'title' or 'pagetitle' in the metadata,
  e.g. by using --metadata pagetitle="..." on the command line.
  Falling back to 'EpiCompare.knit'

Output created: /tmp/Rtmp9S9T7F/EpiCompare_test/testthat_example_Dec_06_2023.html
[1] "Done in 0.13 min."
All outputs saved to: /tmp/Rtmp9S9T7F/EpiCompare_test
--- Running overlap_heatmap() ---
Warning: fill_diag must =NULL due to a known bug in the package 'heatmaply'.
Genreating precision-recall matrix.
overlap_heatmap(): Done in 3.7s.
--- Running overlap_heatmap() ---
Genreating precision-recall matrix.
overlap_heatmap(): Done in 0.1s.
--- Running overlap_stat_plot() ---
Preparing reference.
Extracting only the first GRanges object from list.
Done.
--- Running overlap_stat_plot() ---
Preparing reference.
Extracting only the first GRanges object from list.
Done.
--- Running peak_info() ---
Done.
Standardising peak files in 647,114 bins of 5,000 bp.
Merging data into matrix.
Binned matrix size: 647,114 x 3
Matrix sparsity: 0.996
Calculating correlation matrix.
Done computing correlations in 5 seconds.
Saving correlation results ==> /tmp/Rtmp9S9T7F/file357fa0538686e7.corr.csv.gz
Threshold=0: Filtering peaks
Threshold=0.05: Filtering peaks
Computing precision-recall results.
Computing precision-recall results.
Threshold=0.1: Filtering peaks
Threshold=0.15: Filtering peaks
Computing precision-recall results.
Computing precision-recall results.
Threshold=0.2: Filtering peaks
Threshold=0.25: Filtering peaks
Computing precision-recall results.
Computing precision-recall results.
Threshold=0.3: Filtering peaks
Threshold=0.35: Filtering peaks
Computing precision-recall results.
Computing precision-recall results.
Threshold=0.4: Filtering peaks
Threshold=0.45: Filtering peaks
Computing precision-recall results.
Computing precision-recall results.
Threshold=0.5: Filtering peaks
Threshold=0.55: Filtering peaks
Computing precision-recall results.
Computing precision-recall results.
Threshold=0.6: Filtering peaks
Threshold=0.65: Filtering peaks
Computing precision-recall results.
Computing precision-recall results.
Threshold=0.7: Filtering peaks
Threshold=0.75: Filtering peaks
Computing precision-recall results.
Computing precision-recall results.
Threshold=0.8: Filtering peaks
Threshold=0.85: Filtering peaks
Computing precision-recall results.
Computing precision-recall results.
Threshold=0.9: Filtering peaks
Threshold=0.95: Filtering peaks
Computing precision-recall results.
Computing precision-recall results.
Reformatting precision-recall data.
Saving precision-recall results ==> /tmp/Rtmp9S9T7F/file357fa02f931754precision_recall.csv
Plotting precision-recall curve.
Plotting F1.
Making predictions for peaklist1: CnR_H3K27ac
Making predictions for peaklist2: encode_H3K27ac
+ Predicting recall from 10 precision values.
+ Predicting precision from 10 recall values.
Making predictions for peaklist1: CnT_H3K27ac
Making predictions for peaklist2: encode_H3K27ac
+ Predicting recall from 10 precision values.
+ Predicting precision from 10 recall values.
WARNING: 'CnT_missing' missing threshold col, will be excluded from precision-recall calculations.
Standardising peak files in 647,114 bins of 5,000 bp.
Merging data into matrix.
Converting to sparse matrix.
Binned matrix size: 647,114 x 2
Matrix sparsity: 0.9968
WARNING: 'CnT_missing' missing threshold col, will be excluded from precision-recall calculations.
Standardising peak files in 416,959 bins of 5,000 bp.
Merging data into matrix.
Converting to sparse matrix.
Binned matrix size: 416,959 x 2
Matrix sparsity: 0.995
--- Running tss_plot() ---
>> Running bootstrapping for tag matrix...		 2023-12-06 22:11:15 
>> Running bootstrapping for tag matrix...		 2023-12-06 22:11:15 
Done.
--- Running width_boxplot() ---
Done.
[ FAIL 1 | WARN 7 | SKIP 0 | PASS 92 ]

══ Failed tests ════════════════════════════════════════════════════════════════
── Error ('test-EpiCompare.R:57:3'): All options FALSE, correct outputs generated ──
Error in `grid.newpage()`: could not open file '/tmp/Rtmp9S9T7F/EpiCompare_testthat/EpiCompare_file//tmp/Rtmp9S9T7F/EpiCompare_testthat/EpiCompare_file/width_plot.png'
Backtrace:
     ▆
  1. └─EpiCompare::EpiCompare(...) at test-EpiCompare.R:57:3
  2.   ├─rmarkdown::render(...)
  3.   │ └─knitr::knit(knit_input, knit_output, envir = envir, quiet = quiet)
  4.   │   └─knitr:::process_file(text, output)
  5.   │     ├─knitr:::handle_error(...)
  6.   │     │ └─base::withCallingHandlers(...)
  7.   │     ├─base::withCallingHandlers(...)
  8.   │     ├─knitr:::process_group(group)
  9.   │     └─knitr:::process_group.block(group)
 10.   │       └─knitr:::call_block(x)
 11.   │         └─knitr:::block_exec(params)
 12.   │           └─knitr:::eng_r(options)
 13.   │             ├─knitr:::in_input_dir(...)
 14.   │             │ └─knitr:::in_dir(input_dir(), expr)
 15.   │             └─knitr (local) evaluate(...)
 16.   │               └─evaluate::evaluate(...)
 17.   │                 └─evaluate:::evaluate_call(...)
 18.   │                   ├─evaluate (local) timing_fn(...)
 19.   │                   ├─base (local) handle(...)
 20.   │                   ├─base::withCallingHandlers(...)
 21.   │                   ├─base::withVisible(...)
 22.   │                   └─evaluate:::eval_with_user_handlers(expr, envir, enclos, user_handlers)
 23.   │                     └─base::eval(expr, envir, enclos)
 24.   │                       └─base::eval(expr, envir, enclos)
 25.   └─EpiCompare:::save_output(...)
 26.     └─ggplot2::ggsave(...)
 27.       ├─grid::grid.draw(plot)
 28.       └─ggplot2:::grid.draw.ggplot(plot)
 29.         ├─base::print(x)
 30.         └─ggplot2:::print.ggplot(x)
 31.           └─grid::grid.newpage()

[ FAIL 1 | WARN 7 | SKIP 0 | PASS 92 ]
Error: Test failures
Execution halted

Example timings

EpiCompare.Rcheck/EpiCompare-Ex.timings

nameusersystemelapsed
EpiCompare 9.322 1.22210.608
bpplapply0.0080.0520.081
check_workers0.0070.0790.024
compute_consensus_peaks0.5290.0760.604
compute_corr2.5221.0472.227
download_button0.0050.0000.005
fragment_info0.0010.0020.003
gather_files0.4720.2190.710
group_files0.2380.1370.073
liftover_grlist3.5860.5314.826
overlap_heatmap3.1910.5963.787
overlap_percent0.2950.0160.311
overlap_stat_plot0.1640.0130.171
overlap_upset_plot0.3760.0350.414
peak_info0.6890.0520.741
plot_ChIPseeker_annotation21.514 1.36022.875
plot_chromHMM5.2080.6946.201
plot_corr6.3361.7766.300
plot_enrichment39.741 2.12848.988
plot_precision_recall7.2081.5344.797
precision_recall3.2200.8534.399
predict_precision_recall3.1011.5294.131
rebin_peaks12.287 3.738 6.257
report_command000
report_header0.0020.0000.001
tidy_peakfile0.4410.1440.585
translate_genome0.0140.0000.013
tss_plot2.2600.5282.788
width_boxplot0.0540.0040.058
write_example_peaks0.1950.0080.204