Back to Multiple platform build/check report for BioC 3.18:   simplified   long
ABCDEFGHIJKLMNOPQR[S]TUVWXYZ

This page was generated on 2023-12-07 11:37:12 -0500 (Thu, 07 Dec 2023).

HostnameOSArch (*)R versionInstalled pkgs
nebbiolo2Linux (Ubuntu 22.04.2 LTS)x86_644.3.2 Patched (2023-11-13 r85521) -- "Eye Holes" 4688
palomino4Windows Server 2022 Datacenterx644.3.2 (2023-10-31 ucrt) -- "Eye Holes" 4439
lconwaymacOS 12.7.1 Montereyx86_644.3.2 Patched (2023-11-01 r85457) -- "Eye Holes" 4458
Click on any hostname to see more info about the system (e.g. compilers)      (*) as reported by 'uname -p', except on Windows and Mac OS X

Package 1851/2266HostnameOS / ArchINSTALLBUILDCHECKBUILD BIN
scanMiRApp 1.8.0  (landing page)
Pierre-Luc Germain
Snapshot Date: 2023-12-06 14:05:06 -0500 (Wed, 06 Dec 2023)
git_url: https://git.bioconductor.org/packages/scanMiRApp
git_branch: RELEASE_3_18
git_last_commit: 1f05d94
git_last_commit_date: 2023-10-24 11:35:21 -0500 (Tue, 24 Oct 2023)
nebbiolo2Linux (Ubuntu 22.04.2 LTS) / x86_64  OK    OK    WARNINGS  UNNEEDED, same version is already published
palomino4Windows Server 2022 Datacenter / x64  OK    OK    WARNINGS    OK  UNNEEDED, same version is already published
lconwaymacOS 12.7.1 Monterey / x86_64  OK    OK    WARNINGS    OK  UNNEEDED, same version is already published
kjohnson1macOS 13.6.1 Ventura / arm64see weekly results here

BUILD BIN results for scanMiRApp on palomino4


To the developers/maintainers of the scanMiRApp package:
- Allow up to 24 hours (and sometimes 48 hours) for your latest push to git@git.bioconductor.org:packages/scanMiRApp.git to reflect on this report. See Troubleshooting Build Report for more information.
- Use the following Renviron settings to reproduce errors and warnings.
- If 'R CMD check' started to fail recently on the Linux builder(s) over a missing dependency, add the missing dependency to 'Suggests:' in your DESCRIPTION file. See Renviron.bioc for more information.

raw results


Summary

Package: scanMiRApp
Version: 1.8.0
Command: rm -rf scanMiRApp.buildbin-libdir && mkdir scanMiRApp.buildbin-libdir && F:\biocbuild\bbs-3.18-bioc\R\bin\R.exe CMD INSTALL --build --library=scanMiRApp.buildbin-libdir scanMiRApp_1.8.0.tar.gz
StartedAt: 2023-12-07 08:58:33 -0500 (Thu, 07 Dec 2023)
EndedAt: 2023-12-07 08:59:26 -0500 (Thu, 07 Dec 2023)
EllapsedTime: 53.5 seconds
RetCode: 0
Status:   OK  
PackageFile: scanMiRApp_1.8.0.zip
PackageFileSize: 1.334 MiB

Command output

##############################################################################
##############################################################################
###
### Running command:
###
###   rm -rf scanMiRApp.buildbin-libdir && mkdir scanMiRApp.buildbin-libdir && F:\biocbuild\bbs-3.18-bioc\R\bin\R.exe CMD INSTALL --build --library=scanMiRApp.buildbin-libdir scanMiRApp_1.8.0.tar.gz
###
##############################################################################
##############################################################################


* installing *source* package 'scanMiRApp' ...
** using staged installation
** R
** inst
** byte-compile and prepare package for lazy loading
** help
*** installing help indices
** building package indices
** installing vignettes
** testing if installed package can be loaded from temporary location
** testing if installed package can be loaded from final location
** testing if installed package keeps a record of temporary installation path
* MD5 sums
packaged installation of 'scanMiRApp' as scanMiRApp_1.8.0.zip
* DONE (scanMiRApp)