Back to Multiple platform build/check report for BioC 3.18: simplified long |
|
This page was generated on 2023-10-03 11:35:26 -0400 (Tue, 03 Oct 2023).
Hostname | OS | Arch (*) | R version | Installed pkgs |
---|---|---|---|---|
nebbiolo2 | Linux (Ubuntu 22.04.2 LTS) | x86_64 | 4.3.1 (2023-06-16) -- "Beagle Scouts" | 4669 |
palomino4 | Windows Server 2022 Datacenter | x64 | 4.3.1 (2023-06-16 ucrt) -- "Beagle Scouts" | 4405 |
lconway | macOS 12.6.5 Monterey | x86_64 | 4.3.1 Patched (2023-06-17 r84564) -- "Beagle Scouts" | 4424 |
kunpeng2 | Linux (openEuler 22.03 LTS-SP1) | aarch64 | 4.3.1 (2023-06-16) -- "Beagle Scouts" | 4410 |
Click on any hostname to see more info about the system (e.g. compilers) (*) as reported by 'uname -p', except on Windows and Mac OS X |
To the developers/maintainers of the graph package: - Allow up to 24 hours (and sometimes 48 hours) for your latest push to git@git.bioconductor.org:packages/graph.git to reflect on this report. See Troubleshooting Build Report for more information. - Use the following Renviron settings to reproduce errors and warnings. - If 'R CMD check' started to fail recently on the Linux builder(s) over a missing dependency, add the missing dependency to 'Suggests:' in your DESCRIPTION file. See Renviron.bioc for more information. |
Package 886/2239 | Hostname | OS / Arch | INSTALL | BUILD | CHECK | BUILD BIN | ||||||||
graph 1.79.3 (landing page) Bioconductor Package Maintainer
| nebbiolo2 | Linux (Ubuntu 22.04.2 LTS) / x86_64 | OK | OK | OK | ![]() | ||||||||
palomino4 | Windows Server 2022 Datacenter / x64 | OK | OK | OK | OK | ![]() | ||||||||
lconway | macOS 12.6.5 Monterey / x86_64 | OK | OK | OK | OK | ![]() | ||||||||
kunpeng2 | Linux (openEuler 22.03 LTS-SP1) / aarch64 | OK | OK | OK | ||||||||||
QUICK STATS | OS / Arch | INSTALL | BUILD | CHECK | BUILD BIN | |||||||||||||||||
nebbiolo2 | Linux (Ubuntu 22.04.2 LTS) / x86_64 |
|
|
| ||||||||||||||||||
palomino4 | Windows Server 2022 Datacenter / x64 |
|
|
|
| |||||||||||||||||
lconway | macOS 12.6.5 Monterey / x86_64 |
|
|
|
| |||||||||||||||||
kunpeng2 | Linux (openEuler 22.03 LTS-SP1) / aarch64 |
|
|
| ||||||||||||||||||
Package 1/85 | Hostname | OS / Arch | INSTALL | BUILD | CHECK | BUILD BIN | ||||||||||||||||
AnnotationHubData 1.31.1 (landing page) Bioconductor Package Maintainer
| nebbiolo2 | Linux (Ubuntu 22.04.2 LTS) / x86_64 | OK | OK | WARNINGS | ![]() | ||||||||||||||||
palomino4 | Windows Server 2022 Datacenter / x64 | OK | OK | WARNINGS | OK | ![]() | ||||||||||||||||
lconway | macOS 12.6.5 Monterey / x86_64 | OK | OK | WARNINGS | OK | ![]() | ||||||||||||||||
kunpeng2 | Linux (openEuler 22.03 LTS-SP1) / aarch64 | OK | OK | WARNINGS | ||||||||||||||||||
Package 2/85 | Hostname | OS / Arch | INSTALL | BUILD | CHECK | BUILD BIN | ||||||||||||||||
apComplex 2.67.0 (landing page) Denise Scholtens
| nebbiolo2 | Linux (Ubuntu 22.04.2 LTS) / x86_64 | OK | OK | OK | ![]() | ||||||||||||||||
palomino4 | Windows Server 2022 Datacenter / x64 | OK | OK | OK | OK | ![]() | ||||||||||||||||
lconway | macOS 12.6.5 Monterey / x86_64 | OK | OK | OK | OK | ![]() | ||||||||||||||||
kunpeng2 | Linux (openEuler 22.03 LTS-SP1) / aarch64 | OK | OK | OK | ||||||||||||||||||
Package 3/85 | Hostname | OS / Arch | INSTALL | BUILD | CHECK | BUILD BIN | ||||||||||||||||
BgeeDB 2.27.0 (landing page) Julien Wollbrett
| nebbiolo2 | Linux (Ubuntu 22.04.2 LTS) / x86_64 | OK | OK | OK | ![]() | ||||||||||||||||
palomino4 | Windows Server 2022 Datacenter / x64 | OK | OK | OK | OK | ![]() | ||||||||||||||||
lconway | macOS 12.6.5 Monterey / x86_64 | OK | OK | OK | OK | ![]() | ||||||||||||||||
kunpeng2 | Linux (openEuler 22.03 LTS-SP1) / aarch64 | OK | ERROR | skipped | ||||||||||||||||||
Package 4/85 | Hostname | OS / Arch | INSTALL | BUILD | CHECK | BUILD BIN | ||||||||||||||||
BiocCheck 1.37.16 (landing page) Marcel Ramos
| nebbiolo2 | Linux (Ubuntu 22.04.2 LTS) / x86_64 | OK | OK | OK | ![]() | ||||||||||||||||
palomino4 | Windows Server 2022 Datacenter / x64 | OK | OK | OK | OK | ![]() | ||||||||||||||||
lconway | macOS 12.6.5 Monterey / x86_64 | OK | OK | OK | OK | ![]() | ||||||||||||||||
kunpeng2 | Linux (openEuler 22.03 LTS-SP1) / aarch64 | OK | OK | OK | ||||||||||||||||||
Package 5/85 | Hostname | OS / Arch | INSTALL | BUILD | CHECK | BUILD BIN | ||||||||||||||||
BiocFHIR 1.3.0 (landing page) Vincent Carey
| nebbiolo2 | Linux (Ubuntu 22.04.2 LTS) / x86_64 | OK | OK | OK | ![]() | ||||||||||||||||
palomino4 | Windows Server 2022 Datacenter / x64 | OK | OK | OK | OK | ![]() | ||||||||||||||||
lconway | macOS 12.6.5 Monterey / x86_64 | OK | OK | OK | OK | ![]() | ||||||||||||||||
kunpeng2 | Linux (openEuler 22.03 LTS-SP1) / aarch64 | OK | OK | OK | ||||||||||||||||||
Package 6/85 | Hostname | OS / Arch | INSTALL | BUILD | CHECK | BUILD BIN | ||||||||||||||||
biocGraph 1.63.0 (landing page) Florian Hahne
| nebbiolo2 | Linux (Ubuntu 22.04.2 LTS) / x86_64 | OK | OK | OK | ![]() | ||||||||||||||||
palomino4 | Windows Server 2022 Datacenter / x64 | OK | OK | OK | OK | ![]() | ||||||||||||||||
lconway | macOS 12.6.5 Monterey / x86_64 | OK | OK | OK | OK | ![]() | ||||||||||||||||
kunpeng2 | Linux (openEuler 22.03 LTS-SP1) / aarch64 | OK | OK | OK | ||||||||||||||||||
Package 7/85 | Hostname | OS / Arch | INSTALL | BUILD | CHECK | BUILD BIN | ||||||||||||||||
BiocOncoTK 1.21.1 (landing page) VJ Carey
| nebbiolo2 | Linux (Ubuntu 22.04.2 LTS) / x86_64 | OK | OK | OK | ![]() | ||||||||||||||||
palomino4 | Windows Server 2022 Datacenter / x64 | OK | OK | OK | OK | ![]() | ||||||||||||||||
lconway | macOS 12.6.5 Monterey / x86_64 | OK | OK | OK | OK | ![]() | ||||||||||||||||
kunpeng2 | Linux (openEuler 22.03 LTS-SP1) / aarch64 | OK | OK | OK | ||||||||||||||||||
Package 8/85 | Hostname | OS / Arch | INSTALL | BUILD | CHECK | BUILD BIN | ||||||||||||||||
BiocPkgTools 1.19.9 (landing page) Sean Davis
| nebbiolo2 | Linux (Ubuntu 22.04.2 LTS) / x86_64 | OK | OK | OK | ![]() | ||||||||||||||||
palomino4 | Windows Server 2022 Datacenter / x64 | OK | OK | OK | OK | ![]() | ||||||||||||||||
lconway | macOS 12.6.5 Monterey / x86_64 | OK | OK | OK | OK | ![]() | ||||||||||||||||
kunpeng2 | Linux (openEuler 22.03 LTS-SP1) / aarch64 | OK | OK | OK | ||||||||||||||||||
Package 9/85 | Hostname | OS / Arch | INSTALL | BUILD | CHECK | BUILD BIN | ||||||||||||||||
biocViews 1.69.2 (landing page) Bioconductor Package Maintainer
| nebbiolo2 | Linux (Ubuntu 22.04.2 LTS) / x86_64 | OK | OK | OK | ![]() | ||||||||||||||||
palomino4 | Windows Server 2022 Datacenter / x64 | OK | OK | OK | OK | ![]() | ||||||||||||||||
lconway | macOS 12.6.5 Monterey / x86_64 | OK | OK | OK | OK | ![]() | ||||||||||||||||
kunpeng2 | Linux (openEuler 22.03 LTS-SP1) / aarch64 | OK | OK | OK | ||||||||||||||||||
Package 10/85 | Hostname | OS / Arch | INSTALL | BUILD | CHECK | BUILD BIN | ||||||||||||||||
BioMVCClass 1.69.0 (landing page) Elizabeth Whalen
| nebbiolo2 | Linux (Ubuntu 22.04.2 LTS) / x86_64 | OK | OK | OK | ![]() | ||||||||||||||||
palomino4 | Windows Server 2022 Datacenter / x64 | OK | OK | OK | OK | ![]() | ||||||||||||||||
lconway | macOS 12.6.5 Monterey / x86_64 | OK | OK | OK | OK | ![]() | ||||||||||||||||
kunpeng2 | Linux (openEuler 22.03 LTS-SP1) / aarch64 | OK | OK | OK | ||||||||||||||||||
Package 11/85 | Hostname | OS / Arch | INSTALL | BUILD | CHECK | BUILD BIN | ||||||||||||||||
BioNet 1.61.0 (landing page) Marcus Dittrich
| nebbiolo2 | Linux (Ubuntu 22.04.2 LTS) / x86_64 | OK | OK | OK | ![]() | ||||||||||||||||
palomino4 | Windows Server 2022 Datacenter / x64 | OK | ERROR | skipped | skipped | |||||||||||||||||
lconway | macOS 12.6.5 Monterey / x86_64 | OK | ERROR | skipped | skipped | |||||||||||||||||
kunpeng2 | Linux (openEuler 22.03 LTS-SP1) / aarch64 | OK | OK | OK | ||||||||||||||||||
Package 12/85 | Hostname | OS / Arch | INSTALL | BUILD | CHECK | BUILD BIN | ||||||||||||||||
BLMA 1.25.0 (landing page) Hung Nguyen
| nebbiolo2 | Linux (Ubuntu 22.04.2 LTS) / x86_64 | OK | OK | OK | ![]() | ||||||||||||||||
palomino4 | Windows Server 2022 Datacenter / x64 | OK | OK | OK | OK | ![]() | ||||||||||||||||
lconway | macOS 12.6.5 Monterey / x86_64 | OK | OK | OK | OK | ![]() | ||||||||||||||||
kunpeng2 | Linux (openEuler 22.03 LTS-SP1) / aarch64 | OK | OK | OK | ||||||||||||||||||
Package 13/85 | Hostname | OS / Arch | INSTALL | BUILD | CHECK | BUILD BIN | ||||||||||||||||
bnem 1.9.0 (landing page) Martin Pirkl
| nebbiolo2 | Linux (Ubuntu 22.04.2 LTS) / x86_64 | OK | OK | OK | ![]() | ||||||||||||||||
palomino4 | Windows Server 2022 Datacenter / x64 | OK | OK | OK | OK | ![]() | ||||||||||||||||
lconway | macOS 12.6.5 Monterey / x86_64 | OK | OK | OK | OK | ![]() | ||||||||||||||||
kunpeng2 | Linux (openEuler 22.03 LTS-SP1) / aarch64 | OK | OK | OK | ||||||||||||||||||
Package 14/85 | Hostname | OS / Arch | INSTALL | BUILD | CHECK | BUILD BIN | ||||||||||||||||
CAMERA 1.57.0 (landing page) Steffen Neumann
| nebbiolo2 | Linux (Ubuntu 22.04.2 LTS) / x86_64 | OK | OK | OK | ![]() | ||||||||||||||||
palomino4 | Windows Server 2022 Datacenter / x64 | OK | OK | OK | OK | ![]() | ||||||||||||||||
lconway | macOS 12.6.5 Monterey / x86_64 | OK | OK | OK | OK | ![]() | ||||||||||||||||
kunpeng2 | Linux (openEuler 22.03 LTS-SP1) / aarch64 | OK | OK | OK | ||||||||||||||||||
Package 15/85 | Hostname | OS / Arch | INSTALL | BUILD | CHECK | BUILD BIN | ||||||||||||||||
Category 2.67.0 (landing page) Bioconductor Package Maintainer
| nebbiolo2 | Linux (Ubuntu 22.04.2 LTS) / x86_64 | OK | OK | OK | ![]() | ||||||||||||||||
palomino4 | Windows Server 2022 Datacenter / x64 | OK | OK | OK | OK | ![]() | ||||||||||||||||
lconway | macOS 12.6.5 Monterey / x86_64 | OK | OK | OK | OK | ![]() | ||||||||||||||||
kunpeng2 | Linux (openEuler 22.03 LTS-SP1) / aarch64 | OK | OK | OK | ||||||||||||||||||
Package 16/85 | Hostname | OS / Arch | INSTALL | BUILD | CHECK | BUILD BIN | ||||||||||||||||
categoryCompare 1.45.0 (landing page) Robert M. Flight
| nebbiolo2 | Linux (Ubuntu 22.04.2 LTS) / x86_64 | OK | OK | OK | ![]() | ||||||||||||||||
palomino4 | Windows Server 2022 Datacenter / x64 | OK | ERROR | skipped | skipped | |||||||||||||||||
lconway | macOS 12.6.5 Monterey / x86_64 | OK | ERROR | skipped | skipped | |||||||||||||||||
kunpeng2 | Linux (openEuler 22.03 LTS-SP1) / aarch64 | OK | OK | OK | ||||||||||||||||||
Package 17/85 | Hostname | OS / Arch | INSTALL | BUILD | CHECK | BUILD BIN | ||||||||||||||||
CellNOptR 1.47.0 (landing page) Attila Gabor
| nebbiolo2 | Linux (Ubuntu 22.04.2 LTS) / x86_64 | OK | OK | OK | ![]() | ||||||||||||||||
palomino4 | Windows Server 2022 Datacenter / x64 | OK | OK | OK | OK | ![]() | ||||||||||||||||
lconway | macOS 12.6.5 Monterey / x86_64 | OK | OK | OK | OK | ![]() | ||||||||||||||||
kunpeng2 | Linux (openEuler 22.03 LTS-SP1) / aarch64 | OK | OK | OK | ||||||||||||||||||
Package 18/85 | Hostname | OS / Arch | INSTALL | BUILD | CHECK | BUILD BIN | ||||||||||||||||
chimeraviz 1.27.0 (landing page) Stian Lågstad
| nebbiolo2 | Linux (Ubuntu 22.04.2 LTS) / x86_64 | OK | OK | OK | ![]() | ||||||||||||||||
palomino4 | Windows Server 2022 Datacenter / x64 | OK | OK | OK | OK | ![]() | ||||||||||||||||
lconway | macOS 12.6.5 Monterey / x86_64 | OK | OK | OK | OK | ![]() | ||||||||||||||||
kunpeng2 | Linux (openEuler 22.03 LTS-SP1) / aarch64 | OK | OK | OK | ||||||||||||||||||
Package 19/85 | Hostname | OS / Arch | INSTALL | BUILD | CHECK | BUILD BIN | ||||||||||||||||
ChIPpeakAnno 3.35.3 (landing page) Jianhong Ou
| nebbiolo2 | Linux (Ubuntu 22.04.2 LTS) / x86_64 | OK | OK | OK | ![]() | ||||||||||||||||
palomino4 | Windows Server 2022 Datacenter / x64 | OK | OK | OK | OK | ![]() | ||||||||||||||||
lconway | macOS 12.6.5 Monterey / x86_64 | OK | OK | OK | OK | ![]() | ||||||||||||||||
kunpeng2 | Linux (openEuler 22.03 LTS-SP1) / aarch64 | OK | OK | OK | ||||||||||||||||||
Package 20/85 | Hostname | OS / Arch | INSTALL | BUILD | CHECK | BUILD BIN | ||||||||||||||||
CHRONOS 1.29.0 (landing page) Panos Balomenos
| nebbiolo2 | Linux (Ubuntu 22.04.2 LTS) / x86_64 | OK | OK | OK | ![]() | ||||||||||||||||
palomino4 | Windows Server 2022 Datacenter / x64 | OK | OK | OK | OK | ![]() | ||||||||||||||||
lconway | macOS 12.6.5 Monterey / x86_64 | OK | OK | OK | OK | ![]() | ||||||||||||||||
kunpeng2 | Linux (openEuler 22.03 LTS-SP1) / aarch64 | OK | ERROR | skipped | ||||||||||||||||||
Package 21/85 | Hostname | OS / Arch | INSTALL | BUILD | CHECK | BUILD BIN | ||||||||||||||||
clipper 1.41.0 (landing page) Paolo Martini
| nebbiolo2 | Linux (Ubuntu 22.04.2 LTS) / x86_64 | OK | ERROR | skipped | |||||||||||||||||
palomino4 | Windows Server 2022 Datacenter / x64 | OK | ERROR | skipped | skipped | |||||||||||||||||
lconway | macOS 12.6.5 Monterey / x86_64 | OK | ERROR | skipped | skipped | |||||||||||||||||
kunpeng2 | Linux (openEuler 22.03 LTS-SP1) / aarch64 | OK | ERROR | skipped | ||||||||||||||||||
Package 22/85 | Hostname | OS / Arch | INSTALL | BUILD | CHECK | BUILD BIN | ||||||||||||||||
CNORfeeder 1.41.0 (landing page) Attila Gabor
| nebbiolo2 | Linux (Ubuntu 22.04.2 LTS) / x86_64 | OK | OK | WARNINGS | ![]() | ||||||||||||||||
palomino4 | Windows Server 2022 Datacenter / x64 | OK | OK | WARNINGS | OK | ![]() | ||||||||||||||||
lconway | macOS 12.6.5 Monterey / x86_64 | OK | OK | WARNINGS | OK | ![]() | ||||||||||||||||
kunpeng2 | Linux (openEuler 22.03 LTS-SP1) / aarch64 | OK | OK | WARNINGS | ||||||||||||||||||
Package 23/85 | Hostname | OS / Arch | INSTALL | BUILD | CHECK | BUILD BIN | ||||||||||||||||
consICA 1.3.9 (landing page) Petr V. Nazarov
| nebbiolo2 | Linux (Ubuntu 22.04.2 LTS) / x86_64 | OK | OK | ERROR | |||||||||||||||||
palomino4 | Windows Server 2022 Datacenter / x64 | OK | OK | OK | OK | ![]() | ||||||||||||||||
lconway | macOS 12.6.5 Monterey / x86_64 | OK | OK | OK | OK | ![]() | ||||||||||||||||
kunpeng2 | Linux (openEuler 22.03 LTS-SP1) / aarch64 | OK | OK | OK | ||||||||||||||||||
Package 24/85 | Hostname | OS / Arch | INSTALL | BUILD | CHECK | BUILD BIN | ||||||||||||||||
CytoML 2.13.1 (landing page) Mike Jiang
| nebbiolo2 | Linux (Ubuntu 22.04.2 LTS) / x86_64 | OK | OK | WARNINGS | ![]() | ||||||||||||||||
palomino4 | Windows Server 2022 Datacenter / x64 | OK | OK | WARNINGS | OK | ![]() | ||||||||||||||||
lconway | macOS 12.6.5 Monterey / x86_64 | OK | OK | WARNINGS | OK | ![]() | ||||||||||||||||
kunpeng2 | Linux (openEuler 22.03 LTS-SP1) / aarch64 | OK | OK | WARNINGS | ||||||||||||||||||
Package 25/85 | Hostname | OS / Arch | INSTALL | BUILD | CHECK | BUILD BIN | ||||||||||||||||
dce 1.9.2 (landing page) Kim Philipp Jablonski
| nebbiolo2 | Linux (Ubuntu 22.04.2 LTS) / x86_64 | OK | OK | OK | ![]() | ||||||||||||||||
palomino4 | Windows Server 2022 Datacenter / x64 | OK | OK | OK | OK | ![]() | ||||||||||||||||
lconway | macOS 12.6.5 Monterey / x86_64 | OK | OK | OK | OK | ![]() | ||||||||||||||||
kunpeng2 | Linux (openEuler 22.03 LTS-SP1) / aarch64 | OK | OK | OK | ||||||||||||||||||
Package 26/85 | Hostname | OS / Arch | INSTALL | BUILD | CHECK | BUILD BIN | ||||||||||||||||
DEGraph 1.53.0 (landing page) Laurent Jacob
| nebbiolo2 | Linux (Ubuntu 22.04.2 LTS) / x86_64 | OK | OK | OK | ![]() | ||||||||||||||||
palomino4 | Windows Server 2022 Datacenter / x64 | ... NOT SUPPORTED ... | ||||||||||||||||||||
lconway | macOS 12.6.5 Monterey / x86_64 | ... NOT SUPPORTED ... | ||||||||||||||||||||
kunpeng2 | Linux (openEuler 22.03 LTS-SP1) / aarch64 | OK | OK | OK | ||||||||||||||||||
Package 27/85 | Hostname | OS / Arch | INSTALL | BUILD | CHECK | BUILD BIN | ||||||||||||||||
DEsubs 1.27.0 (landing page) Aristidis G. Vrahatis
| nebbiolo2 | Linux (Ubuntu 22.04.2 LTS) / x86_64 | OK | OK | WARNINGS | ![]() | ||||||||||||||||
palomino4 | Windows Server 2022 Datacenter / x64 | OK | OK | WARNINGS | OK | ![]() | ||||||||||||||||
lconway | macOS 12.6.5 Monterey / x86_64 | OK | OK | WARNINGS | OK | ![]() | ||||||||||||||||
kunpeng2 | Linux (openEuler 22.03 LTS-SP1) / aarch64 | OK | OK | WARNINGS | ||||||||||||||||||
Package 28/85 | Hostname | OS / Arch | INSTALL | BUILD | CHECK | BUILD BIN | ||||||||||||||||
EnrichmentBrowser 2.31.5 (landing page) Ludwig Geistlinger
| nebbiolo2 | Linux (Ubuntu 22.04.2 LTS) / x86_64 | OK | OK | OK | ![]() | ||||||||||||||||
palomino4 | Windows Server 2022 Datacenter / x64 | OK | OK | OK | OK | ![]() | ||||||||||||||||
lconway | macOS 12.6.5 Monterey / x86_64 | OK | OK | OK | OK | ![]() | ||||||||||||||||
kunpeng2 | Linux (openEuler 22.03 LTS-SP1) / aarch64 | OK | OK | ERROR | ||||||||||||||||||
Package 29/85 | Hostname | OS / Arch | INSTALL | BUILD | CHECK | BUILD BIN | ||||||||||||||||
epiNEM 1.25.0 (landing page) Martin Pirkl
| nebbiolo2 | Linux (Ubuntu 22.04.2 LTS) / x86_64 | OK | OK | OK | ![]() | ||||||||||||||||
palomino4 | Windows Server 2022 Datacenter / x64 | OK | OK | OK | OK | ![]() | ||||||||||||||||
lconway | macOS 12.6.5 Monterey / x86_64 | OK | OK | OK | OK | ![]() | ||||||||||||||||
kunpeng2 | Linux (openEuler 22.03 LTS-SP1) / aarch64 | OK | OK | OK | ||||||||||||||||||
Package 30/85 | Hostname | OS / Arch | INSTALL | BUILD | CHECK | BUILD BIN | ||||||||||||||||
EventPointer 3.9.0 (landing page) Juan A. Ferrer-Bonsoms
| nebbiolo2 | Linux (Ubuntu 22.04.2 LTS) / x86_64 | OK | OK | OK | ![]() | ||||||||||||||||
palomino4 | Windows Server 2022 Datacenter / x64 | OK | OK | OK | OK | ![]() | ||||||||||||||||
lconway | macOS 12.6.5 Monterey / x86_64 | OK | OK | OK | OK | ![]() | ||||||||||||||||
kunpeng2 | Linux (openEuler 22.03 LTS-SP1) / aarch64 | OK | OK | OK | ||||||||||||||||||
Package 31/85 | Hostname | OS / Arch | INSTALL | BUILD | CHECK | BUILD BIN | ||||||||||||||||
fgga 1.9.0 (landing page) Flavio Spetale
| nebbiolo2 | Linux (Ubuntu 22.04.2 LTS) / x86_64 | OK | ERROR | skipped | |||||||||||||||||
palomino4 | Windows Server 2022 Datacenter / x64 | OK | ERROR | skipped | skipped | |||||||||||||||||
lconway | macOS 12.6.5 Monterey / x86_64 | OK | ERROR | skipped | skipped | |||||||||||||||||
kunpeng2 | Linux (openEuler 22.03 LTS-SP1) / aarch64 | OK | ERROR | skipped | ||||||||||||||||||
Package 32/85 | Hostname | OS / Arch | INSTALL | BUILD | CHECK | BUILD BIN | ||||||||||||||||
flowClust 3.39.0 (landing page) Greg Finak
| nebbiolo2 | Linux (Ubuntu 22.04.2 LTS) / x86_64 | OK | OK | WARNINGS | ![]() | ||||||||||||||||
palomino4 | Windows Server 2022 Datacenter / x64 | OK | OK | WARNINGS | OK | ![]() | ||||||||||||||||
lconway | macOS 12.6.5 Monterey / x86_64 | OK | OK | WARNINGS | OK | ![]() | ||||||||||||||||
kunpeng2 | Linux (openEuler 22.03 LTS-SP1) / aarch64 | OK | OK | ERROR | ||||||||||||||||||
Package 33/85 | Hostname | OS / Arch | INSTALL | BUILD | CHECK | BUILD BIN | ||||||||||||||||
flowMerge 2.49.0 (landing page) Greg Finak
| nebbiolo2 | Linux (Ubuntu 22.04.2 LTS) / x86_64 | OK | OK | WARNINGS | ![]() | ||||||||||||||||
palomino4 | Windows Server 2022 Datacenter / x64 | OK | OK | WARNINGS | OK | ![]() | ||||||||||||||||
lconway | macOS 12.6.5 Monterey / x86_64 | OK | OK | WARNINGS | OK | ![]() | ||||||||||||||||
kunpeng2 | Linux (openEuler 22.03 LTS-SP1) / aarch64 | OK | OK | WARNINGS | ||||||||||||||||||
Package 34/85 | Hostname | OS / Arch | INSTALL | BUILD | CHECK | BUILD BIN | ||||||||||||||||
flowWorkspace 4.13.2 (landing page) Greg Finak
| nebbiolo2 | Linux (Ubuntu 22.04.2 LTS) / x86_64 | OK | OK | WARNINGS | ![]() | ||||||||||||||||
palomino4 | Windows Server 2022 Datacenter / x64 | OK | OK | WARNINGS | OK | ![]() | ||||||||||||||||
lconway | macOS 12.6.5 Monterey / x86_64 | OK | OK | WARNINGS | OK | ![]() | ||||||||||||||||
kunpeng2 | Linux (openEuler 22.03 LTS-SP1) / aarch64 | OK | OK | WARNINGS | ||||||||||||||||||
Package 35/85 | Hostname | OS / Arch | INSTALL | BUILD | CHECK | BUILD BIN | ||||||||||||||||
gage 2.51.0 (landing page) Weijun Luo
| nebbiolo2 | Linux (Ubuntu 22.04.2 LTS) / x86_64 | OK | OK | WARNINGS | ![]() | ||||||||||||||||
palomino4 | Windows Server 2022 Datacenter / x64 | OK | OK | WARNINGS | OK | ![]() | ||||||||||||||||
lconway | macOS 12.6.5 Monterey / x86_64 | OK | OK | WARNINGS | OK | ![]() | ||||||||||||||||
kunpeng2 | Linux (openEuler 22.03 LTS-SP1) / aarch64 | OK | OK | WARNINGS | ||||||||||||||||||
Package 36/85 | Hostname | OS / Arch | INSTALL | BUILD | CHECK | BUILD BIN | ||||||||||||||||
Christopher Bare
| nebbiolo2 | Linux (Ubuntu 22.04.2 LTS) / x86_64 | OK | OK | WARNINGS | ![]() | ||||||||||||||||
palomino4 | Windows Server 2022 Datacenter / x64 | OK | OK | WARNINGS | OK | ![]() | ||||||||||||||||
lconway | macOS 12.6.5 Monterey / x86_64 | OK | OK | WARNINGS | OK | ![]() | ||||||||||||||||
kunpeng2 | Linux (openEuler 22.03 LTS-SP1) / aarch64 | OK | OK | WARNINGS | ||||||||||||||||||
Package 37/85 | Hostname | OS / Arch | INSTALL | BUILD | CHECK | BUILD BIN | ||||||||||||||||
GeneNetworkBuilder 1.43.0 (landing page) Jianhong Ou
| nebbiolo2 | Linux (Ubuntu 22.04.2 LTS) / x86_64 | OK | OK | OK | ![]() | ||||||||||||||||
palomino4 | Windows Server 2022 Datacenter / x64 | OK | OK | OK | OK | ![]() | ||||||||||||||||
lconway | macOS 12.6.5 Monterey / x86_64 | OK | OK | OK | OK | ![]() | ||||||||||||||||
kunpeng2 | Linux (openEuler 22.03 LTS-SP1) / aarch64 | OK | OK | TIMEOUT | ||||||||||||||||||
Package 38/85 | Hostname | OS / Arch | INSTALL | BUILD | CHECK | BUILD BIN | ||||||||||||||||
GenomicInteractionNodes 1.5.0 (landing page) Jianhong Ou
| nebbiolo2 | Linux (Ubuntu 22.04.2 LTS) / x86_64 | OK | OK | OK | ![]() | ||||||||||||||||
palomino4 | Windows Server 2022 Datacenter / x64 | OK | OK | OK | OK | ![]() | ||||||||||||||||
lconway | macOS 12.6.5 Monterey / x86_64 | OK | OK | OK | OK | ![]() | ||||||||||||||||
kunpeng2 | Linux (openEuler 22.03 LTS-SP1) / aarch64 | OK | OK | OK | ||||||||||||||||||
Package 39/85 | Hostname | OS / Arch | INSTALL | BUILD | CHECK | BUILD BIN | ||||||||||||||||
GOSim 1.39.0 (landing page) Holger Froehlich
| nebbiolo2 | Linux (Ubuntu 22.04.2 LTS) / x86_64 | OK | OK | WARNINGS | ![]() | ||||||||||||||||
palomino4 | Windows Server 2022 Datacenter / x64 | OK | OK | OK | OK | ![]() | ||||||||||||||||
lconway | macOS 12.6.5 Monterey / x86_64 | OK | OK | OK | OK | ![]() | ||||||||||||||||
kunpeng2 | Linux (openEuler 22.03 LTS-SP1) / aarch64 | OK | OK | WARNINGS | ||||||||||||||||||
Package 40/85 | Hostname | OS / Arch | INSTALL | BUILD | CHECK | BUILD BIN | ||||||||||||||||
GOstats 2.67.1 (landing page) Bioconductor Package Maintainer
| nebbiolo2 | Linux (Ubuntu 22.04.2 LTS) / x86_64 | OK | OK | OK | ![]() | ||||||||||||||||
palomino4 | Windows Server 2022 Datacenter / x64 | OK | OK | OK | OK | ![]() | ||||||||||||||||
lconway | macOS 12.6.5 Monterey / x86_64 | OK | OK | OK | OK | ![]() | ||||||||||||||||
kunpeng2 | Linux (openEuler 22.03 LTS-SP1) / aarch64 | OK | OK | ERROR | ||||||||||||||||||
Package 41/85 | Hostname | OS / Arch | INSTALL | BUILD | CHECK | BUILD BIN | ||||||||||||||||
GraphAT 1.73.0 (landing page) Thomas LaFramboise
| nebbiolo2 | Linux (Ubuntu 22.04.2 LTS) / x86_64 | OK | OK | OK | ![]() | ||||||||||||||||
palomino4 | Windows Server 2022 Datacenter / x64 | OK | OK | OK | OK | ![]() | ||||||||||||||||
lconway | macOS 12.6.5 Monterey / x86_64 | OK | OK | OK | OK | ![]() | ||||||||||||||||
kunpeng2 | Linux (openEuler 22.03 LTS-SP1) / aarch64 | OK | OK | OK | ||||||||||||||||||
Package 42/85 | Hostname | OS / Arch | INSTALL | BUILD | CHECK | BUILD BIN | ||||||||||||||||
graphite 1.47.0 (landing page) Gabriele Sales
| nebbiolo2 | Linux (Ubuntu 22.04.2 LTS) / x86_64 | OK | OK | ERROR | |||||||||||||||||
palomino4 | Windows Server 2022 Datacenter / x64 | OK | OK | ERROR | OK | |||||||||||||||||
lconway | macOS 12.6.5 Monterey / x86_64 | OK | OK | ERROR | OK | |||||||||||||||||
kunpeng2 | Linux (openEuler 22.03 LTS-SP1) / aarch64 | OK | OK | ERROR | ||||||||||||||||||
Package 43/85 | Hostname | OS / Arch | INSTALL | BUILD | CHECK | BUILD BIN | ||||||||||||||||
Mark A. van de Wiel
| nebbiolo2 | Linux (Ubuntu 22.04.2 LTS) / x86_64 | OK | OK | ERROR | |||||||||||||||||
palomino4 | Windows Server 2022 Datacenter / x64 | OK | OK | ERROR | OK | |||||||||||||||||
lconway | macOS 12.6.5 Monterey / x86_64 | OK | OK | ERROR | OK | |||||||||||||||||
kunpeng2 | Linux (openEuler 22.03 LTS-SP1) / aarch64 | OK | OK | WARNINGS | ||||||||||||||||||
Package 44/85 | Hostname | OS / Arch | INSTALL | BUILD | CHECK | BUILD BIN | ||||||||||||||||
GSEABase 1.63.0 (landing page) Bioconductor Package Maintainer
| nebbiolo2 | Linux (Ubuntu 22.04.2 LTS) / x86_64 | OK | OK | OK | ![]() | ||||||||||||||||
palomino4 | Windows Server 2022 Datacenter / x64 | OK | OK | OK | OK | ![]() | ||||||||||||||||
lconway | macOS 12.6.5 Monterey / x86_64 | OK | OK | OK | OK | ![]() | ||||||||||||||||
kunpeng2 | Linux (openEuler 22.03 LTS-SP1) / aarch64 | OK | OK | OK | ||||||||||||||||||
Package 45/85 | Hostname | OS / Arch | INSTALL | BUILD | CHECK | BUILD BIN | ||||||||||||||||
hyperdraw 1.53.0 (landing page) Paul Murrell
| nebbiolo2 | Linux (Ubuntu 22.04.2 LTS) / x86_64 | OK | OK | OK | ![]() | ||||||||||||||||
palomino4 | Windows Server 2022 Datacenter / x64 | OK | OK | OK | OK | ![]() | ||||||||||||||||
lconway | macOS 12.6.5 Monterey / x86_64 | OK | OK | OK | OK | ![]() | ||||||||||||||||
kunpeng2 | Linux (openEuler 22.03 LTS-SP1) / aarch64 | OK | OK | OK | ||||||||||||||||||
Package 46/85 | Hostname | OS / Arch | INSTALL | BUILD | CHECK | BUILD BIN | ||||||||||||||||
hypergraph 1.73.0 (landing page) Bioconductor Package Maintainer
| nebbiolo2 | Linux (Ubuntu 22.04.2 LTS) / x86_64 | OK | OK | OK | ![]() | ||||||||||||||||
palomino4 | Windows Server 2022 Datacenter / x64 | OK | OK | OK | OK | ![]() | ||||||||||||||||
lconway | macOS 12.6.5 Monterey / x86_64 | OK | OK | OK | OK | ![]() | ||||||||||||||||
kunpeng2 | Linux (openEuler 22.03 LTS-SP1) / aarch64 | OK | OK | OK | ||||||||||||||||||
Package 47/85 | Hostname | OS / Arch | INSTALL | BUILD | CHECK | BUILD BIN | ||||||||||||||||
KEGGgraph 1.61.0 (landing page) Jitao David Zhang
| nebbiolo2 | Linux (Ubuntu 22.04.2 LTS) / x86_64 | OK | OK | WARNINGS | ![]() | ||||||||||||||||
palomino4 | Windows Server 2022 Datacenter / x64 | OK | OK | WARNINGS | OK | ![]() | ||||||||||||||||
lconway | macOS 12.6.5 Monterey / x86_64 | OK | OK | WARNINGS | OK | ![]() | ||||||||||||||||
kunpeng2 | Linux (openEuler 22.03 LTS-SP1) / aarch64 | OK | OK | WARNINGS | ||||||||||||||||||
Package 48/85 | Hostname | OS / Arch | INSTALL | BUILD | CHECK | BUILD BIN | ||||||||||||||||
keggorthology 2.53.0 (landing page) VJ Carey
| nebbiolo2 | Linux (Ubuntu 22.04.2 LTS) / x86_64 | OK | OK | OK | ![]() | ||||||||||||||||
palomino4 | Windows Server 2022 Datacenter / x64 | OK | OK | OK | OK | ![]() | ||||||||||||||||
lconway | macOS 12.6.5 Monterey / x86_64 | OK | OK | OK | OK | ![]() | ||||||||||||||||
kunpeng2 | Linux (openEuler 22.03 LTS-SP1) / aarch64 | OK | OK | OK | ||||||||||||||||||
Package 49/85 | Hostname | OS / Arch | INSTALL | BUILD | CHECK | BUILD BIN | ||||||||||||||||
maigesPack 1.65.0 (landing page) Gustavo H. Esteves
| nebbiolo2 | Linux (Ubuntu 22.04.2 LTS) / x86_64 | OK | OK | ERROR | |||||||||||||||||
palomino4 | Windows Server 2022 Datacenter / x64 | OK | OK | OK | OK | ![]() | ||||||||||||||||
lconway | macOS 12.6.5 Monterey / x86_64 | OK | OK | OK | OK | ![]() | ||||||||||||||||
kunpeng2 | Linux (openEuler 22.03 LTS-SP1) / aarch64 | OK | OK | ERROR | ||||||||||||||||||
Package 50/85 | Hostname | OS / Arch | INSTALL | BUILD | CHECK | BUILD BIN | ||||||||||||||||
MineICA 1.41.0 (landing page) Anne Biton
| nebbiolo2 | Linux (Ubuntu 22.04.2 LTS) / x86_64 | OK | OK | WARNINGS | ![]() | ||||||||||||||||
palomino4 | Windows Server 2022 Datacenter / x64 | OK | OK | WARNINGS | OK | ![]() | ||||||||||||||||
lconway | macOS 12.6.5 Monterey / x86_64 | OK | OK | WARNINGS | OK | ![]() | ||||||||||||||||
kunpeng2 | Linux (openEuler 22.03 LTS-SP1) / aarch64 | OK | OK | WARNINGS | ||||||||||||||||||
Package 51/85 | Hostname | OS / Arch | INSTALL | BUILD | CHECK | BUILD BIN | ||||||||||||||||
mirIntegrator 1.31.0 (landing page) Diana Diaz
| nebbiolo2 | Linux (Ubuntu 22.04.2 LTS) / x86_64 | OK | OK | OK | ![]() | ||||||||||||||||
palomino4 | Windows Server 2022 Datacenter / x64 | OK | OK | OK | OK | ![]() | ||||||||||||||||
lconway | macOS 12.6.5 Monterey / x86_64 | OK | OK | OK | OK | ![]() | ||||||||||||||||
kunpeng2 | Linux (openEuler 22.03 LTS-SP1) / aarch64 | OK | OK | OK | ||||||||||||||||||
Package 52/85 | Hostname | OS / Arch | INSTALL | BUILD | CHECK | BUILD BIN | ||||||||||||||||
mnem 1.17.0 (landing page) Martin Pirkl
| nebbiolo2 | Linux (Ubuntu 22.04.2 LTS) / x86_64 | OK | OK | OK | ![]() | ||||||||||||||||
palomino4 | Windows Server 2022 Datacenter / x64 | OK | OK | OK | OK | ![]() | ||||||||||||||||
lconway | macOS 12.6.5 Monterey / x86_64 | OK | OK | OK | OK | ![]() | ||||||||||||||||
kunpeng2 | Linux (openEuler 22.03 LTS-SP1) / aarch64 | OK | OK | OK | ||||||||||||||||||
Package 53/85 | Hostname | OS / Arch | INSTALL | BUILD | CHECK | BUILD BIN | ||||||||||||||||
NCIgraph 1.49.1 (landing page) Laurent Jacob
| nebbiolo2 | Linux (Ubuntu 22.04.2 LTS) / x86_64 | OK | OK | OK | ![]() | ||||||||||||||||
palomino4 | Windows Server 2022 Datacenter / x64 | ... NOT SUPPORTED ... | ||||||||||||||||||||
lconway | macOS 12.6.5 Monterey / x86_64 | ... NOT SUPPORTED ... | ||||||||||||||||||||
kunpeng2 | Linux (openEuler 22.03 LTS-SP1) / aarch64 | OK | OK | OK | ||||||||||||||||||
Package 54/85 | Hostname | OS / Arch | INSTALL | BUILD | CHECK | BUILD BIN | ||||||||||||||||
NeighborNet 1.19.0 (landing page) Sahar Ansari
| nebbiolo2 | Linux (Ubuntu 22.04.2 LTS) / x86_64 | OK | OK | ERROR | |||||||||||||||||
palomino4 | Windows Server 2022 Datacenter / x64 | OK | OK | OK | OK | ![]() | ||||||||||||||||
lconway | macOS 12.6.5 Monterey / x86_64 | OK | OK | OK | OK | ![]() | ||||||||||||||||
kunpeng2 | Linux (openEuler 22.03 LTS-SP1) / aarch64 | OK | OK | ERROR | ||||||||||||||||||
Package 55/85 | Hostname | OS / Arch | INSTALL | BUILD | CHECK | BUILD BIN | ||||||||||||||||
netresponse 1.61.0 (landing page) Leo Lahti
| nebbiolo2 | Linux (Ubuntu 22.04.2 LTS) / x86_64 | OK | OK | OK | ![]() | ||||||||||||||||
palomino4 | Windows Server 2022 Datacenter / x64 | OK | OK | OK | OK | ![]() | ||||||||||||||||
lconway | macOS 12.6.5 Monterey / x86_64 | OK | OK | OK | OK | ![]() | ||||||||||||||||
kunpeng2 | Linux (openEuler 22.03 LTS-SP1) / aarch64 | OK | OK | OK | ||||||||||||||||||
Package 56/85 | Hostname | OS / Arch | INSTALL | BUILD | CHECK | BUILD BIN | ||||||||||||||||
OncoSimulR 4.3.3 (landing page) Ramon Diaz-Uriarte
| nebbiolo2 | Linux (Ubuntu 22.04.2 LTS) / x86_64 | OK | OK | OK | ![]() | ||||||||||||||||
palomino4 | Windows Server 2022 Datacenter / x64 | OK | OK | OK | OK | ![]() | ||||||||||||||||
lconway | macOS 12.6.5 Monterey / x86_64 | OK | OK | OK | OK | ![]() | ||||||||||||||||
kunpeng2 | Linux (openEuler 22.03 LTS-SP1) / aarch64 | OK | OK | OK | ||||||||||||||||||
Package 57/85 | Hostname | OS / Arch | INSTALL | BUILD | CHECK | BUILD BIN | ||||||||||||||||
ontoProc 1.23.0 (landing page) Vincent Carey
| nebbiolo2 | Linux (Ubuntu 22.04.2 LTS) / x86_64 | OK | OK | OK | ![]() | ||||||||||||||||
palomino4 | Windows Server 2022 Datacenter / x64 | OK | OK | OK | OK | ![]() | ||||||||||||||||
lconway | macOS 12.6.5 Monterey / x86_64 | OK | OK | OK | OK | ![]() | ||||||||||||||||
kunpeng2 | Linux (openEuler 22.03 LTS-SP1) / aarch64 | OK | ERROR | skipped | ||||||||||||||||||
Package 58/85 | Hostname | OS / Arch | INSTALL | BUILD | CHECK | BUILD BIN | ||||||||||||||||
openCyto 2.13.0 (landing page) Mike Jiang
| nebbiolo2 | Linux (Ubuntu 22.04.2 LTS) / x86_64 | OK | OK | WARNINGS | ![]() | ||||||||||||||||
palomino4 | Windows Server 2022 Datacenter / x64 | OK | OK | WARNINGS | OK | ![]() | ||||||||||||||||
lconway | macOS 12.6.5 Monterey / x86_64 | OK | OK | WARNINGS | OK | ![]() | ||||||||||||||||
kunpeng2 | Linux (openEuler 22.03 LTS-SP1) / aarch64 | OK | OK | WARNINGS | ||||||||||||||||||
Package 59/85 | Hostname | OS / Arch | INSTALL | BUILD | CHECK | BUILD BIN | ||||||||||||||||
oposSOM 2.19.0 (landing page) Henry Loeffler-Wirth
| nebbiolo2 | Linux (Ubuntu 22.04.2 LTS) / x86_64 | OK | OK | WARNINGS | ![]() | ||||||||||||||||
palomino4 | Windows Server 2022 Datacenter / x64 | OK | OK | WARNINGS | OK | ![]() | ||||||||||||||||
lconway | macOS 12.6.5 Monterey / x86_64 | OK | OK | WARNINGS | OK | ![]() | ||||||||||||||||
kunpeng2 | Linux (openEuler 22.03 LTS-SP1) / aarch64 | OK | OK | WARNINGS | ||||||||||||||||||
Package 60/85 | Hostname | OS / Arch | INSTALL | BUILD | CHECK | BUILD BIN | ||||||||||||||||
OrganismDbi 1.43.0 (landing page) Bioconductor Package Maintainer
| nebbiolo2 | Linux (Ubuntu 22.04.2 LTS) / x86_64 | OK | OK | WARNINGS | ![]() | ||||||||||||||||
palomino4 | Windows Server 2022 Datacenter / x64 | OK | OK | WARNINGS | OK | ![]() | ||||||||||||||||
lconway | macOS 12.6.5 Monterey / x86_64 | OK | OK | WARNINGS | OK | ![]() | ||||||||||||||||
kunpeng2 | Linux (openEuler 22.03 LTS-SP1) / aarch64 | OK | OK | WARNINGS | ||||||||||||||||||
Package 61/85 | Hostname | OS / Arch | INSTALL | BUILD | CHECK | BUILD BIN | ||||||||||||||||
pathRender 1.69.0 (landing page) Vince Carey
| nebbiolo2 | Linux (Ubuntu 22.04.2 LTS) / x86_64 | OK | OK | OK | ![]() | ||||||||||||||||
palomino4 | Windows Server 2022 Datacenter / x64 | OK | OK | OK | OK | ![]() | ||||||||||||||||
lconway | macOS 12.6.5 Monterey / x86_64 | OK | OK | OK | OK | ![]() | ||||||||||||||||
kunpeng2 | Linux (openEuler 22.03 LTS-SP1) / aarch64 | OK | OK | OK | ||||||||||||||||||
Package 62/85 | Hostname | OS / Arch | INSTALL | BUILD | CHECK | BUILD BIN | ||||||||||||||||
pathview 1.41.0 (landing page) Weijun Luo
| nebbiolo2 | Linux (Ubuntu 22.04.2 LTS) / x86_64 | OK | OK | WARNINGS | ![]() | ||||||||||||||||
palomino4 | Windows Server 2022 Datacenter / x64 | OK | OK | WARNINGS | OK | ![]() | ||||||||||||||||
lconway | macOS 12.6.5 Monterey / x86_64 | OK | OK | WARNINGS | OK | ![]() | ||||||||||||||||
kunpeng2 | Linux (openEuler 22.03 LTS-SP1) / aarch64 | OK | OK | WARNINGS | ||||||||||||||||||
Package 63/85 | Hostname | OS / Arch | INSTALL | BUILD | CHECK | BUILD BIN | ||||||||||||||||
XC Zhang
| nebbiolo2 | Linux (Ubuntu 22.04.2 LTS) / x86_64 | OK | ERROR | skipped | |||||||||||||||||
palomino4 | Windows Server 2022 Datacenter / x64 | OK | ERROR | skipped | skipped | |||||||||||||||||
lconway | macOS 12.6.5 Monterey / x86_64 | OK | ERROR | skipped | skipped | |||||||||||||||||
kunpeng2 | Linux (openEuler 22.03 LTS-SP1) / aarch64 | OK | ERROR | skipped | ||||||||||||||||||
Package 64/85 | Hostname | OS / Arch | INSTALL | BUILD | CHECK | BUILD BIN | ||||||||||||||||
PhenStat 2.37.0 (landing page) Hamed Haselimashhadi
| nebbiolo2 | Linux (Ubuntu 22.04.2 LTS) / x86_64 | OK | OK | OK | ![]() | ||||||||||||||||
palomino4 | Windows Server 2022 Datacenter / x64 | OK | OK | OK | OK | ![]() | ||||||||||||||||
lconway | macOS 12.6.5 Monterey / x86_64 | OK | OK | OK | OK | ![]() | ||||||||||||||||
kunpeng2 | Linux (openEuler 22.03 LTS-SP1) / aarch64 | OK | OK | OK | ||||||||||||||||||
Package 65/85 | Hostname | OS / Arch | INSTALL | BUILD | CHECK | BUILD BIN | ||||||||||||||||
Pigengene 1.27.16 (landing page) Habil Zare
| nebbiolo2 | Linux (Ubuntu 22.04.2 LTS) / x86_64 | OK | OK | OK | ![]() | ||||||||||||||||
palomino4 | Windows Server 2022 Datacenter / x64 | OK | OK | OK | OK | ![]() | ||||||||||||||||
lconway | macOS 12.6.5 Monterey / x86_64 | OK | OK | OK | OK | ![]() | ||||||||||||||||
kunpeng2 | Linux (openEuler 22.03 LTS-SP1) / aarch64 | OK | OK | OK | ||||||||||||||||||
Package 66/85 | Hostname | OS / Arch | INSTALL | BUILD | CHECK | BUILD BIN | ||||||||||||||||
pwOmics 1.33.1 (landing page) Torsten Schoeps
| nebbiolo2 | Linux (Ubuntu 22.04.2 LTS) / x86_64 | OK | OK | WARNINGS | ![]() | ||||||||||||||||
palomino4 | Windows Server 2022 Datacenter / x64 | OK | OK | WARNINGS | OK | ![]() | ||||||||||||||||
lconway | macOS 12.6.5 Monterey / x86_64 | OK | OK | WARNINGS | OK | ![]() | ||||||||||||||||
kunpeng2 | Linux (openEuler 22.03 LTS-SP1) / aarch64 | OK | OK | WARNINGS | ||||||||||||||||||
Package 67/85 | Hostname | OS / Arch | INSTALL | BUILD | CHECK | BUILD BIN | ||||||||||||||||
qpgraph 2.35.0 (landing page) Robert Castelo
| nebbiolo2 | Linux (Ubuntu 22.04.2 LTS) / x86_64 | OK | ERROR | skipped | |||||||||||||||||
palomino4 | Windows Server 2022 Datacenter / x64 | OK | ERROR | skipped | skipped | |||||||||||||||||
lconway | macOS 12.6.5 Monterey / x86_64 | OK | ERROR | skipped | skipped | |||||||||||||||||
kunpeng2 | Linux (openEuler 22.03 LTS-SP1) / aarch64 | OK | ERROR | skipped | ||||||||||||||||||
Package 68/85 | Hostname | OS / Arch | INSTALL | BUILD | CHECK | BUILD BIN | ||||||||||||||||
RbcBook1 1.69.0 (landing page) Vince Carey
| nebbiolo2 | Linux (Ubuntu 22.04.2 LTS) / x86_64 | OK | OK | OK | ![]() | ||||||||||||||||
palomino4 | Windows Server 2022 Datacenter / x64 | OK | OK | OK | OK | ![]() | ||||||||||||||||
lconway | macOS 12.6.5 Monterey / x86_64 | OK | OK | OK | OK | ![]() | ||||||||||||||||
kunpeng2 | Linux (openEuler 22.03 LTS-SP1) / aarch64 | OK | OK | OK | ||||||||||||||||||
Package 69/85 | Hostname | OS / Arch | INSTALL | BUILD | CHECK | BUILD BIN | ||||||||||||||||
RBGL 1.77.1 (landing page) Bioconductor Package Maintainer
| nebbiolo2 | Linux (Ubuntu 22.04.2 LTS) / x86_64 | OK | OK | WARNINGS | ![]() | ||||||||||||||||
palomino4 | Windows Server 2022 Datacenter / x64 | OK | OK | WARNINGS | OK | ![]() | ||||||||||||||||
lconway | macOS 12.6.5 Monterey / x86_64 | OK | OK | OK | OK | ![]() | ||||||||||||||||
kunpeng2 | Linux (openEuler 22.03 LTS-SP1) / aarch64 | OK | OK | WARNINGS | ||||||||||||||||||
Package 70/85 | Hostname | OS / Arch | INSTALL | BUILD | CHECK | BUILD BIN | ||||||||||||||||
RBioinf 1.61.0 (landing page) Robert Gentleman
| nebbiolo2 | Linux (Ubuntu 22.04.2 LTS) / x86_64 | OK | OK | OK | ![]() | ||||||||||||||||
palomino4 | Windows Server 2022 Datacenter / x64 | OK | OK | OK | OK | ![]() | ||||||||||||||||
lconway | macOS 12.6.5 Monterey / x86_64 | OK | OK | OK | OK | ![]() | ||||||||||||||||
kunpeng2 | Linux (openEuler 22.03 LTS-SP1) / aarch64 | OK | OK | OK | ||||||||||||||||||
Package 71/85 | Hostname | OS / Arch | INSTALL | BUILD | CHECK | BUILD BIN | ||||||||||||||||
RCy3 2.21.3 (landing page) Alex Pico
| nebbiolo2 | Linux (Ubuntu 22.04.2 LTS) / x86_64 | OK | OK | OK | ![]() | ||||||||||||||||
palomino4 | Windows Server 2022 Datacenter / x64 | OK | OK | OK | OK | ![]() | ||||||||||||||||
lconway | macOS 12.6.5 Monterey / x86_64 | OK | OK | OK | OK | ![]() | ||||||||||||||||
kunpeng2 | Linux (openEuler 22.03 LTS-SP1) / aarch64 | OK | OK | OK | ||||||||||||||||||
Package 72/85 | Hostname | OS / Arch | INSTALL | BUILD | CHECK | BUILD BIN | ||||||||||||||||
RCyjs 2.23.0 (landing page) Paul Shannon
| nebbiolo2 | Linux (Ubuntu 22.04.2 LTS) / x86_64 | OK | OK | WARNINGS | ![]() | ||||||||||||||||
palomino4 | Windows Server 2022 Datacenter / x64 | OK | OK | WARNINGS | OK | ![]() | ||||||||||||||||
lconway | macOS 12.6.5 Monterey / x86_64 | OK | OK | WARNINGS | OK | ![]() | ||||||||||||||||
kunpeng2 | Linux (openEuler 22.03 LTS-SP1) / aarch64 | OK | OK | WARNINGS | ||||||||||||||||||
Package 73/85 | Hostname | OS / Arch | INSTALL | BUILD | CHECK | BUILD BIN | ||||||||||||||||
RGraph2js 1.29.0 (landing page) Stephane Cano
| nebbiolo2 | Linux (Ubuntu 22.04.2 LTS) / x86_64 | OK | OK | OK | ![]() | ||||||||||||||||
palomino4 | Windows Server 2022 Datacenter / x64 | OK | OK | OK | OK | ![]() | ||||||||||||||||
lconway | macOS 12.6.5 Monterey / x86_64 | OK | OK | OK | OK | ![]() | ||||||||||||||||
kunpeng2 | Linux (openEuler 22.03 LTS-SP1) / aarch64 | OK | OK | OK | ||||||||||||||||||
Package 74/85 | Hostname | OS / Arch | INSTALL | BUILD | CHECK | BUILD BIN | ||||||||||||||||
Rgraphviz 2.45.0 (landing page) Kasper Daniel Hansen
| nebbiolo2 | Linux (Ubuntu 22.04.2 LTS) / x86_64 | OK | OK | WARNINGS | ![]() | ||||||||||||||||
palomino4 | Windows Server 2022 Datacenter / x64 | OK | OK | WARNINGS | OK | ![]() | ||||||||||||||||
lconway | macOS 12.6.5 Monterey / x86_64 | OK | OK | WARNINGS | OK | ![]() | ||||||||||||||||
kunpeng2 | Linux (openEuler 22.03 LTS-SP1) / aarch64 | OK | OK | WARNINGS | ||||||||||||||||||
Package 75/85 | Hostname | OS / Arch | INSTALL | BUILD | CHECK | BUILD BIN | ||||||||||||||||
ROntoTools 2.29.1 (landing page) Sorin Draghici
| nebbiolo2 | Linux (Ubuntu 22.04.2 LTS) / x86_64 | OK | OK | WARNINGS | ![]() | ||||||||||||||||
palomino4 | Windows Server 2022 Datacenter / x64 | OK | OK | WARNINGS | OK | ![]() | ||||||||||||||||
lconway | macOS 12.6.5 Monterey / x86_64 | OK | OK | WARNINGS | OK | ![]() | ||||||||||||||||
kunpeng2 | Linux (openEuler 22.03 LTS-SP1) / aarch64 | OK | OK | WARNINGS | ||||||||||||||||||
Package 76/85 | Hostname | OS / Arch | INSTALL | BUILD | CHECK | BUILD BIN | ||||||||||||||||
rsbml 2.59.0 (landing page) Michael Lawrence
| nebbiolo2 | Linux (Ubuntu 22.04.2 LTS) / x86_64 | OK | OK | WARNINGS | ![]() | ||||||||||||||||
palomino4 | Windows Server 2022 Datacenter / x64 | OK | OK | WARNINGS | OK | ![]() | ||||||||||||||||
lconway | macOS 12.6.5 Monterey / x86_64 | ... NOT SUPPORTED ... | ||||||||||||||||||||
kunpeng2 | Linux (openEuler 22.03 LTS-SP1) / aarch64 | ERROR | ERROR | skipped | ||||||||||||||||||
Package 77/85 | Hostname | OS / Arch | INSTALL | BUILD | CHECK | BUILD BIN | ||||||||||||||||
Rtreemix 1.63.0 (landing page) Jasmina Bogojeska
| nebbiolo2 | Linux (Ubuntu 22.04.2 LTS) / x86_64 | OK | OK | WARNINGS | ![]() | ||||||||||||||||
palomino4 | Windows Server 2022 Datacenter / x64 | OK | OK | OK | OK | ![]() | ||||||||||||||||
lconway | macOS 12.6.5 Monterey / x86_64 | OK | OK | WARNINGS | OK | ![]() | ||||||||||||||||
kunpeng2 | Linux (openEuler 22.03 LTS-SP1) / aarch64 | OK | OK | WARNINGS | ||||||||||||||||||
Package 78/85 | Hostname | OS / Arch | INSTALL | BUILD | CHECK | BUILD BIN | ||||||||||||||||
SGCP 1.1.0 (landing page) Niloofar AghaieAbiane
| nebbiolo2 | Linux (Ubuntu 22.04.2 LTS) / x86_64 | OK | OK | OK | ![]() | ||||||||||||||||
palomino4 | Windows Server 2022 Datacenter / x64 | OK | OK | OK | OK | ![]() | ||||||||||||||||
lconway | macOS 12.6.5 Monterey / x86_64 | OK | OK | OK | OK | ![]() | ||||||||||||||||
kunpeng2 | Linux (openEuler 22.03 LTS-SP1) / aarch64 | OK | OK | OK | ||||||||||||||||||
Package 79/85 | Hostname | OS / Arch | INSTALL | BUILD | CHECK | BUILD BIN | ||||||||||||||||
SplicingGraphs 1.41.0 (landing page) H. Pagès
| nebbiolo2 | Linux (Ubuntu 22.04.2 LTS) / x86_64 | OK | OK | WARNINGS | ![]() | ||||||||||||||||
palomino4 | Windows Server 2022 Datacenter / x64 | OK | OK | WARNINGS | OK | ![]() | ||||||||||||||||
lconway | macOS 12.6.5 Monterey / x86_64 | OK | OK | WARNINGS | OK | ![]() | ||||||||||||||||
kunpeng2 | Linux (openEuler 22.03 LTS-SP1) / aarch64 | OK | OK | WARNINGS | ||||||||||||||||||
Package 80/85 | Hostname | OS / Arch | INSTALL | BUILD | CHECK | BUILD BIN | ||||||||||||||||
SRAdb 1.63.0 (landing page) Jack Zhu
| nebbiolo2 | Linux (Ubuntu 22.04.2 LTS) / x86_64 | OK | OK | OK | ![]() | ||||||||||||||||
palomino4 | Windows Server 2022 Datacenter / x64 | OK | OK | OK | OK | ![]() | ||||||||||||||||
lconway | macOS 12.6.5 Monterey / x86_64 | OK | OK | OK | OK | ![]() | ||||||||||||||||
kunpeng2 | Linux (openEuler 22.03 LTS-SP1) / aarch64 | OK | OK | OK | ||||||||||||||||||
Package 81/85 | Hostname | OS / Arch | INSTALL | BUILD | CHECK | BUILD BIN | ||||||||||||||||
Streamer 1.47.0 (landing page) Martin Morgan
| nebbiolo2 | Linux (Ubuntu 22.04.2 LTS) / x86_64 | OK | OK | OK | ![]() | ||||||||||||||||
palomino4 | Windows Server 2022 Datacenter / x64 | OK | OK | OK | OK | ![]() | ||||||||||||||||
lconway | macOS 12.6.5 Monterey / x86_64 | OK | OK | OK | OK | ![]() | ||||||||||||||||
kunpeng2 | Linux (openEuler 22.03 LTS-SP1) / aarch64 | OK | OK | OK | ||||||||||||||||||
Package 82/85 | Hostname | OS / Arch | INSTALL | BUILD | CHECK | BUILD BIN | ||||||||||||||||
topGO 2.53.0 (landing page) Adrian Alexa
| nebbiolo2 | Linux (Ubuntu 22.04.2 LTS) / x86_64 | OK | OK | OK | ![]() | ||||||||||||||||
palomino4 | Windows Server 2022 Datacenter / x64 | OK | OK | OK | OK | ![]() | ||||||||||||||||
lconway | macOS 12.6.5 Monterey / x86_64 | OK | OK | OK | OK | ![]() | ||||||||||||||||
kunpeng2 | Linux (openEuler 22.03 LTS-SP1) / aarch64 | OK | OK | OK | ||||||||||||||||||
Package 83/85 | Hostname | OS / Arch | INSTALL | BUILD | CHECK | BUILD BIN | ||||||||||||||||
trackViewer 1.37.14 (landing page) Jianhong Ou
| nebbiolo2 | Linux (Ubuntu 22.04.2 LTS) / x86_64 | OK | OK | OK | ![]() | ||||||||||||||||
palomino4 | Windows Server 2022 Datacenter / x64 | OK | OK | OK | OK | ![]() | ||||||||||||||||
lconway | macOS 12.6.5 Monterey / x86_64 | OK | OK | OK | OK | ![]() | ||||||||||||||||
kunpeng2 | Linux (openEuler 22.03 LTS-SP1) / aarch64 | OK | OK | OK | ||||||||||||||||||
Package 84/85 | Hostname | OS / Arch | INSTALL | BUILD | CHECK | BUILD BIN | ||||||||||||||||
VariantFiltering 1.37.1 (landing page) Robert Castelo
| nebbiolo2 | Linux (Ubuntu 22.04.2 LTS) / x86_64 | OK | OK | OK | ![]() | ||||||||||||||||
palomino4 | Windows Server 2022 Datacenter / x64 | OK | OK | OK | OK | ![]() | ||||||||||||||||
lconway | macOS 12.6.5 Monterey / x86_64 | OK | OK | OK | OK | ![]() | ||||||||||||||||
kunpeng2 | Linux (openEuler 22.03 LTS-SP1) / aarch64 | OK | OK | OK | ||||||||||||||||||
Package 85/85 | Hostname | OS / Arch | INSTALL | BUILD | CHECK | BUILD BIN | ||||||||||||||||
vtpnet 0.41.0 (landing page) VJ Carey
| nebbiolo2 | Linux (Ubuntu 22.04.2 LTS) / x86_64 | OK | OK | OK | ![]() | ||||||||||||||||
palomino4 | Windows Server 2022 Datacenter / x64 | OK | OK | OK | OK | ![]() | ||||||||||||||||
lconway | macOS 12.6.5 Monterey / x86_64 | OK | OK | OK | OK | ![]() | ||||||||||||||||
kunpeng2 | Linux (openEuler 22.03 LTS-SP1) / aarch64 | OK | OK | OK | ||||||||||||||||||