Back to Multiple platform build/check report for BioC 3.18:   simplified   long
ABCDEFGHIJKLMNO[P]QRSTUVWXYZ

This page was generated on 2023-12-05 11:36:05 -0500 (Tue, 05 Dec 2023).

HostnameOSArch (*)R versionInstalled pkgs
nebbiolo2Linux (Ubuntu 22.04.2 LTS)x86_644.3.2 Patched (2023-11-13 r85521) -- "Eye Holes" 4688
palomino4Windows Server 2022 Datacenterx644.3.2 (2023-10-31 ucrt) -- "Eye Holes" 4421
lconwaymacOS 12.7.1 Montereyx86_644.3.2 Patched (2023-11-01 r85457) -- "Eye Holes" 4440
Click on any hostname to see more info about the system (e.g. compilers)      (*) as reported by 'uname -p', except on Windows and Mac OS X

Package 1545/2266HostnameOS / ArchINSTALLBUILDCHECKBUILD BIN
PhyloProfile 1.16.0  (landing page)
Vinh Tran
Snapshot Date: 2023-12-04 14:05:07 -0500 (Mon, 04 Dec 2023)
git_url: https://git.bioconductor.org/packages/PhyloProfile
git_branch: RELEASE_3_18
git_last_commit: ec26674
git_last_commit_date: 2023-10-24 11:15:33 -0500 (Tue, 24 Oct 2023)
nebbiolo2Linux (Ubuntu 22.04.2 LTS) / x86_64  OK    OK    OK  UNNEEDED, same version is already published
palomino4Windows Server 2022 Datacenter / x64  OK    OK    OK    OK  UNNEEDED, same version is already published
lconwaymacOS 12.7.1 Monterey / x86_64  OK    OK    OK    OK  UNNEEDED, same version is already published
kjohnson1macOS 13.6.1 Ventura / arm64see weekly results here

CHECK results for PhyloProfile on nebbiolo2


To the developers/maintainers of the PhyloProfile package:
- Allow up to 24 hours (and sometimes 48 hours) for your latest push to git@git.bioconductor.org:packages/PhyloProfile.git to reflect on this report. See Troubleshooting Build Report for more information.
- Use the following Renviron settings to reproduce errors and warnings.
- If 'R CMD check' started to fail recently on the Linux builder(s) over a missing dependency, add the missing dependency to 'Suggests:' in your DESCRIPTION file. See Renviron.bioc for more information.

raw results


Summary

Package: PhyloProfile
Version: 1.16.0
Command: /home/biocbuild/bbs-3.18-bioc/R/bin/R CMD check --install=check:PhyloProfile.install-out.txt --library=/home/biocbuild/bbs-3.18-bioc/R/site-library --timings PhyloProfile_1.16.0.tar.gz
StartedAt: 2023-12-05 00:35:05 -0500 (Tue, 05 Dec 2023)
EndedAt: 2023-12-05 00:37:41 -0500 (Tue, 05 Dec 2023)
EllapsedTime: 156.3 seconds
RetCode: 0
Status:   OK  
CheckDir: PhyloProfile.Rcheck
Warnings: 0

Command output

##############################################################################
##############################################################################
###
### Running command:
###
###   /home/biocbuild/bbs-3.18-bioc/R/bin/R CMD check --install=check:PhyloProfile.install-out.txt --library=/home/biocbuild/bbs-3.18-bioc/R/site-library --timings PhyloProfile_1.16.0.tar.gz
###
##############################################################################
##############################################################################


* using log directory ‘/home/biocbuild/bbs-3.18-bioc/meat/PhyloProfile.Rcheck’
* using R version 4.3.2 Patched (2023-11-13 r85521)
* using platform: x86_64-pc-linux-gnu (64-bit)
* R was compiled by
    gcc (Ubuntu 11.4.0-1ubuntu1~22.04) 11.4.0
    GNU Fortran (Ubuntu 11.4.0-1ubuntu1~22.04) 11.4.0
* running under: Ubuntu 22.04.3 LTS
* using session charset: UTF-8
* checking for file ‘PhyloProfile/DESCRIPTION’ ... OK
* this is package ‘PhyloProfile’ version ‘1.16.0’
* package encoding: UTF-8
* checking package namespace information ... OK
* checking package dependencies ... OK
* checking if this is a source package ... OK
* checking if there is a namespace ... OK
* checking for hidden files and directories ... OK
* checking for portable file names ... OK
* checking for sufficient/correct file permissions ... OK
* checking whether package ‘PhyloProfile’ can be installed ... OK
* checking installed package size ... OK
* checking package directory ... OK
* checking ‘build’ directory ... OK
* checking DESCRIPTION meta-information ... OK
* checking top-level files ... OK
* checking for left-over files ... OK
* checking index information ... OK
* checking package subdirectories ... OK
* checking R files for non-ASCII characters ... OK
* checking R files for syntax errors ... OK
* checking whether the package can be loaded ... OK
* checking whether the package can be loaded with stated dependencies ... OK
* checking whether the package can be unloaded cleanly ... OK
* checking whether the namespace can be loaded with stated dependencies ... OK
* checking whether the namespace can be unloaded cleanly ... OK
* checking loading without being on the library search path ... OK
* checking dependencies in R code ... OK
* checking S3 generic/method consistency ... OK
* checking replacement functions ... OK
* checking foreign function calls ... OK
* checking R code for possible problems ... OK
* checking Rd files ... OK
* checking Rd metadata ... OK
* checking Rd cross-references ... OK
* checking for missing documentation entries ... OK
* checking for code/documentation mismatches ... OK
* checking Rd \usage sections ... OK
* checking Rd contents ... OK
* checking for unstated dependencies in examples ... OK
* checking contents of ‘data’ directory ... OK
* checking data for non-ASCII characters ... OK
* checking data for ASCII and uncompressed saves ... OK
* checking files in ‘vignettes’ ... OK
* checking examples ... OK
* checking for unstated dependencies in ‘tests’ ... OK
* checking tests ...
  Running ‘testthat.R’
 OK
* checking for unstated dependencies in vignettes ... OK
* checking package vignettes in ‘inst/doc’ ... OK
* checking running R code from vignettes ...
  ‘PhyloProfile-vignette.Rmd’ using ‘UTF-8’... OK
 NONE
* checking re-building of vignette outputs ... OK
* checking PDF version of manual ... OK
* DONE

Status: OK


Installation output

PhyloProfile.Rcheck/00install.out

##############################################################################
##############################################################################
###
### Running command:
###
###   /home/biocbuild/bbs-3.18-bioc/R/bin/R CMD INSTALL PhyloProfile
###
##############################################################################
##############################################################################


* installing to library ‘/home/biocbuild/bbs-3.18-bioc/R/site-library’
* installing *source* package ‘PhyloProfile’ ...
** using staged installation
** R
** data
** inst
** byte-compile and prepare package for lazy loading
** help
*** installing help indices
** building package indices
** installing vignettes
** testing if installed package can be loaded from temporary location
** testing if installed package can be loaded from final location
** testing if installed package keeps a record of temporary installation path
* DONE (PhyloProfile)

Tests output

PhyloProfile.Rcheck/tests/testthat.Rout


R version 4.3.2 Patched (2023-11-13 r85521) -- "Eye Holes"
Copyright (C) 2023 The R Foundation for Statistical Computing
Platform: x86_64-pc-linux-gnu (64-bit)

R is free software and comes with ABSOLUTELY NO WARRANTY.
You are welcome to redistribute it under certain conditions.
Type 'license()' or 'licence()' for distribution details.

R is a collaborative project with many contributors.
Type 'contributors()' for more information and
'citation()' on how to cite R or R packages in publications.

Type 'demo()' for some demos, 'help()' for on-line help, or
'help.start()' for an HTML browser interface to help.
Type 'q()' to quit R.

> library(testthat)
> library(PhyloProfile)
> 
> test_check("PhyloProfile")
[ FAIL 0 | WARN 0 | SKIP 0 | PASS 20 ]
> 
> proc.time()
   user  system elapsed 
  6.713   0.309   7.011 

Example timings

PhyloProfile.Rcheck/PhyloProfile-Ex.timings

nameusersystemelapsed
addRankDivisionPlot1.1380.0791.217
calcPresSpec0.0220.0010.023
checkInputValidity0.0030.0040.007
checkNewick0.0020.0010.003
checkOmaID000
clusterDataDend0.0150.0040.018
compareMedianTaxonGroups0.0290.0000.028
compareTaxonGroups0.0350.0040.038
createArchiPlot0.4190.0600.479
createGeneAgePlot0.2020.0000.203
createLongMatrix0.0170.0000.017
createPercentageDistributionData0.0520.0000.052
createProfileFromOma000
createUnrootedTree0.0110.0000.011
createVarDistPlot0.1190.0000.119
createVariableDistributionData0.0060.0000.006
createVariableDistributionDataSubset0.0060.0000.006
dataCustomizedPlot0.0150.0000.015
dataFeatureTaxGroup0.0130.0000.013
dataMainPlot0.0160.0040.020
dataVarDistTaxGroup0.0050.0000.004
estimateGeneAge0.080.000.08
fastaParser0.0310.0040.035
featureDistTaxPlot0.1830.0120.195
filterProfileData0.0780.0080.086
fromInputToProfile0.0650.0040.069
geneAgePlotDf0.0040.0000.004
generateSinglePlot0.4960.0320.528
getAllDomainsOma000
getAllFastaOma000
getCommonAncestor0.0270.0040.031
getCoreGene0.0420.0040.046
getDataClustering0.0090.0040.013
getDataForOneOma000
getDendrogram0.0370.0040.041
getDistanceMatrix0.0110.0000.012
getDomainFolder000
getFastaFromFasInput0.0100.0040.014
getFastaFromFile0.0090.0000.009
getFastaFromFolder0.0070.0000.007
getIDsRank0.0230.0000.023
getInputTaxaID0.0020.0000.003
getInputTaxaName0.0100.0000.011
getNameList0.0170.0000.018
getOmaDataForOneOrtholog000
getOmaDomainFromURL000
getOmaMembers000
getQualColForVector0.0010.0000.000
getSelectedFastaOma000
getSelectedTaxonNames0.0160.0000.015
getTaxHierarchy0.0130.0000.012
getTaxonomyInfo0.0110.0000.011
getTaxonomyMatrix0.070.020.09
getTaxonomyRanks0.0000.0000.001
gridArrangeSharedLegend0.5400.0080.548
heatmapPlotting0.2990.0000.299
highlightProfilePlot0.3180.0040.322
id2name0.0040.0000.004
mainTaxonomyRank0.0010.0000.000
modifyFeatureName000
pairDomainPlotting000
parseDomainInput0.0060.0080.014
parseInfoProfile0.0410.0080.049
processNcbiTaxonomy0.1140.0120.153
processOrthoID0.0720.0120.085
qualitativeColours000
rankIndexing000
reduceProfile0.0130.0000.012
runPhyloProfile0.0830.0010.083
singleDomainPlotting0.0000.0000.001
sortDomains000
sortInputTaxa0.0240.0040.028
sortTaxaFromTree0.010.000.01
taxonomyTableCreator0.0980.0040.102
varDistTaxPlot1.1800.0121.192
wideToLong0.0070.0030.011
xmlParser0.0140.0000.014