Back to Multiple platform build/check report for BioC 3.18:   simplified   long
ABCDE[F]GHIJKLMNOPQRSTUVWXYZ

This page was generated on 2024-02-22 11:36:46 -0500 (Thu, 22 Feb 2024).

HostnameOSArch (*)R versionInstalled pkgs
nebbiolo2Linux (Ubuntu 22.04.3 LTS)x86_644.3.2 Patched (2023-11-13 r85521) -- "Eye Holes" 4691
palomino4Windows Server 2022 Datacenterx644.3.2 (2023-10-31 ucrt) -- "Eye Holes" 4444
lconwaymacOS 12.7.1 Montereyx86_644.3.2 Patched (2023-11-01 r85457) -- "Eye Holes" 4465
Click on any hostname to see more info about the system (e.g. compilers)      (*) as reported by 'uname -p', except on Windows and Mac OS X

Package 750/2266HostnameOS / ArchINSTALLBUILDCHECKBUILD BIN
FRASER 1.14.1  (landing page)
Christian Mertes
Snapshot Date: 2024-02-21 14:05:05 -0500 (Wed, 21 Feb 2024)
git_url: https://git.bioconductor.org/packages/FRASER
git_branch: RELEASE_3_18
git_last_commit: 0a7204b
git_last_commit_date: 2024-02-11 14:03:18 -0500 (Sun, 11 Feb 2024)
nebbiolo2Linux (Ubuntu 22.04.3 LTS) / x86_64  OK    OK    OK  UNNEEDED, same version is already published
palomino4Windows Server 2022 Datacenter / x64  OK    OK    OK    OK  UNNEEDED, same version is already published
lconwaymacOS 12.7.1 Monterey / x86_64  OK    OK    OK    OK  UNNEEDED, same version is already published
kjohnson1macOS 13.6.1 Ventura / arm64see weekly results here

BUILD BIN results for FRASER on palomino4


To the developers/maintainers of the FRASER package:
- Allow up to 24 hours (and sometimes 48 hours) for your latest push to git@git.bioconductor.org:packages/FRASER.git to reflect on this report. See Troubleshooting Build Report for more information.
- Use the following Renviron settings to reproduce errors and warnings.
- If 'R CMD check' started to fail recently on the Linux builder(s) over a missing dependency, add the missing dependency to 'Suggests:' in your DESCRIPTION file. See Renviron.bioc for more information.

raw results


Summary

Package: FRASER
Version: 1.14.1
Command: rm -rf FRASER.buildbin-libdir && mkdir FRASER.buildbin-libdir && F:\biocbuild\bbs-3.18-bioc\R\bin\R.exe CMD INSTALL --build --library=FRASER.buildbin-libdir FRASER_1.14.1.tar.gz
StartedAt: 2024-02-22 08:33:04 -0500 (Thu, 22 Feb 2024)
EndedAt: 2024-02-22 08:34:46 -0500 (Thu, 22 Feb 2024)
EllapsedTime: 101.8 seconds
RetCode: 0
Status:   OK  
PackageFile: FRASER_1.14.1.zip
PackageFileSize: 2.92 MiB

Command output

##############################################################################
##############################################################################
###
### Running command:
###
###   rm -rf FRASER.buildbin-libdir && mkdir FRASER.buildbin-libdir && F:\biocbuild\bbs-3.18-bioc\R\bin\R.exe CMD INSTALL --build --library=FRASER.buildbin-libdir FRASER_1.14.1.tar.gz
###
##############################################################################
##############################################################################


* installing *source* package 'FRASER' ...
** using staged installation
** libs
using C++ compiler: 'G__~1.EXE (GCC) 12.3.0'
g++ -std=gnu++17  -I"F:/biocbuild/bbs-3.18-bioc/R/include" -DNDEBUG  -I'F:/biocbuild/bbs-3.18-bioc/R/library/Rcpp/include' -I'F:/biocbuild/bbs-3.18-bioc/R/library/RcppArmadillo/include'   -I"C:/rtools43/x86_64-w64-mingw32.static.posix/include"  -fopenmp -DARMA_DONT_USE_OPENMP   -O2 -Wall  -mfpmath=sse -msse2 -mstackrealign  -c RcppExports.cpp -o RcppExports.o
g++ -std=gnu++17  -I"F:/biocbuild/bbs-3.18-bioc/R/include" -DNDEBUG  -I'F:/biocbuild/bbs-3.18-bioc/R/library/Rcpp/include' -I'F:/biocbuild/bbs-3.18-bioc/R/library/RcppArmadillo/include'   -I"C:/rtools43/x86_64-w64-mingw32.static.posix/include"  -fopenmp -DARMA_DONT_USE_OPENMP   -O2 -Wall  -mfpmath=sse -msse2 -mstackrealign  -c loss_n_gradient_functions.cpp -o loss_n_gradient_functions.o
g++ -std=gnu++17 -shared -s -static-libgcc -o FRASER.dll tmp.def RcppExports.o loss_n_gradient_functions.o -fopenmp -LF:/biocbuild/bbs-3.18-bioc/R/bin/x64 -lRlapack -LF:/biocbuild/bbs-3.18-bioc/R/bin/x64 -lRblas -lgfortran -lm -lquadmath -LC:/rtools43/x86_64-w64-mingw32.static.posix/lib/x64 -LC:/rtools43/x86_64-w64-mingw32.static.posix/lib -LF:/biocbuild/bbs-3.18-bioc/R/bin/x64 -lR
installing to F:/biocbuild/bbs-3.18-bioc/meat/FRASER.buildbin-libdir/00LOCK-FRASER/00new/FRASER/libs/x64
** R
** inst
** byte-compile and prepare package for lazy loading
** help
*** installing help indices
** building package indices
** installing vignettes
** testing if installed package can be loaded from temporary location
** testing if installed package can be loaded from final location
** testing if installed package keeps a record of temporary installation path
* MD5 sums
packaged installation of 'FRASER' as FRASER_1.14.1.zip
* DONE (FRASER)