Back to Multiple platform build/check report for BioC 3.18:   simplified   long
AB[C]DEFGHIJKLMNOPQRSTUVWXYZ

This page was generated on 2023-12-01 11:35:45 -0500 (Fri, 01 Dec 2023).

HostnameOSArch (*)R versionInstalled pkgs
nebbiolo2Linux (Ubuntu 22.04.2 LTS)x86_644.3.2 Patched (2023-11-13 r85521) -- "Eye Holes" 4685
palomino4Windows Server 2022 Datacenterx644.3.2 (2023-10-31 ucrt) -- "Eye Holes" 4420
lconwaymacOS 12.7.1 Montereyx86_644.3.2 Patched (2023-11-01 r85457) -- "Eye Holes" 4439
Click on any hostname to see more info about the system (e.g. compilers)      (*) as reported by 'uname -p', except on Windows and Mac OS X

Package 396/2266HostnameOS / ArchINSTALLBUILDCHECKBUILD BIN
CoCiteStats 1.74.0  (landing page)
Bioconductor Package Maintainer
Snapshot Date: 2023-11-30 14:05:06 -0500 (Thu, 30 Nov 2023)
git_url: https://git.bioconductor.org/packages/CoCiteStats
git_branch: RELEASE_3_18
git_last_commit: 5b7366f
git_last_commit_date: 2023-10-24 09:34:31 -0500 (Tue, 24 Oct 2023)
nebbiolo2Linux (Ubuntu 22.04.2 LTS) / x86_64  OK    OK    OK  UNNEEDED, same version is already published
palomino4Windows Server 2022 Datacenter / x64  OK    OK    OK    OK  UNNEEDED, same version is already published
lconwaymacOS 12.7.1 Monterey / x86_64  OK    OK    OK    OK  UNNEEDED, same version is already published
kjohnson1macOS 13.6.1 Ventura / arm64see weekly results here

CHECK results for CoCiteStats on nebbiolo2


To the developers/maintainers of the CoCiteStats package:
- Allow up to 24 hours (and sometimes 48 hours) for your latest push to git@git.bioconductor.org:packages/CoCiteStats.git to reflect on this report. See Troubleshooting Build Report for more information.
- Use the following Renviron settings to reproduce errors and warnings.
- If 'R CMD check' started to fail recently on the Linux builder(s) over a missing dependency, add the missing dependency to 'Suggests:' in your DESCRIPTION file. See Renviron.bioc for more information.

raw results


Summary

Package: CoCiteStats
Version: 1.74.0
Command: /home/biocbuild/bbs-3.18-bioc/R/bin/R CMD check --install=check:CoCiteStats.install-out.txt --library=/home/biocbuild/bbs-3.18-bioc/R/site-library --timings CoCiteStats_1.74.0.tar.gz
StartedAt: 2023-11-30 21:04:37 -0500 (Thu, 30 Nov 2023)
EndedAt: 2023-11-30 21:08:22 -0500 (Thu, 30 Nov 2023)
EllapsedTime: 224.7 seconds
RetCode: 0
Status:   OK  
CheckDir: CoCiteStats.Rcheck
Warnings: 0

Command output

##############################################################################
##############################################################################
###
### Running command:
###
###   /home/biocbuild/bbs-3.18-bioc/R/bin/R CMD check --install=check:CoCiteStats.install-out.txt --library=/home/biocbuild/bbs-3.18-bioc/R/site-library --timings CoCiteStats_1.74.0.tar.gz
###
##############################################################################
##############################################################################


* using log directory ‘/home/biocbuild/bbs-3.18-bioc/meat/CoCiteStats.Rcheck’
* using R version 4.3.2 Patched (2023-11-13 r85521)
* using platform: x86_64-pc-linux-gnu (64-bit)
* R was compiled by
    gcc (Ubuntu 11.4.0-1ubuntu1~22.04) 11.4.0
    GNU Fortran (Ubuntu 11.4.0-1ubuntu1~22.04) 11.4.0
* running under: Ubuntu 22.04.3 LTS
* using session charset: UTF-8
* checking for file ‘CoCiteStats/DESCRIPTION’ ... OK
* this is package ‘CoCiteStats’ version ‘1.74.0’
* checking package namespace information ... OK
* checking package dependencies ... OK
* checking if this is a source package ... OK
* checking if there is a namespace ... OK
* checking for hidden files and directories ... OK
* checking for portable file names ... OK
* checking for sufficient/correct file permissions ... OK
* checking whether package ‘CoCiteStats’ can be installed ... OK
* checking installed package size ... OK
* checking package directory ... OK
* checking DESCRIPTION meta-information ... NOTE
Malformed Title field: should not end in a period.
* checking top-level files ... OK
* checking for left-over files ... OK
* checking index information ... OK
* checking package subdirectories ... OK
* checking R files for non-ASCII characters ... OK
* checking R files for syntax errors ... OK
* checking whether the package can be loaded ... OK
* checking whether the package can be loaded with stated dependencies ... OK
* checking whether the package can be unloaded cleanly ... OK
* checking whether the namespace can be loaded with stated dependencies ... OK
* checking whether the namespace can be unloaded cleanly ... OK
* checking loading without being on the library search path ... OK
* checking dependencies in R code ... NOTE
Package in Depends field not imported from: ‘org.Hs.eg.db’
  These packages need to be imported from (in the NAMESPACE file)
  for when this namespace is loaded but not attached.
* checking S3 generic/method consistency ... OK
* checking replacement functions ... OK
* checking foreign function calls ... OK
* checking R code for possible problems ... NOTE
gene.geneslist.sig: no visible global function definition for ‘Lkeys’
gene.geneslist.sig: no visible binding for global variable
  ‘org.Hs.egPMID’
paperLen: no visible global function definition for ‘toTable’
paperLen: no visible binding for global variable ‘org.Hs.egPMID’
paperLen: no visible global function definition for ‘nhit’
paperLen: no visible global function definition for ‘revmap’
Undefined global functions or variables:
  Lkeys nhit org.Hs.egPMID revmap toTable
* checking Rd files ... NOTE
prepare_Rd: gene.geneslist.statistic.Rd:19-21: Dropping empty section \details
* checking Rd metadata ... OK
* checking Rd cross-references ... OK
* checking for missing documentation entries ... OK
* checking for code/documentation mismatches ... OK
* checking Rd \usage sections ... OK
* checking Rd contents ... OK
* checking for unstated dependencies in examples ... OK
* checking examples ... OK
Examples with CPU (user + system) or elapsed time > 5s
                           user system elapsed
gene.geneslist.sig       27.225  0.292  27.517
actorAdjTable            22.156  2.336  24.495
gene.geneslist.statistic 17.957  0.156  18.113
gene.gene.statistic      17.273  0.308  17.580
paperLen                 16.036  0.135  16.171
twowayTable              15.615  0.120  15.735
twTStats                 15.514  0.072  15.587
* checking PDF version of manual ... OK
* DONE

Status: 4 NOTEs
See
  ‘/home/biocbuild/bbs-3.18-bioc/meat/CoCiteStats.Rcheck/00check.log’
for details.



Installation output

CoCiteStats.Rcheck/00install.out

##############################################################################
##############################################################################
###
### Running command:
###
###   /home/biocbuild/bbs-3.18-bioc/R/bin/R CMD INSTALL CoCiteStats
###
##############################################################################
##############################################################################


* installing to library ‘/home/biocbuild/bbs-3.18-bioc/R/site-library’
* installing *source* package ‘CoCiteStats’ ...
** using staged installation
** R
** byte-compile and prepare package for lazy loading
** help
*** installing help indices
** building package indices
** testing if installed package can be loaded from temporary location
** testing if installed package can be loaded from final location
** testing if installed package keeps a record of temporary installation path
* DONE (CoCiteStats)

Tests output


Example timings

CoCiteStats.Rcheck/CoCiteStats-Ex.timings

nameusersystemelapsed
actorAdjTable22.156 2.33624.495
gene.gene.statistic17.273 0.30817.580
gene.geneslist.sig27.225 0.29227.517
gene.geneslist.statistic17.957 0.15618.113
paperLen16.036 0.13516.171
twTStats15.514 0.07215.587
twowayTable15.615 0.12015.735