Back to Mac ARM64 build report for BioC 3.18
ABCDEFGHIJKLMNO[P]QRSTUVWXYZ

This page was generated on 2024-02-22 11:32:10 -0500 (Thu, 22 Feb 2024).

HostnameOSArch (*)R versionInstalled pkgs
kjohnson1macOS 13.6.1 Venturaarm644.3.2 (2023-10-31) -- "Eye Holes" 4300
Click on any hostname to see more info about the system (e.g. compilers)      (*) as reported by 'uname -p', except on Windows and Mac OS X

All results for package pcaMethods


To the developers/maintainers of the pcaMethods package:
- Use the following Renviron settings to reproduce errors and warnings.
- If 'R CMD check' started to fail recently on the Linux builder(s) over a missing dependency, add the missing dependency to 'Suggests:' in your DESCRIPTION file. See Renviron.bioc for more information.

raw results

Package 1513/2266HostnameOS / ArchINSTALLBUILDCHECKBUILD BIN
pcaMethods 1.94.0  (landing page)
Henning Redestig
Snapshot Date: 2024-02-20 09:00:03 -0500 (Tue, 20 Feb 2024)
git_url: https://git.bioconductor.org/packages/pcaMethods
git_branch: RELEASE_3_18
git_last_commit: 5bb47fc
git_last_commit_date: 2023-10-24 09:37:22 -0500 (Tue, 24 Oct 2023)
kjohnson1macOS 13.6.1 Ventura / arm64  OK    OK    OK    OK  UNNEEDED, same version is already published

Results for Bioconductor software packages that depend directly on package pcaMethods

QUICK STATSOS / ArchINSTALLBUILDCHECKBUILD BIN
kjohnson1macOS 13.6.1 Ventura / arm64
0015
0114
0419
0014
Package 1/15HostnameOS / ArchINSTALLBUILDCHECKBUILD BIN
autonomics 1.10.2  (landing page)
Aditya Bhagwat
git_last_commit: 230045c
git_last_commit_date: 2023-11-08 04:08:57 -0500
kjohnson1macOS 13.6.1 Ventura / arm64  OK    ERROR  skippedskipped
Package 2/15HostnameOS / ArchINSTALLBUILDCHECKBUILD BIN
consensusDE 1.20.0  (landing page)
Ashley J. Waardenberg
git_last_commit: 8cccaad
git_last_commit_date: 2023-10-24 11:09:05 -0500
kjohnson1macOS 13.6.1 Ventura / arm64  OK    OK    OK    OK  UNNEEDED, same version is already published
Package 3/15HostnameOS / ArchINSTALLBUILDCHECKBUILD BIN
DeconRNASeq 1.44.0  (landing page)
Ting Gong
git_last_commit: b74d94c
git_last_commit_date: 2023-10-24 09:51:21 -0500
kjohnson1macOS 13.6.1 Ventura / arm64  OK    OK    OK    OK  UNNEEDED, same version is already published
Package 4/15HostnameOS / ArchINSTALLBUILDCHECKBUILD BIN
destiny 3.16.0  (landing page)
Philipp Angerer
git_last_commit: 300eb29
git_last_commit_date: 2023-12-28 07:36:24 -0500
kjohnson1macOS 13.6.1 Ventura / arm64  OK    OK    OK    OK  UNNEEDED, same version is already published
Package 5/15HostnameOS / ArchINSTALLBUILDCHECKBUILD BIN
FRASER 1.14.1  (landing page)
Christian Mertes
git_last_commit: 0a7204b
git_last_commit_date: 2024-02-11 14:03:18 -0500
kjohnson1macOS 13.6.1 Ventura / arm64  OK    OK    OK    OK  UNNEEDED, same version is already published
Package 6/15HostnameOS / ArchINSTALLBUILDCHECKBUILD BIN
MAI 1.8.0  (landing page)
Jonathan Dekermanjian
git_last_commit: 6d855e6
git_last_commit_date: 2023-10-24 11:35:24 -0500
kjohnson1macOS 13.6.1 Ventura / arm64  OK    OK    OK    OK  UNNEEDED, same version is already published
Package 7/15HostnameOS / ArchINSTALLBUILDCHECKBUILD BIN
MatrixQCvis 1.10.0  (landing page)
Thomas Naake
git_last_commit: 9124112
git_last_commit_date: 2023-10-24 11:33:30 -0500
kjohnson1macOS 13.6.1 Ventura / arm64  OK    OK    OK    OK  UNNEEDED, same version is already published
Package 8/15HostnameOS / ArchINSTALLBUILDCHECKBUILD BIN
MSnbase 2.28.1  (landing page)
Laurent Gatto
git_last_commit: 6329ed35
git_last_commit_date: 2023-11-06 01:58:23 -0500
kjohnson1macOS 13.6.1 Ventura / arm64  OK    OK    ERROR    OK  
Package 9/15HostnameOS / ArchINSTALLBUILDCHECKBUILD BIN
MSPrep 1.12.0  (landing page)
Max McGrath
git_last_commit: 511dcda
git_last_commit_date: 2023-10-24 11:26:13 -0500
kjohnson1macOS 13.6.1 Ventura / arm64  OK    OK    ERROR    OK  
Package 10/15HostnameOS / ArchINSTALLBUILDCHECKBUILD BIN
MultiBaC 1.12.0  (landing page)
The package maintainer
git_last_commit: 63372e3
git_last_commit_date: 2023-10-24 11:23:46 -0500
kjohnson1macOS 13.6.1 Ventura / arm64  OK    OK    OK    OK  UNNEEDED, same version is already published
Package 11/15HostnameOS / ArchINSTALLBUILDCHECKBUILD BIN
OUTRIDER 1.20.0  (landing page)
Christian Mertes
git_last_commit: 0528b44
git_last_commit_date: 2023-10-24 11:06:34 -0500
kjohnson1macOS 13.6.1 Ventura / arm64  OK    OK    OK    OK  UNNEEDED, same version is already published
Package 12/15HostnameOS / ArchINSTALLBUILDCHECKBUILD BIN
PhosR 1.12.0  (landing page)
Taiyun Kim
git_last_commit: dfab942
git_last_commit_date: 2023-10-24 11:25:54 -0500
kjohnson1macOS 13.6.1 Ventura / arm64  OK    OK    OK    OK  UNNEEDED, same version is already published
Package 13/15HostnameOS / ArchINSTALLBUILDCHECKBUILD BIN
pmp 1.14.0  (landing page)
Gavin Rhys Lloyd
git_last_commit: 79a2219
git_last_commit_date: 2023-10-24 11:18:56 -0500
kjohnson1macOS 13.6.1 Ventura / arm64  OK    OK    ERROR    OK  
Package 14/15HostnameOS / ArchINSTALLBUILDCHECKBUILD BIN
scde 2.30.0  (landing page)
Evan Biederstedt
git_last_commit: 4a9f092
git_last_commit_date: 2023-10-24 10:46:15 -0500
kjohnson1macOS 13.6.1 Ventura / arm64  OK    OK    WARNINGS    OK  UNNEEDED, same version is already published
Package 15/15HostnameOS / ArchINSTALLBUILDCHECKBUILD BIN
SomaticSignatures 2.38.0  (landing page)
Julian Gehring
git_last_commit: 7578824
git_last_commit_date: 2023-10-24 09:57:24 -0500
kjohnson1macOS 13.6.1 Ventura / arm64  OK    OK    ERROR    OK