Back to Mac ARM64 build report for BioC 3.18
ABCDEFGHIJK[L]MNOPQRSTUVWXYZ

This page was generated on 2024-02-29 11:32:08 -0500 (Thu, 29 Feb 2024).

HostnameOSArch (*)R versionInstalled pkgs
kjohnson1macOS 13.6.1 Venturaarm644.3.2 (2023-10-31) -- "Eye Holes" 4300
Click on any hostname to see more info about the system (e.g. compilers)      (*) as reported by 'uname -p', except on Windows and Mac OS X

All results for package LRcell


To the developers/maintainers of the LRcell package:
- Use the following Renviron settings to reproduce errors and warnings.
- If 'R CMD check' started to fail recently on the Linux builder(s) over a missing dependency, add the missing dependency to 'Suggests:' in your DESCRIPTION file. See Renviron.bioc for more information.

raw results

Package 1118/2266HostnameOS / ArchINSTALLBUILDCHECKBUILD BIN
LRcell 1.10.0  (landing page)
Wenjing Ma
Snapshot Date: 2024-02-27 09:00:02 -0500 (Tue, 27 Feb 2024)
git_url: https://git.bioconductor.org/packages/LRcell
git_branch: RELEASE_3_18
git_last_commit: 3cb2264
git_last_commit_date: 2023-10-24 11:31:38 -0500 (Tue, 24 Oct 2023)
kjohnson1macOS 13.6.1 Ventura / arm64  OK    OK    OK    OK  UNNEEDED, same version is already published