Back to Mac ARM64 build report for BioC 3.18
ABCDEFG[H]IJKLMNOPQRSTUVWXYZ

This page was generated on 2024-02-22 11:32:08 -0500 (Thu, 22 Feb 2024).

HostnameOSArch (*)R versionInstalled pkgs
kjohnson1macOS 13.6.1 Venturaarm644.3.2 (2023-10-31) -- "Eye Holes" 4300
Click on any hostname to see more info about the system (e.g. compilers)      (*) as reported by 'uname -p', except on Windows and Mac OS X

All results for package hypergraph


To the developers/maintainers of the hypergraph package:
- Use the following Renviron settings to reproduce errors and warnings.
- If 'R CMD check' started to fail recently on the Linux builder(s) over a missing dependency, add the missing dependency to 'Suggests:' in your DESCRIPTION file. See Renviron.bioc for more information.

raw results

Package 984/2266HostnameOS / ArchINSTALLBUILDCHECKBUILD BIN
hypergraph 1.74.0  (landing page)
Bioconductor Package Maintainer
Snapshot Date: 2024-02-20 09:00:03 -0500 (Tue, 20 Feb 2024)
git_url: https://git.bioconductor.org/packages/hypergraph
git_branch: RELEASE_3_18
git_last_commit: af3bfda
git_last_commit_date: 2023-10-24 09:35:11 -0500 (Tue, 24 Oct 2023)
kjohnson1macOS 13.6.1 Ventura / arm64  OK    OK    OK    OK  UNNEEDED, same version is already published

Results for Bioconductor software packages that depend directly on package hypergraph

QUICK STATSOS / ArchINSTALLBUILDCHECKBUILD BIN
kjohnson1macOS 13.6.1 Ventura / arm64
002
002
0002
002
Package 1/2HostnameOS / ArchINSTALLBUILDCHECKBUILD BIN
altcdfenvs 2.64.0  (landing page)
Laurent Gautier
git_last_commit: 86cec42
git_last_commit_date: 2023-10-24 09:33:12 -0500
kjohnson1macOS 13.6.1 Ventura / arm64  OK    OK    OK    OK  UNNEEDED, same version is already published
Package 2/2HostnameOS / ArchINSTALLBUILDCHECKBUILD BIN
hyperdraw 1.54.0  (landing page)
Paul Murrell
git_last_commit: 0a7e984
git_last_commit_date: 2023-10-24 09:43:11 -0500
kjohnson1macOS 13.6.1 Ventura / arm64  OK    OK    OK    OK  UNNEEDED, same version is already published