Back to Mac ARM64 build report for BioC 3.18
ABCDEFGHIJKL[M]NOPQRSTUVWXYZ

This page was generated on 2024-02-19 11:31:58 -0500 (Mon, 19 Feb 2024).

HostnameOSArch (*)R versionInstalled pkgs
kjohnson1macOS 13.6.1 Venturaarm644.3.2 (2023-10-31) -- "Eye Holes" 4299
Click on any hostname to see more info about the system (e.g. compilers)      (*) as reported by 'uname -p', except on Windows and Mac OS X

All results for package msa


To the developers/maintainers of the msa package:
- Use the following Renviron settings to reproduce errors and warnings.
- If 'R CMD check' started to fail recently on the Linux builder(s) over a missing dependency, add the missing dependency to 'Suggests:' in your DESCRIPTION file. See Renviron.bioc for more information.

raw results

Package 1320/2266HostnameOS / ArchINSTALLBUILDCHECKBUILD BIN
msa 1.34.0  (landing page)
Ulrich Bodenhofer
Snapshot Date: 2024-02-17 09:00:03 -0500 (Sat, 17 Feb 2024)
git_url: https://git.bioconductor.org/packages/msa
git_branch: RELEASE_3_18
git_last_commit: 2df795c
git_last_commit_date: 2023-10-24 10:43:22 -0500 (Tue, 24 Oct 2023)
kjohnson1macOS 13.6.1 Ventura / arm64  OK    OK    WARNINGS    OK  UNNEEDED, same version is already published

Results for Bioconductor software packages that depend directly on package msa

QUICK STATSOS / ArchINSTALLBUILDCHECKBUILD BIN
kjohnson1macOS 13.6.1 Ventura / arm64
003
003
0003
003
Package 1/3HostnameOS / ArchINSTALLBUILDCHECKBUILD BIN
LymphoSeq 1.30.0  (landing page)
David Coffey
git_last_commit: a2049d8
git_last_commit_date: 2023-10-24 10:49:45 -0500
kjohnson1macOS 13.6.1 Ventura / arm64  OK    OK    OK    OK  UNNEEDED, same version is already published
Package 2/3HostnameOS / ArchINSTALLBUILDCHECKBUILD BIN
odseq 1.30.0  (landing page)
José Jiménez
git_last_commit: 228cd04
git_last_commit_date: 2023-10-24 10:49:20 -0500
kjohnson1macOS 13.6.1 Ventura / arm64  OK    OK    OK    OK  UNNEEDED, same version is already published
Package 3/3HostnameOS / ArchINSTALLBUILDCHECKBUILD BIN
surfaltr 1.8.0  (landing page)
Pooja Gangras
git_last_commit: 9dfbbaf
git_last_commit_date: 2023-10-24 11:36:48 -0500
kjohnson1macOS 13.6.1 Ventura / arm64  OK    OK    OK    OK  UNNEEDED, same version is already published