Back to Multiple platform build/check report for BioC 3.18: simplified long |
|
This page was generated on 2023-12-09 11:36:06 -0500 (Sat, 09 Dec 2023).
Hostname | OS | Arch (*) | R version | Installed pkgs |
---|---|---|---|---|
nebbiolo2 | Linux (Ubuntu 22.04.2 LTS) | x86_64 | 4.3.2 Patched (2023-11-13 r85521) -- "Eye Holes" | 4688 |
palomino4 | Windows Server 2022 Datacenter | x64 | 4.3.2 (2023-10-31 ucrt) -- "Eye Holes" | 4439 |
lconway | macOS 12.7.1 Monterey | x86_64 | 4.3.2 Patched (2023-11-01 r85457) -- "Eye Holes" | 4458 |
Click on any hostname to see more info about the system (e.g. compilers) (*) as reported by 'uname -p', except on Windows and Mac OS X |
Package 1384/2266 | Hostname | OS / Arch | INSTALL | BUILD | CHECK | BUILD BIN | ||||||||
NanoMethViz 2.8.1 (landing page) Shian Su
| nebbiolo2 | Linux (Ubuntu 22.04.2 LTS) / x86_64 | OK | OK | OK | ![]() | ||||||||
palomino4 | Windows Server 2022 Datacenter / x64 | OK | OK | OK | OK | ![]() | ||||||||
lconway | macOS 12.7.1 Monterey / x86_64 | OK | OK | OK | OK | ![]() | ||||||||
kjohnson1 | macOS 13.6.1 Ventura / arm64 | see weekly results here | ||||||||||||
To the developers/maintainers of the NanoMethViz package: - Allow up to 24 hours (and sometimes 48 hours) for your latest push to git@git.bioconductor.org:packages/NanoMethViz.git to reflect on this report. See Troubleshooting Build Report for more information. - Use the following Renviron settings to reproduce errors and warnings. - If 'R CMD check' started to fail recently on the Linux builder(s) over a missing dependency, add the missing dependency to 'Suggests:' in your DESCRIPTION file. See Renviron.bioc for more information. |
Package: NanoMethViz |
Version: 2.8.1 |
Command: /home/biocbuild/bbs-3.18-bioc/R/bin/R CMD check --install=check:NanoMethViz.install-out.txt --library=/home/biocbuild/bbs-3.18-bioc/R/site-library --timings NanoMethViz_2.8.1.tar.gz |
StartedAt: 2023-12-08 23:58:14 -0500 (Fri, 08 Dec 2023) |
EndedAt: 2023-12-09 00:08:15 -0500 (Sat, 09 Dec 2023) |
EllapsedTime: 601.5 seconds |
RetCode: 0 |
Status: OK |
CheckDir: NanoMethViz.Rcheck |
Warnings: 0 |
############################################################################## ############################################################################## ### ### Running command: ### ### /home/biocbuild/bbs-3.18-bioc/R/bin/R CMD check --install=check:NanoMethViz.install-out.txt --library=/home/biocbuild/bbs-3.18-bioc/R/site-library --timings NanoMethViz_2.8.1.tar.gz ### ############################################################################## ############################################################################## * using log directory ‘/home/biocbuild/bbs-3.18-bioc/meat/NanoMethViz.Rcheck’ * using R version 4.3.2 Patched (2023-11-13 r85521) * using platform: x86_64-pc-linux-gnu (64-bit) * R was compiled by gcc (Ubuntu 11.4.0-1ubuntu1~22.04) 11.4.0 GNU Fortran (Ubuntu 11.4.0-1ubuntu1~22.04) 11.4.0 * running under: Ubuntu 22.04.3 LTS * using session charset: UTF-8 * checking for file ‘NanoMethViz/DESCRIPTION’ ... OK * checking extension type ... Package * this is package ‘NanoMethViz’ version ‘2.8.1’ * package encoding: UTF-8 * checking package namespace information ... OK * checking package dependencies ... OK * checking if this is a source package ... OK * checking if there is a namespace ... OK * checking for hidden files and directories ... OK * checking for portable file names ... OK * checking for sufficient/correct file permissions ... OK * checking whether package ‘NanoMethViz’ can be installed ... OK * used C++ compiler: ‘g++ (Ubuntu 11.4.0-1ubuntu1~22.04) 11.4.0’ * checking C++ specification ... OK Not all R platforms support C++17 * checking installed package size ... NOTE installed size is 8.1Mb sub-directories of 1Mb or more: libs 3.1Mb * checking package directory ... OK * checking ‘build’ directory ... OK * checking DESCRIPTION meta-information ... OK * checking top-level files ... OK * checking for left-over files ... OK * checking index information ... OK * checking package subdirectories ... OK * checking R files for non-ASCII characters ... OK * checking R files for syntax errors ... OK * checking whether the package can be loaded ... OK * checking whether the package can be loaded with stated dependencies ... OK * checking whether the package can be unloaded cleanly ... OK * checking whether the namespace can be loaded with stated dependencies ... OK * checking whether the namespace can be unloaded cleanly ... OK * checking loading without being on the library search path ... OK * checking dependencies in R code ... OK * checking S3 generic/method consistency ... OK * checking replacement functions ... OK * checking foreign function calls ... OK * checking R code for possible problems ... OK * checking Rd files ... OK * checking Rd metadata ... OK * checking Rd cross-references ... OK * checking for missing documentation entries ... OK * checking for code/documentation mismatches ... OK * checking Rd \usage sections ... OK * checking Rd contents ... OK * checking for unstated dependencies in examples ... OK * checking line endings in C/C++/Fortran sources/headers ... OK * checking use of PKG_*FLAGS in Makefiles ... OK * checking compiled code ... NOTE Note: information on .o files is not available * checking files in ‘vignettes’ ... OK * checking examples ... OK Examples with CPU (user + system) or elapsed time > 5s user system elapsed get_exons 43.537 1.904 45.528 get_exons_homo_sapiens 12.357 0.216 12.572 get_exons_mus_musculus 12.050 0.448 12.498 plot_gene_heatmap 6.668 0.016 6.684 plot_agg_regions 5.202 0.028 5.230 plot_grange_heatmap 5.110 0.020 5.130 * checking for unstated dependencies in ‘tests’ ... OK * checking tests ... Running ‘testthat.R’ OK * checking for unstated dependencies in vignettes ... OK * checking package vignettes in ‘inst/doc’ ... OK * checking running R code from vignettes ... ‘UsersGuide.Rmd’ using ‘UTF-8’... OK NONE * checking re-building of vignette outputs ... OK * checking PDF version of manual ... OK * DONE Status: 2 NOTEs See ‘/home/biocbuild/bbs-3.18-bioc/meat/NanoMethViz.Rcheck/00check.log’ for details.
NanoMethViz.Rcheck/00install.out
############################################################################## ############################################################################## ### ### Running command: ### ### /home/biocbuild/bbs-3.18-bioc/R/bin/R CMD INSTALL NanoMethViz ### ############################################################################## ############################################################################## * installing to library ‘/home/biocbuild/bbs-3.18-bioc/R/site-library’ * installing *source* package ‘NanoMethViz’ ... ** using staged installation ** libs using C++ compiler: ‘g++ (Ubuntu 11.4.0-1ubuntu1~22.04) 11.4.0’ using C++17 g++ -std=gnu++17 -I"/home/biocbuild/bbs-3.18-bioc/R/include" -DNDEBUG -I'/home/biocbuild/bbs-3.18-bioc/R/site-library/Rcpp/include' -I/usr/local/include -fpic -g -O2 -Wall -c RcppExports.cpp -o RcppExports.o g++ -std=gnu++17 -I"/home/biocbuild/bbs-3.18-bioc/R/include" -DNDEBUG -I'/home/biocbuild/bbs-3.18-bioc/R/site-library/Rcpp/include' -I/usr/local/include -fpic -g -O2 -Wall -c convert_methy_to_dss.cpp -o convert_methy_to_dss.o g++ -std=gnu++17 -I"/home/biocbuild/bbs-3.18-bioc/R/include" -DNDEBUG -I'/home/biocbuild/bbs-3.18-bioc/R/site-library/Rcpp/include' -I/usr/local/include -fpic -g -O2 -Wall -c count_cg.cpp -o count_cg.o g++ -std=gnu++17 -I"/home/biocbuild/bbs-3.18-bioc/R/include" -DNDEBUG -I'/home/biocbuild/bbs-3.18-bioc/R/site-library/Rcpp/include' -I/usr/local/include -fpic -g -O2 -Wall -c modbam.cpp -o modbam.o g++ -std=gnu++17 -I"/home/biocbuild/bbs-3.18-bioc/R/include" -DNDEBUG -I'/home/biocbuild/bbs-3.18-bioc/R/site-library/Rcpp/include' -I/usr/local/include -fpic -g -O2 -Wall -c utils.cpp -o utils.o g++ -std=gnu++17 -shared -L/home/biocbuild/bbs-3.18-bioc/R/lib -L/usr/local/lib -o NanoMethViz.so RcppExports.o convert_methy_to_dss.o count_cg.o modbam.o utils.o -L/home/biocbuild/bbs-3.18-bioc/R/lib -lR installing to /home/biocbuild/bbs-3.18-bioc/R/site-library/00LOCK-NanoMethViz/00new/NanoMethViz/libs ** R ** inst ** byte-compile and prepare package for lazy loading ** help *** installing help indices ** building package indices ** installing vignettes ** testing if installed package can be loaded from temporary location ** checking absolute paths in shared objects and dynamic libraries ** testing if installed package can be loaded from final location ** testing if installed package keeps a record of temporary installation path * DONE (NanoMethViz)
NanoMethViz.Rcheck/tests/testthat.Rout
R version 4.3.2 Patched (2023-11-13 r85521) -- "Eye Holes" Copyright (C) 2023 The R Foundation for Statistical Computing Platform: x86_64-pc-linux-gnu (64-bit) R is free software and comes with ABSOLUTELY NO WARRANTY. You are welcome to redistribute it under certain conditions. Type 'license()' or 'licence()' for distribution details. R is a collaborative project with many contributors. Type 'contributors()' for more information and 'citation()' on how to cite R or R packages in publications. Type 'demo()' for some demos, 'help()' for on-line help, or 'help.start()' for an HTML browser interface to help. Type 'q()' to quit R. > library(testthat) > library(NanoMethViz) Loading required package: ggplot2 > > test_check("NanoMethViz") Starting 2 test processes [ FAIL 0 | WARN 0 | SKIP 0 | PASS 572 ] > > proc.time() user system elapsed 172.707 12.631 129.078
NanoMethViz.Rcheck/NanoMethViz-Ex.timings
name | user | system | elapsed | |
NanoMethResult-class | 3.719 | 0.191 | 3.912 | |
bsseq_to_edger | 0.667 | 0.032 | 0.701 | |
bsseq_to_log_methy_ratio | 1.014 | 0.016 | 1.030 | |
cluster_regions | 4.548 | 0.188 | 4.737 | |
create_tabix_file | 0.216 | 0.012 | 0.229 | |
exons_to_genes | 0.257 | 0.000 | 0.257 | |
filter_methy | 1.858 | 0.112 | 1.951 | |
get_example_exons_mus_musculus | 0.223 | 0.004 | 0.228 | |
get_exons | 43.537 | 1.904 | 45.528 | |
get_exons_homo_sapiens | 12.357 | 0.216 | 12.572 | |
get_exons_mus_musculus | 12.050 | 0.448 | 12.498 | |
load_example_nanomethresult | 0.241 | 0.004 | 0.245 | |
methy | 0.002 | 0.000 | 0.002 | |
methy_col_names | 0 | 0 | 0 | |
methy_to_bsseq | 0.925 | 0.007 | 0.933 | |
methy_to_edger | 1.067 | 0.004 | 1.071 | |
modbam_to_tabix | 0.558 | 0.443 | 0.806 | |
plot_agg_genes | 1.819 | 0.016 | 1.836 | |
plot_agg_regions | 5.202 | 0.028 | 5.230 | |
plot_gene | 1.021 | 0.024 | 1.045 | |
plot_gene_heatmap | 6.668 | 0.016 | 6.684 | |
plot_grange | 1.120 | 0.016 | 1.136 | |
plot_grange_heatmap | 5.11 | 0.02 | 5.13 | |
plot_mds | 1.395 | 0.008 | 1.404 | |
plot_pca | 1.459 | 0.008 | 1.467 | |
plot_region | 0.911 | 0.000 | 0.911 | |
plot_region_heatmap | 4.726 | 0.088 | 4.814 | |
query_methy | 0.360 | 0.004 | 0.363 | |
region_methy_stats | 0.915 | 0.008 | 0.923 | |