Back to Multiple platform build/check report for BioC 3.18:   simplified   long
ABCDEFGHIJKLMNOPQRSTU[V]WXYZ

This page was generated on 2024-03-02 11:37:09 -0500 (Sat, 02 Mar 2024).

HostnameOSArch (*)R versionInstalled pkgs
nebbiolo2Linux (Ubuntu 22.04.3 LTS)x86_644.3.2 Patched (2023-11-13 r85521) -- "Eye Holes" 4692
palomino4Windows Server 2022 Datacenterx644.3.2 (2023-10-31 ucrt) -- "Eye Holes" 4445
lconwaymacOS 12.7.1 Montereyx86_644.3.2 Patched (2023-11-01 r85457) -- "Eye Holes" 4466
Click on any hostname to see more info about the system (e.g. compilers)      (*) as reported by 'uname -p', except on Windows and Mac OS X

Package 2218/2266HostnameOS / ArchINSTALLBUILDCHECKBUILD BIN
VariantFiltering 1.38.0  (landing page)
Robert Castelo
Snapshot Date: 2024-03-01 14:05:09 -0500 (Fri, 01 Mar 2024)
git_url: https://git.bioconductor.org/packages/VariantFiltering
git_branch: RELEASE_3_18
git_last_commit: fa37d53
git_last_commit_date: 2023-10-24 09:58:34 -0500 (Tue, 24 Oct 2023)
nebbiolo2Linux (Ubuntu 22.04.3 LTS) / x86_64  OK    OK    OK  UNNEEDED, same version is already published
palomino4Windows Server 2022 Datacenter / x64  OK    OK    OK    OK  UNNEEDED, same version is already published
lconwaymacOS 12.7.1 Monterey / x86_64  OK    OK    OK    OK  UNNEEDED, same version is already published
kjohnson1macOS 13.6.1 Ventura / arm64see weekly results here

CHECK results for VariantFiltering on palomino4


To the developers/maintainers of the VariantFiltering package:
- Allow up to 24 hours (and sometimes 48 hours) for your latest push to git@git.bioconductor.org:packages/VariantFiltering.git to reflect on this report. See Troubleshooting Build Report for more information.
- Use the following Renviron settings to reproduce errors and warnings.
- If 'R CMD check' started to fail recently on the Linux builder(s) over a missing dependency, add the missing dependency to 'Suggests:' in your DESCRIPTION file. See Renviron.bioc for more information.

raw results


Summary

Package: VariantFiltering
Version: 1.38.0
Command: F:\biocbuild\bbs-3.18-bioc\R\bin\R.exe CMD check --no-multiarch --install=check:VariantFiltering.install-out.txt --library=F:\biocbuild\bbs-3.18-bioc\R\library --no-vignettes --timings VariantFiltering_1.38.0.tar.gz
StartedAt: 2024-03-02 07:34:43 -0500 (Sat, 02 Mar 2024)
EndedAt: 2024-03-02 07:43:44 -0500 (Sat, 02 Mar 2024)
EllapsedTime: 541.1 seconds
RetCode: 0
Status:   OK  
CheckDir: VariantFiltering.Rcheck
Warnings: 0

Command output

##############################################################################
##############################################################################
###
### Running command:
###
###   F:\biocbuild\bbs-3.18-bioc\R\bin\R.exe CMD check --no-multiarch --install=check:VariantFiltering.install-out.txt --library=F:\biocbuild\bbs-3.18-bioc\R\library --no-vignettes --timings VariantFiltering_1.38.0.tar.gz
###
##############################################################################
##############################################################################


* using log directory 'F:/biocbuild/bbs-3.18-bioc/meat/VariantFiltering.Rcheck'
* using R version 4.3.2 (2023-10-31 ucrt)
* using platform: x86_64-w64-mingw32 (64-bit)
* R was compiled by
    gcc.exe (GCC) 12.3.0
    GNU Fortran (GCC) 12.3.0
* running under: Windows Server 2022 x64 (build 20348)
* using session charset: UTF-8
* using option '--no-vignettes'
* checking for file 'VariantFiltering/DESCRIPTION' ... OK
* checking extension type ... Package
* this is package 'VariantFiltering' version '1.38.0'
* checking package namespace information ... OK
* checking package dependencies ... OK
* checking if this is a source package ... OK
* checking if there is a namespace ... OK
* checking for hidden files and directories ... OK
* checking for portable file names ... OK
* checking whether package 'VariantFiltering' can be installed ... OK
* used C compiler: 'gcc.exe (GCC) 12.3.0'
* checking installed package size ... OK
* checking package directory ... OK
* checking 'build' directory ... OK
* checking DESCRIPTION meta-information ... OK
* checking top-level files ... OK
* checking for left-over files ... OK
* checking index information ... OK
* checking package subdirectories ... OK
* checking R files for non-ASCII characters ... OK
* checking R files for syntax errors ... OK
* checking whether the package can be loaded ... OK
* checking whether the package can be loaded with stated dependencies ... OK
* checking whether the package can be unloaded cleanly ... OK
* checking whether the namespace can be loaded with stated dependencies ... OK
* checking whether the namespace can be unloaded cleanly ... OK
* checking startup messages can be suppressed ... OK
* checking dependencies in R code ... NOTE
Unexported objects imported by ':::' calls:
  'S4Vectors:::labeledLine' 'VariantAnnotation:::.checkArgs'
  'VariantAnnotation:::.consolidateHits'
  'VariantAnnotation:::.returnEmpty'
  See the note in ?`:::` about the use of this operator.
There are ::: calls to the package's namespace in its code. A package
  almost never needs to use ::: for its own objects:
  '.adjustForStrandSense' '.ancestorsSO' '.findSOIDs'
* checking S3 generic/method consistency ... OK
* checking replacement functions ... OK
* checking foreign function calls ... OK
* checking R code for possible problems ... OK
* checking Rd files ... OK
* checking Rd metadata ... OK
* checking Rd cross-references ... OK
* checking for missing documentation entries ... OK
* checking for code/documentation mismatches ... OK
* checking Rd \usage sections ... OK
* checking Rd contents ... OK
* checking for unstated dependencies in examples ... OK
* checking line endings in C/C++/Fortran sources/headers ... OK
* checking compiled code ... NOTE
Note: information on .o files for x64 is not available
File 'F:/biocbuild/bbs-3.18-bioc/R/library/VariantFiltering/libs/x64/VariantFiltering.dll':
  Found 'abort', possibly from 'abort' (C), 'runtime' (Fortran)

Compiled code should not call entry points which might terminate R nor
write to stdout/stderr instead of to the console, nor use Fortran I/O
nor system RNGs nor [v]sprintf. The detected symbols are linked into
the code but might come from libraries and not actually be called.

See 'Writing portable packages' in the 'Writing R Extensions' manual.
* checking sizes of PDF files under 'inst/doc' ... OK
* checking files in 'vignettes' ... OK
* checking examples ... OK
Examples with CPU (user + system) or elapsed time > 5s
                            user system elapsed
VariantFilteringParam-class 9.43   5.24    15.2
* checking for unstated dependencies in 'tests' ... OK
* checking tests ...
  Running 'runTests.R'
 OK
* checking for unstated dependencies in vignettes ... OK
* checking package vignettes in 'inst/doc' ... OK
* checking running R code from vignettes ... SKIPPED
* checking re-building of vignette outputs ... SKIPPED
* checking PDF version of manual ... OK
* DONE

Status: 2 NOTEs
See
  'F:/biocbuild/bbs-3.18-bioc/meat/VariantFiltering.Rcheck/00check.log'
for details.



Installation output

VariantFiltering.Rcheck/00install.out

##############################################################################
##############################################################################
###
### Running command:
###
###   F:\biocbuild\bbs-3.18-bioc\R\bin\R.exe CMD INSTALL VariantFiltering
###
##############################################################################
##############################################################################


* installing to library 'F:/biocbuild/bbs-3.18-bioc/R/library'
* installing *source* package 'VariantFiltering' ...
** using staged installation
** libs
using C compiler: 'gcc.exe (GCC) 12.3.0'
gcc  -I"F:/biocbuild/bbs-3.18-bioc/R/include" -DNDEBUG  -I'F:/biocbuild/bbs-3.18-bioc/R/library/S4Vectors/include' -I'F:/biocbuild/bbs-3.18-bioc/R/library/IRanges/include' -I'F:/biocbuild/bbs-3.18-bioc/R/library/XVector/include' -I'F:/biocbuild/bbs-3.18-bioc/R/library/Biostrings/include'   -I"C:/rtools43/x86_64-w64-mingw32.static.posix/include"     -O2 -Wall  -mfpmath=sse -msse2 -mstackrealign  -c Biostrings_stubs.c -o Biostrings_stubs.o
gcc  -I"F:/biocbuild/bbs-3.18-bioc/R/include" -DNDEBUG  -I'F:/biocbuild/bbs-3.18-bioc/R/library/S4Vectors/include' -I'F:/biocbuild/bbs-3.18-bioc/R/library/IRanges/include' -I'F:/biocbuild/bbs-3.18-bioc/R/library/XVector/include' -I'F:/biocbuild/bbs-3.18-bioc/R/library/Biostrings/include'   -I"C:/rtools43/x86_64-w64-mingw32.static.posix/include"     -O2 -Wall  -mfpmath=sse -msse2 -mstackrealign  -c R_init_VariantFiltering.c -o R_init_VariantFiltering.o
gcc  -I"F:/biocbuild/bbs-3.18-bioc/R/include" -DNDEBUG  -I'F:/biocbuild/bbs-3.18-bioc/R/library/S4Vectors/include' -I'F:/biocbuild/bbs-3.18-bioc/R/library/IRanges/include' -I'F:/biocbuild/bbs-3.18-bioc/R/library/XVector/include' -I'F:/biocbuild/bbs-3.18-bioc/R/library/Biostrings/include'   -I"C:/rtools43/x86_64-w64-mingw32.static.posix/include"     -O2 -Wall  -mfpmath=sse -msse2 -mstackrealign  -c methods-WeightMatrix.c -o methods-WeightMatrix.o
gcc -shared -s -static-libgcc -o VariantFiltering.dll tmp.def Biostrings_stubs.o R_init_VariantFiltering.o methods-WeightMatrix.o -LC:/rtools43/x86_64-w64-mingw32.static.posix/lib/x64 -LC:/rtools43/x86_64-w64-mingw32.static.posix/lib -LF:/biocbuild/bbs-3.18-bioc/R/bin/x64 -lR
installing to F:/biocbuild/bbs-3.18-bioc/R/library/00LOCK-VariantFiltering/00new/VariantFiltering/libs/x64
** R
** inst
** byte-compile and prepare package for lazy loading
** help
*** installing help indices
** building package indices
** installing vignettes
** testing if installed package can be loaded from temporary location
** testing if installed package can be loaded from final location
** testing if installed package keeps a record of temporary installation path
* DONE (VariantFiltering)

Tests output

VariantFiltering.Rcheck/tests/runTests.Rout


R version 4.3.2 (2023-10-31 ucrt) -- "Eye Holes"
Copyright (C) 2023 The R Foundation for Statistical Computing
Platform: x86_64-w64-mingw32/x64 (64-bit)

R is free software and comes with ABSOLUTELY NO WARRANTY.
You are welcome to redistribute it under certain conditions.
Type 'license()' or 'licence()' for distribution details.

R is a collaborative project with many contributors.
Type 'contributors()' for more information and
'citation()' on how to cite R or R packages in publications.

Type 'demo()' for some demos, 'help()' for on-line help, or
'help.start()' for an HTML browser interface to help.
Type 'q()' to quit R.

> BiocGenerics:::testPackage("VariantFiltering")

Attaching package: 'BiocGenerics'

The following objects are masked from 'package:stats':

    IQR, mad, sd, var, xtabs

The following objects are masked from 'package:base':

    Filter, Find, Map, Position, Reduce, anyDuplicated, aperm, append,
    as.data.frame, basename, cbind, colnames, dirname, do.call,
    duplicated, eval, evalq, get, grep, grepl, intersect, is.unsorted,
    lapply, mapply, match, mget, order, paste, pmax, pmax.int, pmin,
    pmin.int, rank, rbind, rownames, sapply, setdiff, sort, table,
    tapply, union, unique, unsplit, which.max, which.min


Attaching package: 'MatrixGenerics'

The following objects are masked from 'package:matrixStats':

    colAlls, colAnyNAs, colAnys, colAvgsPerRowSet, colCollapse,
    colCounts, colCummaxs, colCummins, colCumprods, colCumsums,
    colDiffs, colIQRDiffs, colIQRs, colLogSumExps, colMadDiffs,
    colMads, colMaxs, colMeans2, colMedians, colMins, colOrderStats,
    colProds, colQuantiles, colRanges, colRanks, colSdDiffs, colSds,
    colSums2, colTabulates, colVarDiffs, colVars, colWeightedMads,
    colWeightedMeans, colWeightedMedians, colWeightedSds,
    colWeightedVars, rowAlls, rowAnyNAs, rowAnys, rowAvgsPerColSet,
    rowCollapse, rowCounts, rowCummaxs, rowCummins, rowCumprods,
    rowCumsums, rowDiffs, rowIQRDiffs, rowIQRs, rowLogSumExps,
    rowMadDiffs, rowMads, rowMaxs, rowMeans2, rowMedians, rowMins,
    rowOrderStats, rowProds, rowQuantiles, rowRanges, rowRanks,
    rowSdDiffs, rowSds, rowSums2, rowTabulates, rowVarDiffs, rowVars,
    rowWeightedMads, rowWeightedMeans, rowWeightedMedians,
    rowWeightedSds, rowWeightedVars


Attaching package: 'S4Vectors'

The following object is masked from 'package:utils':

    findMatches

The following objects are masked from 'package:base':

    I, expand.grid, unname


Attaching package: 'IRanges'

The following object is masked from 'package:grDevices':

    windows

Welcome to Bioconductor

    Vignettes contain introductory material; view with
    'browseVignettes()'. To cite Bioconductor, see
    'citation("Biobase")', and for packages 'citation("pkgname")'.


Attaching package: 'Biobase'

The following object is masked from 'package:MatrixGenerics':

    rowMedians

The following objects are masked from 'package:matrixStats':

    anyMissing, rowMedians


Attaching package: 'Biostrings'

The following object is masked from 'package:base':

    strsplit


Attaching package: 'VariantAnnotation'

The following object is masked from 'package:base':

    tabulate

Loading BSgenome annotation package BSgenome.Hsapiens.1000genomes.hs37d5
Loading OrgDb annotation package org.Hs.eg.db
Loading TxDb annotation package TxDb.Hsapiens.UCSC.hg19.knownGene
Assuming the genome build of the input variants is hs37d5.
Switching to the UCSC chromosome-name style from the transcript-centric annotation package.
Chromosome chrM has different lengths between the input VCF and the input TxDb pakage. This chromosome will be discarded from further analysis
Assumming hs37d5 and hg19 represent the same genome build.
Discarding scaffold sequences.
Annotating variant type (SNV, Insertion, Deletion, MNV, Delins)
Annotating location with VariantAnnotation::locateVariants()
Annotating coding variants VariantAnnotation::predictCoding()
Annotating codon usage frequencies in coding synonymous variants
Scoring binding sites with weight matrix donorSites.
Scoring binding sites with weight matrix acceptorSites.
1000 variants processed


RUNIT TEST PROTOCOL -- Sat Mar  2 07:43:32 2024 
*********************************************** 
Number of test functions: 6 
Number of errors: 0 
Number of failures: 0 

 
1 Test Suite : 
VariantFiltering RUnit Tests - 6 test functions, 0 errors, 0 failures
Number of test functions: 6 
Number of errors: 0 
Number of failures: 0 
Warning messages:
1: In valid.GenomicRanges.seqinfo(x, suggest.trim = TRUE) :
  GRanges object contains 597 out-of-bound ranges located on sequences
  29194, 29195, 29196, 72038, 72039, 72040, 72041, 72044, 72220, 72222,
  72223, 72224, 71343, 71344, 73323, 73324, 73326, 72882, 72883, 74544,
  73782, 73852, 74055, 74056, 74057, 74058, 74171, 75259, 76673, 76674,
  76675, 76676, 76677, 76679, and 76680. Note that ranges located on a
  sequence whose length is unknown (NA) or on a circular sequence are not
  considered out-of-bound (use seqlengths() and isCircular() to get the
  lengths and circularity flags of the underlying sequences). You can use
  trim() to trim these ranges. See ?`trim,GenomicRanges-method` for more
  information.
2: In (function (seqlevels, genome, new_style)  :
  cannot switch some hg19's seqlevels from UCSC to NCBI style
3: In annotationEngine(variants, param, annotationCache, BPPARAM = BPPARAM) :
  Assumming GRCh37.p13 and hs37d5 represent the same genome build.
4: In valid.GenomicRanges.seqinfo(x, suggest.trim = TRUE) :
  GRanges object contains 597 out-of-bound ranges located on sequences
  29194, 29195, 29196, 72038, 72039, 72040, 72041, 72044, 72220, 72222,
  72223, 72224, 71343, 71344, 73323, 73324, 73326, 72882, 72883, 74544,
  73782, 73852, 74055, 74056, 74057, 74058, 74171, 75259, 76673, 76674,
  76675, 76676, 76677, 76679, and 76680. Note that ranges located on a
  sequence whose length is unknown (NA) or on a circular sequence are not
  considered out-of-bound (use seqlengths() and isCircular() to get the
  lengths and circularity flags of the underlying sequences). You can use
  trim() to trim these ranges. See ?`trim,GenomicRanges-method` for more
  information.
5: In .scoreBindingSiteVariants(variantsVR_annotated, weightMatrices,  :
  Assumming GRCh37.p13 and hs37d5 represent the same genome build.
6: In recycleSingleBracketReplacementValue(value, x, nsbs) :
  number of values supplied is not a sub-multiple of the number of values to be replaced
7: In recycleSingleBracketReplacementValue(value, x, nsbs) :
  number of values supplied is not a sub-multiple of the number of values to be replaced
> 
> proc.time()
   user  system elapsed 
  78.46   10.46  133.64 

Example timings

VariantFiltering.Rcheck/VariantFiltering-Ex.timings

nameusersystemelapsed
GenePhylostrataDb-class000
VariantFilteringParam-class 9.43 5.2415.20
VariantFilteringResults-class000
VariantType-class000
WeightMatrix-class0.010.000.01
autosomalDominant000
autosomalRecessiveHeterozygous000
autosomalRecessiveHomozygous000
deNovo000
readAAradicalChangeMatrix000
unrelatedIndividuals000
xLinked000