Back to Multiple platform build/check report for BioC 3.18: simplified long |
|
This page was generated on 2023-12-07 11:36:12 -0500 (Thu, 07 Dec 2023).
Hostname | OS | Arch (*) | R version | Installed pkgs |
---|---|---|---|---|
nebbiolo2 | Linux (Ubuntu 22.04.2 LTS) | x86_64 | 4.3.2 Patched (2023-11-13 r85521) -- "Eye Holes" | 4688 |
palomino4 | Windows Server 2022 Datacenter | x64 | 4.3.2 (2023-10-31 ucrt) -- "Eye Holes" | 4439 |
lconway | macOS 12.7.1 Monterey | x86_64 | 4.3.2 Patched (2023-11-01 r85457) -- "Eye Holes" | 4458 |
Click on any hostname to see more info about the system (e.g. compilers) (*) as reported by 'uname -p', except on Windows and Mac OS X |
Package 1715/2266 | Hostname | OS / Arch | INSTALL | BUILD | CHECK | BUILD BIN | ||||||||
regutools 1.14.0 (landing page) Joselyn Chavez
| nebbiolo2 | Linux (Ubuntu 22.04.2 LTS) / x86_64 | OK | OK | OK | ![]() | ||||||||
palomino4 | Windows Server 2022 Datacenter / x64 | OK | OK | OK | OK | ![]() | ||||||||
lconway | macOS 12.7.1 Monterey / x86_64 | OK | OK | OK | OK | ![]() | ||||||||
kjohnson1 | macOS 13.6.1 Ventura / arm64 | see weekly results here | ||||||||||||
To the developers/maintainers of the regutools package: - Allow up to 24 hours (and sometimes 48 hours) for your latest push to git@git.bioconductor.org:packages/regutools.git to reflect on this report. See Troubleshooting Build Report for more information. - Use the following Renviron settings to reproduce errors and warnings. - If 'R CMD check' started to fail recently on the Linux builder(s) over a missing dependency, add the missing dependency to 'Suggests:' in your DESCRIPTION file. See Renviron.bioc for more information. |
Package: regutools |
Version: 1.14.0 |
Command: /home/biocbuild/bbs-3.18-bioc/R/bin/R CMD check --install=check:regutools.install-out.txt --library=/home/biocbuild/bbs-3.18-bioc/R/site-library --timings regutools_1.14.0.tar.gz |
StartedAt: 2023-12-07 01:15:25 -0500 (Thu, 07 Dec 2023) |
EndedAt: 2023-12-07 01:24:29 -0500 (Thu, 07 Dec 2023) |
EllapsedTime: 544.3 seconds |
RetCode: 0 |
Status: OK |
CheckDir: regutools.Rcheck |
Warnings: 0 |
############################################################################## ############################################################################## ### ### Running command: ### ### /home/biocbuild/bbs-3.18-bioc/R/bin/R CMD check --install=check:regutools.install-out.txt --library=/home/biocbuild/bbs-3.18-bioc/R/site-library --timings regutools_1.14.0.tar.gz ### ############################################################################## ############################################################################## * using log directory ‘/home/biocbuild/bbs-3.18-bioc/meat/regutools.Rcheck’ * using R version 4.3.2 Patched (2023-11-13 r85521) * using platform: x86_64-pc-linux-gnu (64-bit) * R was compiled by gcc (Ubuntu 11.4.0-1ubuntu1~22.04) 11.4.0 GNU Fortran (Ubuntu 11.4.0-1ubuntu1~22.04) 11.4.0 * running under: Ubuntu 22.04.3 LTS * using session charset: UTF-8 * checking for file ‘regutools/DESCRIPTION’ ... OK * this is package ‘regutools’ version ‘1.14.0’ * package encoding: UTF-8 * checking package namespace information ... OK * checking package dependencies ... OK * checking if this is a source package ... OK * checking if there is a namespace ... OK * checking for hidden files and directories ... OK * checking for portable file names ... OK * checking for sufficient/correct file permissions ... OK * checking whether package ‘regutools’ can be installed ... OK * checking installed package size ... OK * checking package directory ... OK * checking ‘build’ directory ... OK * checking DESCRIPTION meta-information ... OK * checking top-level files ... OK * checking for left-over files ... OK * checking index information ... OK * checking package subdirectories ... OK * checking R files for non-ASCII characters ... OK * checking R files for syntax errors ... OK * checking whether the package can be loaded ... OK * checking whether the package can be loaded with stated dependencies ... OK * checking whether the package can be unloaded cleanly ... OK * checking whether the namespace can be loaded with stated dependencies ... OK * checking whether the namespace can be unloaded cleanly ... OK * checking loading without being on the library search path ... OK * checking dependencies in R code ... OK * checking S3 generic/method consistency ... OK * checking replacement functions ... OK * checking foreign function calls ... OK * checking R code for possible problems ... OK * checking Rd files ... OK * checking Rd metadata ... OK * checking Rd cross-references ... OK * checking for missing documentation entries ... OK * checking for code/documentation mismatches ... OK * checking Rd \usage sections ... OK * checking Rd contents ... OK * checking for unstated dependencies in examples ... OK * checking files in ‘vignettes’ ... OK * checking examples ... OK Examples with CPU (user + system) or elapsed time > 5s user system elapsed plot_dna_objects 9.186 0.748 10.123 build_condition 5.262 0.569 6.314 connect_database 4.857 0.608 5.724 * checking for unstated dependencies in ‘tests’ ... OK * checking tests ... Running ‘testthat.R’ OK * checking for unstated dependencies in vignettes ... OK * checking package vignettes in ‘inst/doc’ ... OK * checking running R code from vignettes ... ‘regutools.Rmd’ using ‘UTF-8’... OK NONE * checking re-building of vignette outputs ... OK * checking PDF version of manual ... OK * DONE Status: OK
regutools.Rcheck/00install.out
############################################################################## ############################################################################## ### ### Running command: ### ### /home/biocbuild/bbs-3.18-bioc/R/bin/R CMD INSTALL regutools ### ############################################################################## ############################################################################## * installing to library ‘/home/biocbuild/bbs-3.18-bioc/R/site-library’ * installing *source* package ‘regutools’ ... ** using staged installation ** R ** inst ** byte-compile and prepare package for lazy loading ** help *** installing help indices *** copying figures ** building package indices ** installing vignettes ** testing if installed package can be loaded from temporary location ** testing if installed package can be loaded from final location ** testing if installed package keeps a record of temporary installation path * DONE (regutools)
regutools.Rcheck/tests/testthat.Rout
R version 4.3.2 Patched (2023-11-13 r85521) -- "Eye Holes" Copyright (C) 2023 The R Foundation for Statistical Computing Platform: x86_64-pc-linux-gnu (64-bit) R is free software and comes with ABSOLUTELY NO WARRANTY. You are welcome to redistribute it under certain conditions. Type 'license()' or 'licence()' for distribution details. R is a collaborative project with many contributors. Type 'contributors()' for more information and 'citation()' on how to cite R or R packages in publications. Type 'demo()' for some demos, 'help()' for on-line help, or 'help.start()' for an HTML browser interface to help. Type 'q()' to quit R. > library("testthat") > library("regutools") > > test_check("regutools") [ FAIL 0 | WARN 0 | SKIP 0 | PASS 110 ] Warning message: call dbDisconnect() when finished working with a connection > > proc.time() user system elapsed 76.800 6.839 86.937
regutools.Rcheck/regutools-Ex.timings
name | user | system | elapsed | |
build_condition | 5.262 | 0.569 | 6.314 | |
connect_database | 4.857 | 0.608 | 5.724 | |
convert_to_biostrings | 3.910 | 0.332 | 4.464 | |
convert_to_granges | 3.617 | 0.319 | 4.120 | |
existing_intervals | 0.001 | 0.001 | 0.001 | |
existing_partial_match | 0 | 0 | 0 | |
get_binding_sites | 3.517 | 0.227 | 3.936 | |
get_dataset | 3.664 | 0.312 | 4.158 | |
get_dna_objects | 3.771 | 0.276 | 4.233 | |
get_gene_regulators | 3.838 | 0.340 | 4.373 | |
get_gene_synonyms | 3.530 | 0.339 | 4.078 | |
get_regulatory_network | 3.429 | 0.223 | 3.835 | |
get_regulatory_summary | 3.652 | 0.312 | 4.161 | |
guess_id | 3.477 | 0.331 | 4.001 | |
list_attributes | 3.426 | 0.292 | 3.907 | |
list_datasets | 3.378 | 0.288 | 3.858 | |
non_existing_intervals | 0.000 | 0.000 | 0.001 | |
plot_dna_objects | 9.186 | 0.748 | 10.123 | |
regulondb | 3.441 | 0.332 | 4.011 | |