Back to Multiple platform build/check report for BioC 3.18:   simplified   long
ABCDEFGHIJKLMNO[P]QRSTUVWXYZ

This page was generated on 2024-02-22 11:37:05 -0500 (Thu, 22 Feb 2024).

HostnameOSArch (*)R versionInstalled pkgs
nebbiolo2Linux (Ubuntu 22.04.3 LTS)x86_644.3.2 Patched (2023-11-13 r85521) -- "Eye Holes" 4691
palomino4Windows Server 2022 Datacenterx644.3.2 (2023-10-31 ucrt) -- "Eye Holes" 4444
lconwaymacOS 12.7.1 Montereyx86_644.3.2 Patched (2023-11-01 r85457) -- "Eye Holes" 4465
Click on any hostname to see more info about the system (e.g. compilers)      (*) as reported by 'uname -p', except on Windows and Mac OS X

Package 1513/2266HostnameOS / ArchINSTALLBUILDCHECKBUILD BIN
pcaMethods 1.94.0  (landing page)
Henning Redestig
Snapshot Date: 2024-02-21 14:05:05 -0500 (Wed, 21 Feb 2024)
git_url: https://git.bioconductor.org/packages/pcaMethods
git_branch: RELEASE_3_18
git_last_commit: 5bb47fc
git_last_commit_date: 2023-10-24 09:37:22 -0500 (Tue, 24 Oct 2023)
nebbiolo2Linux (Ubuntu 22.04.3 LTS) / x86_64  OK    OK    OK  UNNEEDED, same version is already published
palomino4Windows Server 2022 Datacenter / x64  OK    OK    OK    OK  UNNEEDED, same version is already published
lconwaymacOS 12.7.1 Monterey / x86_64  OK    OK    OK    OK  UNNEEDED, same version is already published
kjohnson1macOS 13.6.1 Ventura / arm64see weekly results here

CHECK results for pcaMethods on palomino4


To the developers/maintainers of the pcaMethods package:
- Allow up to 24 hours (and sometimes 48 hours) for your latest push to git@git.bioconductor.org:packages/pcaMethods.git to reflect on this report. See Troubleshooting Build Report for more information.
- Use the following Renviron settings to reproduce errors and warnings.
- If 'R CMD check' started to fail recently on the Linux builder(s) over a missing dependency, add the missing dependency to 'Suggests:' in your DESCRIPTION file. See Renviron.bioc for more information.

raw results


Summary

Package: pcaMethods
Version: 1.94.0
Command: F:\biocbuild\bbs-3.18-bioc\R\bin\R.exe CMD check --no-multiarch --install=check:pcaMethods.install-out.txt --library=F:\biocbuild\bbs-3.18-bioc\R\library --no-vignettes --timings pcaMethods_1.94.0.tar.gz
StartedAt: 2024-02-22 04:51:51 -0500 (Thu, 22 Feb 2024)
EndedAt: 2024-02-22 04:54:00 -0500 (Thu, 22 Feb 2024)
EllapsedTime: 128.7 seconds
RetCode: 0
Status:   OK  
CheckDir: pcaMethods.Rcheck
Warnings: 0

Command output

##############################################################################
##############################################################################
###
### Running command:
###
###   F:\biocbuild\bbs-3.18-bioc\R\bin\R.exe CMD check --no-multiarch --install=check:pcaMethods.install-out.txt --library=F:\biocbuild\bbs-3.18-bioc\R\library --no-vignettes --timings pcaMethods_1.94.0.tar.gz
###
##############################################################################
##############################################################################


* using log directory 'F:/biocbuild/bbs-3.18-bioc/meat/pcaMethods.Rcheck'
* using R version 4.3.2 (2023-10-31 ucrt)
* using platform: x86_64-w64-mingw32 (64-bit)
* R was compiled by
    gcc.exe (GCC) 12.3.0
    GNU Fortran (GCC) 12.3.0
* running under: Windows Server 2022 x64 (build 20348)
* using session charset: UTF-8
* using option '--no-vignettes'
* checking for file 'pcaMethods/DESCRIPTION' ... OK
* this is package 'pcaMethods' version '1.94.0'
* package encoding: UTF-8
* checking package namespace information ... OK
* checking package dependencies ... OK
* checking if this is a source package ... OK
* checking if there is a namespace ... OK
* checking for hidden files and directories ... OK
* checking for portable file names ... OK
* checking whether package 'pcaMethods' can be installed ... OK
* used C++ compiler: 'G__~1.EXE (GCC) 12.3.0'
* checking installed package size ... OK
* checking package directory ... OK
* checking 'build' directory ... OK
* checking DESCRIPTION meta-information ... OK
* checking top-level files ... OK
* checking for left-over files ... OK
* checking index information ... OK
* checking package subdirectories ... OK
* checking R files for non-ASCII characters ... OK
* checking R files for syntax errors ... OK
* checking whether the package can be loaded ... OK
* checking whether the package can be loaded with stated dependencies ... OK
* checking whether the package can be unloaded cleanly ... OK
* checking whether the namespace can be loaded with stated dependencies ... OK
* checking whether the namespace can be unloaded cleanly ... OK
* checking dependencies in R code ... OK
* checking S3 generic/method consistency ... OK
* checking replacement functions ... OK
* checking foreign function calls ... OK
* checking R code for possible problems ... NOTE
BPCA_initmodel: no visible global function definition for 'cov'
Q2: no visible global function definition for 'txtProgressBar'
Q2: no visible global function definition for 'setTxtProgressBar'
Q2: no visible global function definition for 'cor'
RnipalsPca: no visible global function definition for 'na.omit'
cvseg : <anonymous>: no visible global function definition for
  'na.omit'
llsImpute: no visible global function definition for 'cor'
nlpca: no visible global function definition for 'runif'
nlpca: no visible global function definition for 'rnorm'
plot.pcaRes: no visible global function definition for 'gray'
plot.pcaRes: no visible global function definition for 'barplot'
plot.pcaRes: no visible global function definition for 'legend'
plotPcs : panel: no visible global function definition for 'abline'
plotPcs : panel: no visible global function definition for 'lines'
plotPcs : panel: no visible global function definition for 'points'
plotPcs : panel: no visible global function definition for 'text'
plotPcs: no visible global function definition for 'pairs'
ppca: no visible global function definition for 'rnorm'
ppca: no visible global function definition for 'cov'
robustSvd: no visible binding for global variable 'median'
simpleEllipse: no visible global function definition for 'qf'
svdImpute: no visible global function definition for 'prcomp'
svdPca: no visible global function definition for 'prcomp'
plot,pcaRes: no visible global function definition for 'gray'
plot,pcaRes: no visible global function definition for 'barplot'
plot,pcaRes: no visible global function definition for 'legend'
slplot,pcaRes: no visible global function definition for 'par'
slplot,pcaRes: no visible global function definition for 'layout'
slplot,pcaRes: no visible global function definition for 'abline'
slplot,pcaRes: no visible global function definition for 'lines'
Undefined global functions or variables:
  abline barplot cor cov gray layout legend lines median na.omit pairs
  par points prcomp qf rnorm runif setTxtProgressBar text
  txtProgressBar
Consider adding
  importFrom("grDevices", "gray")
  importFrom("graphics", "abline", "barplot", "layout", "legend",
             "lines", "pairs", "par", "points", "text")
  importFrom("stats", "cor", "cov", "median", "na.omit", "prcomp", "qf",
             "rnorm", "runif")
  importFrom("utils", "setTxtProgressBar", "txtProgressBar")
to your NAMESPACE file.
* checking Rd files ... OK
* checking Rd metadata ... OK
* checking Rd cross-references ... OK
* checking for missing documentation entries ... OK
* checking for code/documentation mismatches ... OK
* checking Rd \usage sections ... OK
* checking Rd contents ... OK
* checking for unstated dependencies in examples ... OK
* checking contents of 'data' directory ... OK
* checking data for non-ASCII characters ... OK
* checking data for ASCII and uncompressed saves ... OK
* checking line endings in C/C++/Fortran sources/headers ... OK
* checking compiled code ... NOTE
Note: information on .o files for x64 is not available
File 'F:/biocbuild/bbs-3.18-bioc/R/library/pcaMethods/libs/x64/pcaMethods.dll':
  Found 'abort', possibly from 'abort' (C), 'runtime' (Fortran)
  Found 'exit', possibly from 'exit' (C), 'stop' (Fortran)

Compiled code should not call entry points which might terminate R nor
write to stdout/stderr instead of to the console, nor use Fortran I/O
nor system RNGs nor [v]sprintf. The detected symbols are linked into
the code but might come from libraries and not actually be called.

See 'Writing portable packages' in the 'Writing R Extensions' manual.
* checking sizes of PDF files under 'inst/doc' ... OK
* checking files in 'vignettes' ... OK
* checking examples ... OK
Examples with CPU (user + system) or elapsed time > 5s
           user system elapsed
kEstimate 43.60   3.89   47.50
robustSvd  8.29   0.04    8.33
* checking for unstated dependencies in vignettes ... OK
* checking package vignettes in 'inst/doc' ... OK
* checking running R code from vignettes ... SKIPPED
* checking re-building of vignette outputs ... SKIPPED
* checking PDF version of manual ... OK
* DONE

Status: 2 NOTEs
See
  'F:/biocbuild/bbs-3.18-bioc/meat/pcaMethods.Rcheck/00check.log'
for details.



Installation output

pcaMethods.Rcheck/00install.out

##############################################################################
##############################################################################
###
### Running command:
###
###   F:\biocbuild\bbs-3.18-bioc\R\bin\R.exe CMD INSTALL pcaMethods
###
##############################################################################
##############################################################################


* installing to library 'F:/biocbuild/bbs-3.18-bioc/R/library'
* installing *source* package 'pcaMethods' ...
** using staged installation
** libs
using C++ compiler: 'G__~1.EXE (GCC) 12.3.0'
g++ -std=gnu++17  -I"F:/biocbuild/bbs-3.18-bioc/R/include" -DNDEBUG  -I'F:/biocbuild/bbs-3.18-bioc/R/library/Rcpp/include'   -I"C:/rtools43/x86_64-w64-mingw32.static.posix/include"     -O2 -Wall  -mfpmath=sse -msse2 -mstackrealign  -c RcppExports.cpp -o RcppExports.o
g++ -std=gnu++17  -I"F:/biocbuild/bbs-3.18-bioc/R/include" -DNDEBUG  -I'F:/biocbuild/bbs-3.18-bioc/R/library/Rcpp/include'   -I"C:/rtools43/x86_64-w64-mingw32.static.posix/include"     -O2 -Wall  -mfpmath=sse -msse2 -mstackrealign  -c nipals.cpp -o nipals.o
g++ -std=gnu++17 -shared -s -static-libgcc -o pcaMethods.dll tmp.def RcppExports.o nipals.o -LC:/rtools43/x86_64-w64-mingw32.static.posix/lib/x64 -LC:/rtools43/x86_64-w64-mingw32.static.posix/lib -LF:/biocbuild/bbs-3.18-bioc/R/bin/x64 -lR
installing to F:/biocbuild/bbs-3.18-bioc/R/library/00LOCK-pcaMethods/00new/pcaMethods/libs/x64
** R
** data
** inst
** byte-compile and prepare package for lazy loading
Creating a new generic function for 'loadings' in package 'pcaMethods'
** help
*** installing help indices
** building package indices
** installing vignettes
** testing if installed package can be loaded from temporary location
** testing if installed package can be loaded from final location
** testing if installed package keeps a record of temporary installation path
* DONE (pcaMethods)

Tests output


Example timings

pcaMethods.Rcheck/pcaMethods-Ex.timings

nameusersystemelapsed
DModX-pcaRes-method0.050.000.04
Q20.110.020.13
R2VX-pcaRes-method0.020.000.02
RnipalsPca0.220.010.23
biplot-methods0.010.000.02
bpca0.550.140.69
cvseg000
fitted-methods0.020.000.01
kEstimate43.60 3.8947.50
kEstimateFast0.290.000.28
leverage-pcaRes-method0.010.000.02
llsImpute0.130.040.16
nipalsPca0.010.000.01
nlpca1.280.001.28
nni0.080.030.11
pca1.030.071.13
plot.pcaRes0.190.000.18
plotPcs0.030.000.04
ppca0.100.040.12
predict-methods0.010.000.02
prep000
rediduals-methods0.000.010.01
robustPca3.380.063.44
robustSvd8.290.048.33
slplot-pcaRes-method0.020.000.01
svdImpute0.080.000.08
svdPca0.020.000.01
wasna-pcaRes-method0.040.000.05