Back to Multiple platform build/check report for BioC 3.18:   simplified   long
ABCDEFGHIJKLMNO[P]QRSTUVWXYZ

This page was generated on 2023-12-07 11:35:19 -0500 (Thu, 07 Dec 2023).

HostnameOSArch (*)R versionInstalled pkgs
nebbiolo2Linux (Ubuntu 22.04.2 LTS)x86_644.3.2 Patched (2023-11-13 r85521) -- "Eye Holes" 4688
palomino4Windows Server 2022 Datacenterx644.3.2 (2023-10-31 ucrt) -- "Eye Holes" 4439
lconwaymacOS 12.7.1 Montereyx86_644.3.2 Patched (2023-11-01 r85457) -- "Eye Holes" 4458
Click on any hostname to see more info about the system (e.g. compilers)      (*) as reported by 'uname -p', except on Windows and Mac OS X

All results for package pRoloc


To the developers/maintainers of the pRoloc package:
- Allow up to 24 hours (and sometimes 48 hours) for your latest push to git@git.bioconductor.org:packages/pRoloc.git to reflect on this report. See Troubleshooting Build Report for more information.
- Use the following Renviron settings to reproduce errors and warnings.
- If 'R CMD check' started to fail recently on the Linux builder(s) over a missing dependency, add the missing dependency to 'Suggests:' in your DESCRIPTION file. See Renviron.bioc for more information.

raw results

Package 1595/2266HostnameOS / ArchINSTALLBUILDCHECKBUILD BIN
pRoloc 1.42.0  (landing page)
Laurent Gatto
Snapshot Date: 2023-12-06 14:05:06 -0500 (Wed, 06 Dec 2023)
git_url: https://git.bioconductor.org/packages/pRoloc
git_branch: RELEASE_3_18
git_last_commit: 0954c0e
git_last_commit_date: 2023-10-24 09:52:04 -0500 (Tue, 24 Oct 2023)
nebbiolo2Linux (Ubuntu 22.04.2 LTS) / x86_64  OK    OK    OK  UNNEEDED, same version is already published
palomino4Windows Server 2022 Datacenter / x64  OK    OK    OK    OK  UNNEEDED, same version is already published
lconwaymacOS 12.7.1 Monterey / x86_64  OK    OK    OK    OK  UNNEEDED, same version is already published
kjohnson1macOS 13.6.1 Ventura / arm64see weekly results here

Results for Bioconductor software packages that depend directly on package pRoloc

QUICK STATSOS / ArchINSTALLBUILDCHECKBUILD BIN
nebbiolo2Linux (Ubuntu 22.04.2 LTS) / x86_64
002
002
0002
palomino4Windows Server 2022 Datacenter / x64
002
002
0002
002
lconwaymacOS 12.7.1 Monterey / x86_64
002
002
0002
002
Package 1/2HostnameOS / ArchINSTALLBUILDCHECKBUILD BIN
bandle 1.6.0  (landing page)
Oliver M. Crook
git_last_commit: 94e6ac6
git_last_commit_date: 2023-10-24 11:41:12 -0500
nebbiolo2Linux (Ubuntu 22.04.2 LTS) / x86_64  OK    OK    OK  UNNEEDED, same version is already published
palomino4Windows Server 2022 Datacenter / x64  OK    OK    OK    OK  UNNEEDED, same version is already published
lconwaymacOS 12.7.1 Monterey / x86_64  OK    OK    OK    OK  UNNEEDED, same version is already published
kjohnson1macOS 13.6.1 Ventura / arm64see weekly results here
Package 2/2HostnameOS / ArchINSTALLBUILDCHECKBUILD BIN
pRolocGUI 2.12.0  (landing page)
Lisa Breckels
git_last_commit: 8622a9d
git_last_commit_date: 2023-10-24 09:59:48 -0500
nebbiolo2Linux (Ubuntu 22.04.2 LTS) / x86_64  OK    OK    OK  UNNEEDED, same version is already published
palomino4Windows Server 2022 Datacenter / x64  OK    OK    OK    OK  UNNEEDED, same version is already published
lconwaymacOS 12.7.1 Monterey / x86_64  OK    OK    OK    OK  UNNEEDED, same version is already published
kjohnson1macOS 13.6.1 Ventura / arm64see weekly results here