Back to Multiple platform build/check report for BioC 3.18:   simplified   long
ABCDEFGHIJ[K]LMNOPQRSTUVWXYZ

This page was generated on 2023-12-07 11:35:11 -0500 (Thu, 07 Dec 2023).

HostnameOSArch (*)R versionInstalled pkgs
nebbiolo2Linux (Ubuntu 22.04.2 LTS)x86_644.3.2 Patched (2023-11-13 r85521) -- "Eye Holes" 4688
palomino4Windows Server 2022 Datacenterx644.3.2 (2023-10-31 ucrt) -- "Eye Holes" 4439
lconwaymacOS 12.7.1 Montereyx86_644.3.2 Patched (2023-11-01 r85457) -- "Eye Holes" 4458
Click on any hostname to see more info about the system (e.g. compilers)      (*) as reported by 'uname -p', except on Windows and Mac OS X

All results for package KEGGgraph


To the developers/maintainers of the KEGGgraph package:
- Allow up to 24 hours (and sometimes 48 hours) for your latest push to git@git.bioconductor.org:packages/KEGGgraph.git to reflect on this report. See Troubleshooting Build Report for more information.
- Use the following Renviron settings to reproduce errors and warnings.
- If 'R CMD check' started to fail recently on the Linux builder(s) over a missing dependency, add the missing dependency to 'Suggests:' in your DESCRIPTION file. See Renviron.bioc for more information.

raw results

Package 1076/2266HostnameOS / ArchINSTALLBUILDCHECKBUILD BIN
KEGGgraph 1.62.0  (landing page)
Jitao David Zhang
Snapshot Date: 2023-12-06 14:05:06 -0500 (Wed, 06 Dec 2023)
git_url: https://git.bioconductor.org/packages/KEGGgraph
git_branch: RELEASE_3_18
git_last_commit: 4ef50f7
git_last_commit_date: 2023-10-24 09:41:17 -0500 (Tue, 24 Oct 2023)
nebbiolo2Linux (Ubuntu 22.04.2 LTS) / x86_64  OK    OK    WARNINGS  UNNEEDED, same version is already published
palomino4Windows Server 2022 Datacenter / x64  OK    OK    WARNINGS    OK  UNNEEDED, same version is already published
lconwaymacOS 12.7.1 Monterey / x86_64  OK    OK    WARNINGS    OK  UNNEEDED, same version is already published
kjohnson1macOS 13.6.1 Ventura / arm64see weekly results here

Results for Bioconductor software packages that depend directly on package KEGGgraph

QUICK STATSOS / ArchINSTALLBUILDCHECKBUILD BIN
nebbiolo2Linux (Ubuntu 22.04.2 LTS) / x86_64
0011
0110
0028
palomino4Windows Server 2022 Datacenter / x64
009
018
0026
008
lconwaymacOS 12.7.1 Monterey / x86_64
009
018
0026
008
Package 1/11HostnameOS / ArchINSTALLBUILDCHECKBUILD BIN
clipper 1.42.0  (landing page)
Paolo Martini
git_last_commit: f54f1b2
git_last_commit_date: 2023-10-24 09:52:34 -0500
nebbiolo2Linux (Ubuntu 22.04.2 LTS) / x86_64  OK    OK    OK  UNNEEDED, same version is already published
palomino4Windows Server 2022 Datacenter / x64  OK    OK    OK    OK  UNNEEDED, same version is already published
lconwaymacOS 12.7.1 Monterey / x86_64  OK    OK    OK    OK  UNNEEDED, same version is already published
kjohnson1macOS 13.6.1 Ventura / arm64see weekly results here
Package 2/11HostnameOS / ArchINSTALLBUILDCHECKBUILD BIN
DEGraph 1.54.0  (landing page)
Laurent Jacob
git_last_commit: a266633
git_last_commit_date: 2023-10-24 09:45:16 -0500
nebbiolo2Linux (Ubuntu 22.04.2 LTS) / x86_64  OK    OK    OK  UNNEEDED, same version is already published
palomino4Windows Server 2022 Datacenter / x64... NOT SUPPORTED ...
lconwaymacOS 12.7.1 Monterey / x86_64... NOT SUPPORTED ...
kjohnson1macOS 13.6.1 Ventura / arm64see weekly results here
Package 3/11HostnameOS / ArchINSTALLBUILDCHECKBUILD BIN
EnrichmentBrowser 2.32.0  (landing page)
Ludwig Geistlinger
git_last_commit: a2bb60b
git_last_commit_date: 2023-10-24 10:38:31 -0500
nebbiolo2Linux (Ubuntu 22.04.2 LTS) / x86_64  OK    OK    OK  UNNEEDED, same version is already published
palomino4Windows Server 2022 Datacenter / x64  OK    OK    OK    OK  UNNEEDED, same version is already published
lconwaymacOS 12.7.1 Monterey / x86_64  OK    OK    OK    OK  UNNEEDED, same version is already published
kjohnson1macOS 13.6.1 Ventura / arm64see weekly results here
Package 4/11HostnameOS / ArchINSTALLBUILDCHECKBUILD BIN
KEGGlincs 1.28.0  (landing page)
Shana White , Mario Medvedovic
git_last_commit: ec74033
git_last_commit_date: 2023-10-24 10:53:15 -0500
nebbiolo2Linux (Ubuntu 22.04.2 LTS) / x86_64  OK    OK    OK  UNNEEDED, same version is already published
palomino4Windows Server 2022 Datacenter / x64  OK    OK    OK    OK  UNNEEDED, same version is already published
lconwaymacOS 12.7.1 Monterey / x86_64  OK    OK    OK    OK  UNNEEDED, same version is already published
kjohnson1macOS 13.6.1 Ventura / arm64see weekly results here
Package 5/11HostnameOS / ArchINSTALLBUILDCHECKBUILD BIN
MetaboSignal 1.32.0  (landing page)
Andrea Rodriguez-Martinez
git_last_commit: bac5295
git_last_commit_date: 2023-10-24 10:52:29 -0500
nebbiolo2Linux (Ubuntu 22.04.2 LTS) / x86_64  OK    OK    OK  UNNEEDED, same version is already published
palomino4Windows Server 2022 Datacenter / x64  OK    OK    OK    OK  UNNEEDED, same version is already published
lconwaymacOS 12.7.1 Monterey / x86_64  OK    OK    OK    OK  UNNEEDED, same version is already published
kjohnson1macOS 13.6.1 Ventura / arm64see weekly results here
Package 6/11HostnameOS / ArchINSTALLBUILDCHECKBUILD BIN
MWASTools 1.26.0  (landing page)
Andrea Rodriguez-Martinez , Rafael Ayala
git_last_commit: 14a0245
git_last_commit_date: 2023-10-24 10:54:16 -0500
nebbiolo2Linux (Ubuntu 22.04.2 LTS) / x86_64  OK    OK    OK  UNNEEDED, same version is already published
palomino4Windows Server 2022 Datacenter / x64  OK    OK    OK    OK  UNNEEDED, same version is already published
lconwaymacOS 12.7.1 Monterey / x86_64  OK    OK    OK    OK  UNNEEDED, same version is already published
kjohnson1macOS 13.6.1 Ventura / arm64see weekly results here
Package 7/11HostnameOS / ArchINSTALLBUILDCHECKBUILD BIN
NCIgraph 1.50.0  (landing page)
Laurent Jacob
git_last_commit: fc6019c
git_last_commit_date: 2023-10-24 09:46:25 -0500
nebbiolo2Linux (Ubuntu 22.04.2 LTS) / x86_64  OK    OK    OK  UNNEEDED, same version is already published
palomino4Windows Server 2022 Datacenter / x64... NOT SUPPORTED ...
lconwaymacOS 12.7.1 Monterey / x86_64... NOT SUPPORTED ...
kjohnson1macOS 13.6.1 Ventura / arm64see weekly results here
Package 8/11HostnameOS / ArchINSTALLBUILDCHECKBUILD BIN
pathview 1.42.0  (landing page)
Weijun Luo
git_last_commit: 875d8f8
git_last_commit_date: 2023-10-24 09:53:13 -0500
nebbiolo2Linux (Ubuntu 22.04.2 LTS) / x86_64  OK    OK    WARNINGS  UNNEEDED, same version is already published
palomino4Windows Server 2022 Datacenter / x64  OK    OK    WARNINGS    OK  UNNEEDED, same version is already published
lconwaymacOS 12.7.1 Monterey / x86_64  OK    OK    WARNINGS    OK  UNNEEDED, same version is already published
kjohnson1macOS 13.6.1 Ventura / arm64see weekly results here
Package 9/11HostnameOS / ArchINSTALLBUILDCHECKBUILD BIN
PFP 1.10.0  (landing page)
XC Zhang
git_last_commit: d240458
git_last_commit_date: 2023-10-24 11:28:51 -0500
nebbiolo2Linux (Ubuntu 22.04.2 LTS) / x86_64  OK    ERROR  skipped
palomino4Windows Server 2022 Datacenter / x64  OK    ERROR  skippedskipped
lconwaymacOS 12.7.1 Monterey / x86_64  OK    ERROR  skippedskipped
kjohnson1macOS 13.6.1 Ventura / arm64see weekly results here
Package 10/11HostnameOS / ArchINSTALLBUILDCHECKBUILD BIN
ROntoTools 2.30.0  (landing page)
Sorin Draghici
git_last_commit: 3529209
git_last_commit_date: 2023-10-24 09:53:31 -0500
nebbiolo2Linux (Ubuntu 22.04.2 LTS) / x86_64  OK    OK    WARNINGS  UNNEEDED, same version is already published
palomino4Windows Server 2022 Datacenter / x64  OK    OK    WARNINGS    OK  UNNEEDED, same version is already published
lconwaymacOS 12.7.1 Monterey / x86_64  OK    OK    WARNINGS    OK  UNNEEDED, same version is already published
kjohnson1macOS 13.6.1 Ventura / arm64see weekly results here
Package 11/11HostnameOS / ArchINSTALLBUILDCHECKBUILD BIN
SPIA 2.54.0  (landing page)
Adi Laurentiu Tarca
git_last_commit: aa77d25
git_last_commit_date: 2023-10-24 09:41:26 -0500
nebbiolo2Linux (Ubuntu 22.04.2 LTS) / x86_64  OK    OK    OK  UNNEEDED, same version is already published
palomino4Windows Server 2022 Datacenter / x64  OK    OK    OK    OK  UNNEEDED, same version is already published
lconwaymacOS 12.7.1 Monterey / x86_64  OK    OK    OK    OK  UNNEEDED, same version is already published
kjohnson1macOS 13.6.1 Ventura / arm64see weekly results here