Back to Multiple platform build/check report for BioC 3.18:   simplified   long
ABCDEFGHIJK[L]MNOPQRSTUVWXYZ

This page was generated on 2024-02-20 11:36:58 -0500 (Tue, 20 Feb 2024).

HostnameOSArch (*)R versionInstalled pkgs
nebbiolo2Linux (Ubuntu 22.04.3 LTS)x86_644.3.2 Patched (2023-11-13 r85521) -- "Eye Holes" 4690
palomino4Windows Server 2022 Datacenterx644.3.2 (2023-10-31 ucrt) -- "Eye Holes" 4443
lconwaymacOS 12.7.1 Montereyx86_644.3.2 Patched (2023-11-01 r85457) -- "Eye Holes" 4464
Click on any hostname to see more info about the system (e.g. compilers)      (*) as reported by 'uname -p', except on Windows and Mac OS X

Package 1120/2266HostnameOS / ArchINSTALLBUILDCHECKBUILD BIN
LymphoSeq 1.30.0  (landing page)
David Coffey
Snapshot Date: 2024-02-19 14:05:07 -0500 (Mon, 19 Feb 2024)
git_url: https://git.bioconductor.org/packages/LymphoSeq
git_branch: RELEASE_3_18
git_last_commit: a2049d8
git_last_commit_date: 2023-10-24 10:49:45 -0500 (Tue, 24 Oct 2023)
nebbiolo2Linux (Ubuntu 22.04.3 LTS) / x86_64  OK    OK    OK  UNNEEDED, same version is already published
palomino4Windows Server 2022 Datacenter / x64  OK    OK    OK    OK  UNNEEDED, same version is already published
lconwaymacOS 12.7.1 Monterey / x86_64  OK    OK    OK    OK  UNNEEDED, same version is already published
kjohnson1macOS 13.6.1 Ventura / arm64see weekly results here

CHECK results for LymphoSeq on palomino4


To the developers/maintainers of the LymphoSeq package:
- Allow up to 24 hours (and sometimes 48 hours) for your latest push to git@git.bioconductor.org:packages/LymphoSeq.git to reflect on this report. See Troubleshooting Build Report for more information.
- Use the following Renviron settings to reproduce errors and warnings.
- If 'R CMD check' started to fail recently on the Linux builder(s) over a missing dependency, add the missing dependency to 'Suggests:' in your DESCRIPTION file. See Renviron.bioc for more information.

raw results


Summary

Package: LymphoSeq
Version: 1.30.0
Command: F:\biocbuild\bbs-3.18-bioc\R\bin\R.exe CMD check --no-multiarch --install=check:LymphoSeq.install-out.txt --library=F:\biocbuild\bbs-3.18-bioc\R\library --no-vignettes --timings LymphoSeq_1.30.0.tar.gz
StartedAt: 2024-02-20 03:22:21 -0500 (Tue, 20 Feb 2024)
EndedAt: 2024-02-20 03:25:47 -0500 (Tue, 20 Feb 2024)
EllapsedTime: 206.0 seconds
RetCode: 0
Status:   OK  
CheckDir: LymphoSeq.Rcheck
Warnings: 0

Command output

##############################################################################
##############################################################################
###
### Running command:
###
###   F:\biocbuild\bbs-3.18-bioc\R\bin\R.exe CMD check --no-multiarch --install=check:LymphoSeq.install-out.txt --library=F:\biocbuild\bbs-3.18-bioc\R\library --no-vignettes --timings LymphoSeq_1.30.0.tar.gz
###
##############################################################################
##############################################################################


* using log directory 'F:/biocbuild/bbs-3.18-bioc/meat/LymphoSeq.Rcheck'
* using R version 4.3.2 (2023-10-31 ucrt)
* using platform: x86_64-w64-mingw32 (64-bit)
* R was compiled by
    gcc.exe (GCC) 12.3.0
    GNU Fortran (GCC) 12.3.0
* running under: Windows Server 2022 x64 (build 20348)
* using session charset: UTF-8
* using option '--no-vignettes'
* checking for file 'LymphoSeq/DESCRIPTION' ... OK
* this is package 'LymphoSeq' version '1.30.0'
* checking package namespace information ... OK
* checking package dependencies ... OK
* checking if this is a source package ... OK
* checking if there is a namespace ... OK
* checking for hidden files and directories ... OK
* checking for portable file names ... OK
* checking whether package 'LymphoSeq' can be installed ... OK
* checking installed package size ... NOTE
  installed size is  5.7Mb
  sub-directories of 1Mb or more:
    extdata   5.5Mb
* checking package directory ... OK
* checking 'build' directory ... OK
* checking DESCRIPTION meta-information ... OK
* checking top-level files ... OK
* checking for left-over files ... OK
* checking index information ... OK
* checking package subdirectories ... OK
* checking R files for non-ASCII characters ... OK
* checking R files for syntax errors ... OK
* checking whether the package can be loaded ... OK
* checking whether the package can be loaded with stated dependencies ... OK
* checking whether the package can be unloaded cleanly ... OK
* checking whether the namespace can be loaded with stated dependencies ... OK
* checking whether the namespace can be unloaded cleanly ... OK
* checking dependencies in R code ... OK
* checking S3 generic/method consistency ... OK
* checking replacement functions ... OK
* checking foreign function calls ... OK
* checking R code for possible problems ... OK
* checking Rd files ... OK
* checking Rd metadata ... OK
* checking Rd cross-references ... OK
* checking for missing documentation entries ... OK
* checking for code/documentation mismatches ... OK
* checking Rd \usage sections ... OK
* checking Rd contents ... OK
* checking for unstated dependencies in examples ... OK
* checking files in 'vignettes' ... OK
* checking examples ... OK
Examples with CPU (user + system) or elapsed time > 5s
               user system elapsed
cloneTrack    30.16   0.84   32.81
productiveSeq 21.41   0.34   21.75
phyloTree      5.31   0.04    5.38
* checking for unstated dependencies in vignettes ... OK
* checking package vignettes in 'inst/doc' ... OK
* checking running R code from vignettes ... SKIPPED
* checking re-building of vignette outputs ... SKIPPED
* checking PDF version of manual ... OK
* DONE

Status: 1 NOTE
See
  'F:/biocbuild/bbs-3.18-bioc/meat/LymphoSeq.Rcheck/00check.log'
for details.



Installation output

LymphoSeq.Rcheck/00install.out

##############################################################################
##############################################################################
###
### Running command:
###
###   F:\biocbuild\bbs-3.18-bioc\R\bin\R.exe CMD INSTALL LymphoSeq
###
##############################################################################
##############################################################################


* installing to library 'F:/biocbuild/bbs-3.18-bioc/R/library'
* installing *source* package 'LymphoSeq' ...
** using staged installation
** R
** inst
** byte-compile and prepare package for lazy loading
** help
*** installing help indices
** building package indices
** installing vignettes
** testing if installed package can be loaded from temporary location
** testing if installed package can be loaded from final location
** testing if installed package keeps a record of temporary installation path
* DONE (LymphoSeq)

Tests output


Example timings

LymphoSeq.Rcheck/LymphoSeq-Ex.timings

nameusersystemelapsed
alignSeq0.900.020.99
bhattacharyyaCoefficient0.180.000.25
bhattacharyyaMatrix0.360.010.42
chordDiagramVDJ1.200.051.26
clonalRelatedness0.610.000.36
clonality0.040.000.08
cloneTrack30.16 0.8432.81
commonSeqs0.190.030.24
commonSeqsBar0.890.101.00
commonSeqsPlot0.450.030.51
commonSeqsVenn0.740.220.96
differentialAbundance3.340.043.40
exportFasta0.300.070.38
geneFreq1.730.071.80
lorenzCurve2.500.112.61
mergeFiles0.110.020.16
pairwisePlot0.830.050.87
phyloTree5.310.045.38
productive0.080.020.09
productiveSeq21.41 0.3421.75
readImmunoSeq0.060.000.22
removeSeq0.060.020.11
searchPublished0.200.010.23
searchSeq0.850.020.91
seqMatrix1.830.061.94
similarityMatrix0.200.020.21
similarityScore0.190.030.22
topFreq3.060.013.08
topSeqs0.190.000.22
topSeqsPlot0.390.040.48
uniqueSeqs0.230.000.30