Back to Multiple platform build/check report for BioC 3.18:   simplified   long
ABCDEFGHIJ[K]LMNOPQRSTUVWXYZ

This page was generated on 2023-11-28 11:35:56 -0500 (Tue, 28 Nov 2023).

HostnameOSArch (*)R versionInstalled pkgs
nebbiolo2Linux (Ubuntu 22.04.2 LTS)x86_644.3.2 Patched (2023-11-13 r85521) -- "Eye Holes" 4685
palomino4Windows Server 2022 Datacenterx644.3.2 (2023-10-31 ucrt) -- "Eye Holes" 4420
lconwaymacOS 12.7.1 Montereyx86_644.3.2 Patched (2023-11-01 r85457) -- "Eye Holes" 4439
Click on any hostname to see more info about the system (e.g. compilers)      (*) as reported by 'uname -p', except on Windows and Mac OS X

Package 1071/2266HostnameOS / ArchINSTALLBUILDCHECKBUILD BIN
karyoploteR 1.28.0  (landing page)
Bernat Gel
Snapshot Date: 2023-11-27 14:05:07 -0500 (Mon, 27 Nov 2023)
git_url: https://git.bioconductor.org/packages/karyoploteR
git_branch: RELEASE_3_18
git_last_commit: 20fa00f
git_last_commit_date: 2023-10-24 10:55:15 -0500 (Tue, 24 Oct 2023)
nebbiolo2Linux (Ubuntu 22.04.2 LTS) / x86_64  OK    OK    OK  UNNEEDED, same version is already published
palomino4Windows Server 2022 Datacenter / x64  OK    OK    OK    OK  UNNEEDED, same version is already published
lconwaymacOS 12.7.1 Monterey / x86_64  OK    OK    OK    OK  UNNEEDED, same version is already published
kjohnson1macOS 13.6.1 Ventura / arm64see weekly results here

CHECK results for karyoploteR on nebbiolo2


To the developers/maintainers of the karyoploteR package:
- Allow up to 24 hours (and sometimes 48 hours) for your latest push to git@git.bioconductor.org:packages/karyoploteR.git to reflect on this report. See Troubleshooting Build Report for more information.
- Use the following Renviron settings to reproduce errors and warnings.
- If 'R CMD check' started to fail recently on the Linux builder(s) over a missing dependency, add the missing dependency to 'Suggests:' in your DESCRIPTION file. See Renviron.bioc for more information.

raw results


Summary

Package: karyoploteR
Version: 1.28.0
Command: /home/biocbuild/bbs-3.18-bioc/R/bin/R CMD check --install=check:karyoploteR.install-out.txt --library=/home/biocbuild/bbs-3.18-bioc/R/site-library --timings karyoploteR_1.28.0.tar.gz
StartedAt: 2023-11-27 23:02:09 -0500 (Mon, 27 Nov 2023)
EndedAt: 2023-11-27 23:11:03 -0500 (Mon, 27 Nov 2023)
EllapsedTime: 533.9 seconds
RetCode: 0
Status:   OK  
CheckDir: karyoploteR.Rcheck
Warnings: 0

Command output

##############################################################################
##############################################################################
###
### Running command:
###
###   /home/biocbuild/bbs-3.18-bioc/R/bin/R CMD check --install=check:karyoploteR.install-out.txt --library=/home/biocbuild/bbs-3.18-bioc/R/site-library --timings karyoploteR_1.28.0.tar.gz
###
##############################################################################
##############################################################################


* using log directory ‘/home/biocbuild/bbs-3.18-bioc/meat/karyoploteR.Rcheck’
* using R version 4.3.2 Patched (2023-11-13 r85521)
* using platform: x86_64-pc-linux-gnu (64-bit)
* R was compiled by
    gcc (Ubuntu 11.4.0-1ubuntu1~22.04) 11.4.0
    GNU Fortran (Ubuntu 11.4.0-1ubuntu1~22.04) 11.4.0
* running under: Ubuntu 22.04.3 LTS
* using session charset: UTF-8
* checking for file ‘karyoploteR/DESCRIPTION’ ... OK
* checking extension type ... Package
* this is package ‘karyoploteR’ version ‘1.28.0’
* package encoding: UTF-8
* checking package namespace information ... OK
* checking package dependencies ... OK
* checking if this is a source package ... OK
* checking if there is a namespace ... OK
* checking for hidden files and directories ... OK
* checking for portable file names ... OK
* checking for sufficient/correct file permissions ... OK
* checking whether package ‘karyoploteR’ can be installed ... OK
* checking installed package size ... OK
* checking package directory ... OK
* checking ‘build’ directory ... OK
* checking DESCRIPTION meta-information ... NOTE
Packages listed in more than one of Depends, Imports, Suggests, Enhances:
  ‘regioneR’ ‘GenomicRanges’
A package should be listed in only one of these fields.
* checking top-level files ... OK
* checking for left-over files ... OK
* checking index information ... OK
* checking package subdirectories ... NOTE
Problems with news in ‘NEWS’:
  Cannot process chunk/lines:
    NEW FEATURES
  Cannot process chunk/lines:
    SIGNIFICANT USER-VISIBLE CHANGES
  Cannot process chunk/lines:
    NEW FEATURES
  Cannot process chunk/lines:
    SIGNIFICANT USER-VISIBLE CHANGES
* checking R files for non-ASCII characters ... OK
* checking R files for syntax errors ... OK
* checking whether the package can be loaded ... OK
* checking whether the package can be loaded with stated dependencies ... OK
* checking whether the package can be unloaded cleanly ... OK
* checking whether the namespace can be loaded with stated dependencies ... OK
* checking whether the namespace can be unloaded cleanly ... OK
* checking loading without being on the library search path ... OK
* checking startup messages can be suppressed ... OK
* checking dependencies in R code ... OK
* checking S3 generic/method consistency ... OK
* checking replacement functions ... OK
* checking foreign function calls ... OK
* checking R code for possible problems ... OK
* checking Rd files ... OK
* checking Rd metadata ... OK
* checking Rd cross-references ... OK
* checking for missing documentation entries ... OK
* checking for code/documentation mismatches ... OK
* checking Rd \usage sections ... OK
* checking Rd contents ... OK
* checking for unstated dependencies in examples ... OK
* checking R/sysdata.rda ... OK
* checking files in ‘vignettes’ ... OK
* checking examples ... OK
Examples with CPU (user + system) or elapsed time > 5s
                    user system elapsed
kpPlotDensity     31.289  4.543  35.842
kpPlotGenes       19.868  0.184  20.053
mergeTranscripts  16.617  0.284  16.901
kpPlotHorizon     13.644  0.052  13.695
kpPlotRegions     10.726  0.032  10.758
kpPlotBAMCoverage  7.551  0.452   8.002
kpPlotTranscripts  6.371  0.012   6.383
kpPlotManhattan    5.191  0.080   5.271
* checking for unstated dependencies in ‘tests’ ... OK
* checking tests ...
  Running ‘testthat.R’
 OK
* checking for unstated dependencies in vignettes ... OK
* checking package vignettes in ‘inst/doc’ ... OK
* checking running R code from vignettes ...
  ‘karyoploteR.Rmd’ using ‘UTF-8’... OK
 NONE
* checking re-building of vignette outputs ... OK
* checking PDF version of manual ... OK
* DONE

Status: 2 NOTEs
See
  ‘/home/biocbuild/bbs-3.18-bioc/meat/karyoploteR.Rcheck/00check.log’
for details.



Installation output

karyoploteR.Rcheck/00install.out

##############################################################################
##############################################################################
###
### Running command:
###
###   /home/biocbuild/bbs-3.18-bioc/R/bin/R CMD INSTALL karyoploteR
###
##############################################################################
##############################################################################


* installing to library ‘/home/biocbuild/bbs-3.18-bioc/R/site-library’
* installing *source* package ‘karyoploteR’ ...
** using staged installation
** R
** inst
** byte-compile and prepare package for lazy loading
** help
*** installing help indices
** building package indices
** installing vignettes
** testing if installed package can be loaded from temporary location
** testing if installed package can be loaded from final location
** testing if installed package keeps a record of temporary installation path
* DONE (karyoploteR)

Tests output

karyoploteR.Rcheck/tests/testthat.Rout


R version 4.3.2 Patched (2023-11-13 r85521) -- "Eye Holes"
Copyright (C) 2023 The R Foundation for Statistical Computing
Platform: x86_64-pc-linux-gnu (64-bit)

R is free software and comes with ABSOLUTELY NO WARRANTY.
You are welcome to redistribute it under certain conditions.
Type 'license()' or 'licence()' for distribution details.

R is a collaborative project with many contributors.
Type 'contributors()' for more information and
'citation()' on how to cite R or R packages in publications.

Type 'demo()' for some demos, 'help()' for on-line help, or
'help.start()' for an HTML browser interface to help.
Type 'q()' to quit R.

> library(testthat)
> library(karyoploteR)
Loading required package: regioneR
Loading required package: GenomicRanges
Loading required package: stats4
Loading required package: BiocGenerics

Attaching package: 'BiocGenerics'

The following objects are masked from 'package:stats':

    IQR, mad, sd, var, xtabs

The following objects are masked from 'package:base':

    Filter, Find, Map, Position, Reduce, anyDuplicated, aperm, append,
    as.data.frame, basename, cbind, colnames, dirname, do.call,
    duplicated, eval, evalq, get, grep, grepl, intersect, is.unsorted,
    lapply, mapply, match, mget, order, paste, pmax, pmax.int, pmin,
    pmin.int, rank, rbind, rownames, sapply, setdiff, sort, table,
    tapply, union, unique, unsplit, which.max, which.min

Loading required package: S4Vectors

Attaching package: 'S4Vectors'

The following object is masked from 'package:utils':

    findMatches

The following objects are masked from 'package:base':

    I, expand.grid, unname

Loading required package: IRanges
Loading required package: GenomeInfoDb
> 
> test_check("karyoploteR")
[ FAIL 0 | WARN 0 | SKIP 3 | PASS 177 ]

══ Skipped tests (3) ═══════════════════════════════════════════════════════════
• empty test (3): 'test_plotKaryotype.R:27:1', 'test_plotKaryotype.R:34:1',
  'test_plotKaryotype.R:44:1'

[ FAIL 0 | WARN 0 | SKIP 3 | PASS 177 ]
> 
> proc.time()
   user  system elapsed 
 19.468   1.612  21.070 

Example timings

karyoploteR.Rcheck/karyoploteR-Ex.timings

nameusersystemelapsed
addGeneNames3.2120.1363.349
autotrack0.0010.0000.000
colByCategory0.0020.0000.002
colByChr0.4490.0040.454
colByRegion1.0050.1071.113
colByValue0.1900.0010.189
darker0.0010.0000.001
filterParams0.0000.0000.001
findIntersections0.1180.0040.122
getChromosomeNamesBoundingBox0.0420.0040.047
getColorSchemas0.0010.0000.002
getCytobandColors0.0000.0000.001
getCytobands0.0010.0000.002
getDataPanelBoundingBox0.0440.0000.045
getDefaultPlotParams0.0700.0040.073
getMainTitleBoundingBox0.040.000.04
getTextSize0.0830.0000.084
getVariantsColors0.0010.0000.001
horizonColors0.0030.0000.004
is.color0.0010.0000.000
kpAbline0.9650.0320.997
kpAddBaseNumbers0.3730.0320.405
kpAddChromosomeNames0.0300.0040.035
kpAddChromosomeSeparators0.4190.0000.419
kpAddColorRect0.1510.0040.155
kpAddCytobandLabels0.3580.0280.386
kpAddCytobands0.0350.0000.035
kpAddCytobandsAsLine0.1130.0000.113
kpAddLabels0.3950.0040.399
kpAddMainTitle0.0290.0030.033
kpArea0.3210.0130.333
kpArrows0.5250.0160.542
kpAxis0.3180.0040.323
kpBars0.160.000.16
kpDataBackground0.1940.0000.194
kpHeatmap0.1220.0040.126
kpLines0.2480.0000.248
kpPlotBAMCoverage7.5510.4528.002
kpPlotBAMDensity1.8660.0481.914
kpPlotBigWig0.8850.0320.918
kpPlotCoverage0.3910.0000.391
kpPlotDensity31.289 4.54335.842
kpPlotGenes19.868 0.18420.053
kpPlotHorizon13.644 0.05213.695
kpPlotLinks0.9910.0121.002
kpPlotLoess0.0620.0000.062
kpPlotManhattan5.1910.0805.271
kpPlotMarkers1.5450.0231.569
kpPlotNames0.10.00.1
kpPlotRainfall0.7080.0080.715
kpPlotRegions10.726 0.03210.758
kpPlotRibbon0.0870.0000.087
kpPlotTranscripts6.3710.0126.383
kpPoints0.2550.0000.256
kpPolygon0.2090.0000.208
kpRect0.7360.0000.736
kpSegments0.5070.0040.512
kpText0.2490.0040.252
lighter0.0010.0000.000
makeGenesDataFromTxDb3.0380.0163.054
mergeTranscripts16.617 0.28416.901
plotDefaultPlotParams0.180.000.18
plotKaryotype0.9260.0320.958
plotPalettes0.0190.0000.019
prepareParameters20.0370.0000.037
prepareParameters40.0370.0000.037
processClipping0.0350.0000.035
transparent0.0010.0000.001