Back to Multiple platform build/check report for BioC 3.18:   simplified   long
A[B]CDEFGHIJKLMNOPQRSTUVWXYZ

This page was generated on 2023-12-09 11:35:43 -0500 (Sat, 09 Dec 2023).

HostnameOSArch (*)R versionInstalled pkgs
nebbiolo2Linux (Ubuntu 22.04.2 LTS)x86_644.3.2 Patched (2023-11-13 r85521) -- "Eye Holes" 4688
palomino4Windows Server 2022 Datacenterx644.3.2 (2023-10-31 ucrt) -- "Eye Holes" 4439
lconwaymacOS 12.7.1 Montereyx86_644.3.2 Patched (2023-11-01 r85457) -- "Eye Holes" 4458
Click on any hostname to see more info about the system (e.g. compilers)      (*) as reported by 'uname -p', except on Windows and Mac OS X

Package 162/2266HostnameOS / ArchINSTALLBUILDCHECKBUILD BIN
BiGGR 1.38.0  (landing page)
Anand K. Gavai
Snapshot Date: 2023-12-08 14:05:06 -0500 (Fri, 08 Dec 2023)
git_url: https://git.bioconductor.org/packages/BiGGR
git_branch: RELEASE_3_18
git_last_commit: f18fb12
git_last_commit_date: 2023-10-24 09:55:40 -0500 (Tue, 24 Oct 2023)
nebbiolo2Linux (Ubuntu 22.04.2 LTS) / x86_64  OK    OK    OK  UNNEEDED, same version is already published
palomino4Windows Server 2022 Datacenter / x64  OK    OK    OK    OK  UNNEEDED, same version is already published
lconwaymacOS 12.7.1 Monterey / x86_64... NOT SUPPORTED ...
kjohnson1macOS 13.6.1 Ventura / arm64see weekly results here

CHECK results for BiGGR on nebbiolo2


To the developers/maintainers of the BiGGR package:
- Allow up to 24 hours (and sometimes 48 hours) for your latest push to git@git.bioconductor.org:packages/BiGGR.git to reflect on this report. See Troubleshooting Build Report for more information.
- Use the following Renviron settings to reproduce errors and warnings.
- If 'R CMD check' started to fail recently on the Linux builder(s) over a missing dependency, add the missing dependency to 'Suggests:' in your DESCRIPTION file. See Renviron.bioc for more information.

raw results


Summary

Package: BiGGR
Version: 1.38.0
Command: /home/biocbuild/bbs-3.18-bioc/R/bin/R CMD check --install=check:BiGGR.install-out.txt --library=/home/biocbuild/bbs-3.18-bioc/R/site-library --timings BiGGR_1.38.0.tar.gz
StartedAt: 2023-12-08 20:15:57 -0500 (Fri, 08 Dec 2023)
EndedAt: 2023-12-08 20:19:58 -0500 (Fri, 08 Dec 2023)
EllapsedTime: 241.3 seconds
RetCode: 0
Status:   OK  
CheckDir: BiGGR.Rcheck
Warnings: 0

Command output

##############################################################################
##############################################################################
###
### Running command:
###
###   /home/biocbuild/bbs-3.18-bioc/R/bin/R CMD check --install=check:BiGGR.install-out.txt --library=/home/biocbuild/bbs-3.18-bioc/R/site-library --timings BiGGR_1.38.0.tar.gz
###
##############################################################################
##############################################################################


* using log directory ‘/home/biocbuild/bbs-3.18-bioc/meat/BiGGR.Rcheck’
* using R version 4.3.2 Patched (2023-11-13 r85521)
* using platform: x86_64-pc-linux-gnu (64-bit)
* R was compiled by
    gcc (Ubuntu 11.4.0-1ubuntu1~22.04) 11.4.0
    GNU Fortran (Ubuntu 11.4.0-1ubuntu1~22.04) 11.4.0
* running under: Ubuntu 22.04.3 LTS
* using session charset: UTF-8
* checking for file ‘BiGGR/DESCRIPTION’ ... OK
* checking extension type ... Package
* this is package ‘BiGGR’ version ‘1.38.0’
* checking package namespace information ... OK
* checking package dependencies ... OK
* checking if this is a source package ... OK
* checking if there is a namespace ... OK
* checking for hidden files and directories ... NOTE
Found the following hidden files and directories:
  .BBSoptions
These were most likely included in error. See section ‘Package
structure’ in the ‘Writing R Extensions’ manual.
* checking for portable file names ... OK
* checking for sufficient/correct file permissions ... OK
* checking whether package ‘BiGGR’ can be installed ... OK
* checking installed package size ... OK
* checking package directory ... OK
* checking ‘build’ directory ... OK
* checking DESCRIPTION meta-information ... OK
* checking top-level files ... OK
* checking for left-over files ... OK
* checking index information ... OK
* checking package subdirectories ... OK
* checking R files for non-ASCII characters ... OK
* checking R files for syntax errors ... OK
* checking whether the package can be loaded ... OK
* checking whether the package can be loaded with stated dependencies ... OK
* checking whether the package can be unloaded cleanly ... OK
* checking whether the namespace can be loaded with stated dependencies ... OK
* checking whether the namespace can be unloaded cleanly ... OK
* checking loading without being on the library search path ... OK
* checking dependencies in R code ... NOTE
Package in Depends field not imported from: ‘stringr’
  These packages need to be imported from (in the NAMESPACE file)
  for when this namespace is loaded but not attached.
* checking S3 generic/method consistency ... OK
* checking replacement functions ... OK
* checking foreign function calls ... OK
* checking R code for possible problems ... NOTE
.buildSubModel: no visible global function definition for ‘new’
buildSBMLFromBiGG: no visible global function definition for
  ‘read.delim’
buildSBMLFromBiGG : <anonymous>: no visible global function definition
  for ‘new’
buildSBMLFromBiGG: no visible global function definition for ‘new’
createLIMFromSBML: no visible global function definition for ‘hasArg’
gprMapping: no visible global function definition for ‘str_detect’
gprMapping: no visible global function definition for ‘na.omit’
gprMappingAvg: no visible global function definition for ‘na.omit’
sampleFluxEnsemble: no visible global function definition for ‘Xsample’
sbml2hyperdraw : <anonymous>: no visible binding for global variable
  ‘species’
sbml2hyperdraw: no visible global function definition for ‘hasArg’
sbml2hyperdraw: no visible global function definition for ‘graphLayout’
sbml2hyperdraw: no visible global function definition for
  ‘nodeDataDefaults<-’
sbml2hyperdraw: no visible global function definition for
  ‘edgeDataDefaults<-’
sbml2hyperdraw: no visible global function definition for
  ‘graphDataDefaults<-’
sbml2hyperdraw : <anonymous>: no visible global function definition for
  ‘edgeData<-’
Undefined global functions or variables:
  Xsample edgeData<- edgeDataDefaults<- graphDataDefaults<- graphLayout
  hasArg na.omit new nodeDataDefaults<- read.delim species str_detect
Consider adding
  importFrom("methods", "hasArg", "new")
  importFrom("stats", "na.omit")
  importFrom("utils", "read.delim")
to your NAMESPACE file (and ensure that your DESCRIPTION Imports field
contains 'methods').
* checking Rd files ... OK
* checking Rd metadata ... OK
* checking Rd cross-references ... OK
* checking for missing documentation entries ... OK
* checking for code/documentation mismatches ... OK
* checking Rd \usage sections ... OK
* checking Rd contents ... OK
* checking for unstated dependencies in examples ... OK
* checking contents of ‘data’ directory ... OK
* checking data for non-ASCII characters ... OK
* checking data for ASCII and uncompressed saves ... OK
* checking installed files from ‘inst/doc’ ... OK
* checking files in ‘vignettes’ ... OK
* checking examples ... OK
Examples with CPU (user + system) or elapsed time > 5s
                      user system elapsed
gprMapping         103.935  0.579 104.519
gprMappingAvg       13.533  0.084  13.616
buildSBMLFromGenes   5.059  0.124   5.183
* checking for unstated dependencies in vignettes ... OK
* checking package vignettes in ‘inst/doc’ ... OK
* checking running R code from vignettes ...
  ‘BiGGR.Rnw’ using ‘UTF-8’... OK
 OK
* checking re-building of vignette outputs ... OK
* checking PDF version of manual ... OK
* DONE

Status: 3 NOTEs
See
  ‘/home/biocbuild/bbs-3.18-bioc/meat/BiGGR.Rcheck/00check.log’
for details.



Installation output

BiGGR.Rcheck/00install.out

##############################################################################
##############################################################################
###
### Running command:
###
###   /home/biocbuild/bbs-3.18-bioc/R/bin/R CMD INSTALL BiGGR
###
##############################################################################
##############################################################################


* installing to library ‘/home/biocbuild/bbs-3.18-bioc/R/site-library’
* installing *source* package ‘BiGGR’ ...
** using staged installation
** R
** data
** inst
** byte-compile and prepare package for lazy loading
** help
*** installing help indices
** building package indices
** installing vignettes
** testing if installed package can be loaded from temporary location
** testing if installed package can be loaded from final location
** testing if installed package keeps a record of temporary installation path
* DONE (BiGGR)

Tests output


Example timings

BiGGR.Rcheck/BiGGR-Ex.timings

nameusersystemelapsed
BiGGR-package2.1440.0422.187
E.coli_iAF12600.6410.0000.641
E.coli_iJR9040.5450.0160.561
E.coli_textbook0.0230.0000.023
H.pylori_ilT3410.1570.0040.161
H.sapiens_Recon11.0290.0121.041
M.barkeri_iAF6920.2830.0000.283
M.tuberculosis_iNJ6610.3180.0120.329
P.putida_iJN7460.3120.0080.320
Recon21.6920.1441.836
S.aureus_iSB6190.2030.0120.215
S.cerevisiae_iND7500.3350.0120.347
buildSBMLFromBiGG0.0720.0160.088
buildSBMLFromGenes5.0590.1245.183
buildSBMLFromPathways3.7810.0443.824
buildSBMLFromReactionIDs1.6770.0361.712
createLIMFromBiGG0.0730.0000.073
createLIMFromSBML0.9540.0030.958
extractGeneAssociations2.1880.0402.228
extractPathways2.0820.0042.085
getPathwaysForSBML2.5020.0482.549
getRates0.0030.0000.003
gprMapping103.935 0.579104.519
gprMappingAvg13.533 0.08413.616
lying.tunell.data0.0010.0000.002
rmvSpliceVariant2.1520.0002.153
sampleFluxEnsemble1.8400.0481.889
sbml2hyperdraw2.4280.0362.464