Back to Mac ARM64 build report for BioC 3.18
ABCDEFGHIJ[K]LMNOPQRSTUVWXYZ

This page was generated on 2024-02-29 11:32:08 -0500 (Thu, 29 Feb 2024).

HostnameOSArch (*)R versionInstalled pkgs
kjohnson1macOS 13.6.1 Venturaarm644.3.2 (2023-10-31) -- "Eye Holes" 4300
Click on any hostname to see more info about the system (e.g. compilers)      (*) as reported by 'uname -p', except on Windows and Mac OS X

All results for package karyoploteR


To the developers/maintainers of the karyoploteR package:
- Use the following Renviron settings to reproduce errors and warnings.
- If 'R CMD check' started to fail recently on the Linux builder(s) over a missing dependency, add the missing dependency to 'Suggests:' in your DESCRIPTION file. See Renviron.bioc for more information.

raw results

Package 1071/2266HostnameOS / ArchINSTALLBUILDCHECKBUILD BIN
karyoploteR 1.28.0  (landing page)
Bernat Gel
Snapshot Date: 2024-02-27 09:00:02 -0500 (Tue, 27 Feb 2024)
git_url: https://git.bioconductor.org/packages/karyoploteR
git_branch: RELEASE_3_18
git_last_commit: 20fa00f
git_last_commit_date: 2023-10-24 10:55:15 -0500 (Tue, 24 Oct 2023)
kjohnson1macOS 13.6.1 Ventura / arm64  OK    OK    OK    OK  UNNEEDED, same version is already published

Results for Bioconductor software packages that depend directly on package karyoploteR

QUICK STATSOS / ArchINSTALLBUILDCHECKBUILD BIN
kjohnson1macOS 13.6.1 Ventura / arm64
005
005
0104
005
Package 1/5HostnameOS / ArchINSTALLBUILDCHECKBUILD BIN
CNVfilteR 1.16.0  (landing page)
Jose Marcos Moreno-Cabrera
git_last_commit: b3a6913
git_last_commit_date: 2023-10-24 11:17:02 -0500
kjohnson1macOS 13.6.1 Ventura / arm64  OK    OK    OK    OK  UNNEEDED, same version is already published
Package 2/5HostnameOS / ArchINSTALLBUILDCHECKBUILD BIN
CNViz 1.10.0  (landing page)
Rebecca Greenblatt
git_last_commit: eb85b67
git_last_commit_date: 2023-10-24 11:31:54 -0500
kjohnson1macOS 13.6.1 Ventura / arm64  OK    OK    OK    OK  UNNEEDED, same version is already published
Package 3/5HostnameOS / ArchINSTALLBUILDCHECKBUILD BIN
CopyNumberPlots 1.18.0  (landing page)
Bernat Gel
git_last_commit: 88ca611
git_last_commit_date: 2023-10-24 11:13:15 -0500
kjohnson1macOS 13.6.1 Ventura / arm64  OK    OK    ERROR    OK  
Package 4/5HostnameOS / ArchINSTALLBUILDCHECKBUILD BIN
multicrispr 1.12.3  (landing page)
Aditya Bhagwat
git_last_commit: fdead8c
git_last_commit_date: 2023-11-13 04:55:16 -0500
kjohnson1macOS 13.6.1 Ventura / arm64  OK    OK    OK    OK  UNNEEDED, same version is already published
Package 5/5HostnameOS / ArchINSTALLBUILDCHECKBUILD BIN
RIPAT 1.12.0  (landing page)
Min-Jeong Baek
git_last_commit: ed95547
git_last_commit_date: 2023-10-24 11:24:55 -0500
kjohnson1macOS 13.6.1 Ventura / arm64  OK    OK    OK    OK  UNNEEDED, same version is already published