Back to Multiple platform build/check report for BioC 3.18: simplified long |
|
This page was generated on 2024-03-29 11:38:16 -0400 (Fri, 29 Mar 2024).
Hostname | OS | Arch (*) | R version | Installed pkgs |
---|---|---|---|---|
nebbiolo2 | Linux (Ubuntu 22.04.3 LTS) | x86_64 | 4.3.3 (2024-02-29) -- "Angel Food Cake" | 4669 |
palomino4 | Windows Server 2022 Datacenter | x64 | 4.3.3 (2024-02-29 ucrt) -- "Angel Food Cake" | 4404 |
merida1 | macOS 12.7.1 Monterey | x86_64 | 4.3.3 (2024-02-29) -- "Angel Food Cake" | 4427 |
Click on any hostname to see more info about the system (e.g. compilers) (*) as reported by 'uname -p', except on Windows and Mac OS X |
Package 1971/2266 | Hostname | OS / Arch | INSTALL | BUILD | CHECK | BUILD BIN | ||||||||
singleCellTK 2.12.2 (landing page) Joshua David Campbell
| nebbiolo2 | Linux (Ubuntu 22.04.3 LTS) / x86_64 | OK | OK | OK | |||||||||
palomino4 | Windows Server 2022 Datacenter / x64 | OK | OK | OK | OK | |||||||||
merida1 | macOS 12.7.1 Monterey / x86_64 | OK | OK | OK | OK | |||||||||
kjohnson1 | macOS 13.6.1 Ventura / arm64 | see weekly results here | ||||||||||||
To the developers/maintainers of the singleCellTK package: - Allow up to 24 hours (and sometimes 48 hours) for your latest push to git@git.bioconductor.org:packages/singleCellTK.git to reflect on this report. See Troubleshooting Build Report for more information. - Use the following Renviron settings to reproduce errors and warnings. - If 'R CMD check' started to fail recently on the Linux builder(s) over a missing dependency, add the missing dependency to 'Suggests:' in your DESCRIPTION file. See Renviron.bioc for more information. |
Package: singleCellTK |
Version: 2.12.2 |
Command: /Library/Frameworks/R.framework/Resources/bin/R CMD check --install=check:singleCellTK.install-out.txt --library=/Library/Frameworks/R.framework/Resources/library --no-vignettes --timings singleCellTK_2.12.2.tar.gz |
StartedAt: 2024-03-28 09:02:30 -0400 (Thu, 28 Mar 2024) |
EndedAt: 2024-03-28 09:31:42 -0400 (Thu, 28 Mar 2024) |
EllapsedTime: 1751.4 seconds |
RetCode: 0 |
Status: OK |
CheckDir: singleCellTK.Rcheck |
Warnings: 0 |
############################################################################## ############################################################################## ### ### Running command: ### ### /Library/Frameworks/R.framework/Resources/bin/R CMD check --install=check:singleCellTK.install-out.txt --library=/Library/Frameworks/R.framework/Resources/library --no-vignettes --timings singleCellTK_2.12.2.tar.gz ### ############################################################################## ############################################################################## * using log directory ‘/Users/biocbuild/bbs-3.18-bioc/meat/singleCellTK.Rcheck’ * using R version 4.3.3 (2024-02-29) * using platform: x86_64-apple-darwin20 (64-bit) * R was compiled by Apple clang version 14.0.0 (clang-1400.0.29.202) GNU Fortran (GCC) 12.2.0 * running under: macOS Monterey 12.7.1 * using session charset: UTF-8 * using option ‘--no-vignettes’ * checking for file ‘singleCellTK/DESCRIPTION’ ... OK * checking extension type ... Package * this is package ‘singleCellTK’ version ‘2.12.2’ * package encoding: UTF-8 * checking package namespace information ... OK * checking package dependencies ... OK * checking if this is a source package ... OK * checking if there is a namespace ... OK * checking for hidden files and directories ... OK * checking for portable file names ... OK * checking for sufficient/correct file permissions ... OK * checking whether package ‘singleCellTK’ can be installed ... OK * checking installed package size ... NOTE installed size is 6.8Mb sub-directories of 1Mb or more: extdata 1.5Mb shiny 2.9Mb * checking package directory ... OK * checking ‘build’ directory ... OK * checking DESCRIPTION meta-information ... OK * checking top-level files ... OK * checking for left-over files ... OK * checking index information ... OK * checking package subdirectories ... OK * checking R files for non-ASCII characters ... OK * checking R files for syntax errors ... OK * checking whether the package can be loaded ... OK * checking whether the package can be loaded with stated dependencies ... OK * checking whether the package can be unloaded cleanly ... OK * checking whether the namespace can be loaded with stated dependencies ... OK * checking whether the namespace can be unloaded cleanly ... OK * checking startup messages can be suppressed ... OK * checking dependencies in R code ... OK * checking S3 generic/method consistency ... OK * checking replacement functions ... OK * checking foreign function calls ... OK * checking R code for possible problems ... OK * checking Rd files ... OK * checking Rd metadata ... OK * checking Rd cross-references ... OK * checking for missing documentation entries ... OK * checking for code/documentation mismatches ... OK * checking Rd \usage sections ... OK * checking Rd contents ... OK * checking for unstated dependencies in examples ... OK * checking contents of ‘data’ directory ... OK * checking data for non-ASCII characters ... OK * checking data for ASCII and uncompressed saves ... OK * checking R/sysdata.rda ... OK * checking files in ‘vignettes’ ... OK * checking examples ... OK Examples with CPU (user + system) or elapsed time > 5s user system elapsed plotScDblFinderResults 47.508 1.126 51.505 plotDoubletFinderResults 42.999 0.282 44.498 runDoubletFinder 37.743 0.227 39.942 runScDblFinder 31.137 0.496 33.062 importExampleData 27.053 2.702 35.604 plotBatchCorrCompare 14.205 0.136 14.775 plotScdsHybridResults 12.960 0.338 14.295 plotBcdsResults 11.675 0.272 12.256 plotTSCANClusterDEG 11.554 0.161 12.401 plotDecontXResults 11.332 0.101 11.572 runDecontX 10.348 0.121 12.444 plotEmptyDropsScatter 10.390 0.051 10.668 plotEmptyDropsResults 10.243 0.058 10.696 plotFindMarkerHeatmap 10.248 0.048 10.353 runEmptyDrops 9.692 0.050 10.367 plotDEGViolin 9.554 0.142 9.751 runSeuratSCTransform 8.754 0.155 9.445 plotCxdsResults 8.780 0.081 8.938 convertSCEToSeurat 8.537 0.291 9.256 detectCellOutlier 8.026 0.219 8.661 plotDEGRegression 8.007 0.080 8.140 plotUMAP 7.875 0.091 8.396 runUMAP 7.867 0.093 8.482 getFindMarkerTopTable 7.664 0.085 8.305 runFindMarker 7.454 0.082 8.157 plotDEGHeatmap 6.352 0.121 6.535 importGeneSetsFromMSigDB 5.977 0.228 6.754 plotTSCANClusterPseudo 5.224 0.049 5.561 plotTSCANPseudotimeHeatmap 5.125 0.047 5.441 plotTSCANPseudotimeGenes 4.988 0.044 5.316 plotTSCANResults 4.984 0.041 5.254 plotTSCANDimReduceFeatures 4.961 0.043 5.276 plotRunPerCellQCResults 4.883 0.042 5.063 getEnrichRResult 0.681 0.056 10.070 runEnrichR 0.639 0.054 12.092 * checking for unstated dependencies in ‘tests’ ... OK * checking tests ... Running ‘spelling.R’ Running ‘testthat.R’ OK * checking for unstated dependencies in vignettes ... OK * checking package vignettes in ‘inst/doc’ ... OK * checking running R code from vignettes ... SKIPPED * checking re-building of vignette outputs ... SKIPPED * checking PDF version of manual ... OK * DONE Status: 1 NOTE See ‘/Users/biocbuild/bbs-3.18-bioc/meat/singleCellTK.Rcheck/00check.log’ for details.
singleCellTK.Rcheck/00install.out
############################################################################## ############################################################################## ### ### Running command: ### ### /Library/Frameworks/R.framework/Resources/bin/R CMD INSTALL singleCellTK ### ############################################################################## ############################################################################## * installing to library ‘/Library/Frameworks/R.framework/Versions/4.3-x86_64/Resources/library’ * installing *source* package ‘singleCellTK’ ... ** using staged installation ** R ** data ** exec ** inst ** byte-compile and prepare package for lazy loading ** help *** installing help indices ** building package indices ** installing vignettes ** testing if installed package can be loaded from temporary location ** testing if installed package can be loaded from final location ** testing if installed package keeps a record of temporary installation path * DONE (singleCellTK)
singleCellTK.Rcheck/tests/spelling.Rout
R version 4.3.3 (2024-02-29) -- "Angel Food Cake" Copyright (C) 2024 The R Foundation for Statistical Computing Platform: x86_64-apple-darwin20 (64-bit) R is free software and comes with ABSOLUTELY NO WARRANTY. You are welcome to redistribute it under certain conditions. Type 'license()' or 'licence()' for distribution details. R is a collaborative project with many contributors. Type 'contributors()' for more information and 'citation()' on how to cite R or R packages in publications. Type 'demo()' for some demos, 'help()' for on-line help, or 'help.start()' for an HTML browser interface to help. Type 'q()' to quit R. > if (requireNamespace('spelling', quietly = TRUE)) + spelling::spell_check_test(vignettes = TRUE, error = FALSE, skip_on_cran = TRUE) NULL > > proc.time() user system elapsed 0.356 0.116 0.443
singleCellTK.Rcheck/tests/testthat.Rout
R version 4.3.3 (2024-02-29) -- "Angel Food Cake" Copyright (C) 2024 The R Foundation for Statistical Computing Platform: x86_64-apple-darwin20 (64-bit) R is free software and comes with ABSOLUTELY NO WARRANTY. You are welcome to redistribute it under certain conditions. Type 'license()' or 'licence()' for distribution details. R is a collaborative project with many contributors. Type 'contributors()' for more information and 'citation()' on how to cite R or R packages in publications. Type 'demo()' for some demos, 'help()' for on-line help, or 'help.start()' for an HTML browser interface to help. Type 'q()' to quit R. > library(testthat) > library(singleCellTK) Loading required package: SummarizedExperiment Loading required package: MatrixGenerics Loading required package: matrixStats Attaching package: 'MatrixGenerics' The following objects are masked from 'package:matrixStats': colAlls, colAnyNAs, colAnys, colAvgsPerRowSet, colCollapse, colCounts, colCummaxs, colCummins, colCumprods, colCumsums, colDiffs, colIQRDiffs, colIQRs, colLogSumExps, colMadDiffs, colMads, colMaxs, colMeans2, colMedians, colMins, colOrderStats, colProds, colQuantiles, colRanges, colRanks, colSdDiffs, colSds, colSums2, colTabulates, colVarDiffs, colVars, colWeightedMads, colWeightedMeans, colWeightedMedians, colWeightedSds, colWeightedVars, rowAlls, rowAnyNAs, rowAnys, rowAvgsPerColSet, rowCollapse, rowCounts, rowCummaxs, rowCummins, rowCumprods, rowCumsums, rowDiffs, rowIQRDiffs, rowIQRs, rowLogSumExps, rowMadDiffs, rowMads, rowMaxs, rowMeans2, rowMedians, rowMins, rowOrderStats, rowProds, rowQuantiles, rowRanges, rowRanks, rowSdDiffs, rowSds, rowSums2, rowTabulates, rowVarDiffs, rowVars, rowWeightedMads, rowWeightedMeans, rowWeightedMedians, rowWeightedSds, rowWeightedVars Loading required package: GenomicRanges Loading required package: stats4 Loading required package: BiocGenerics Attaching package: 'BiocGenerics' The following objects are masked from 'package:stats': IQR, mad, sd, var, xtabs The following objects are masked from 'package:base': Filter, Find, Map, Position, Reduce, anyDuplicated, aperm, append, as.data.frame, basename, cbind, colnames, dirname, do.call, duplicated, eval, evalq, get, grep, grepl, intersect, is.unsorted, lapply, mapply, match, mget, order, paste, pmax, pmax.int, pmin, pmin.int, rank, rbind, rownames, sapply, setdiff, sort, table, tapply, union, unique, unsplit, which.max, which.min Loading required package: S4Vectors Attaching package: 'S4Vectors' The following object is masked from 'package:utils': findMatches The following objects are masked from 'package:base': I, expand.grid, unname Loading required package: IRanges Loading required package: GenomeInfoDb Loading required package: Biobase Welcome to Bioconductor Vignettes contain introductory material; view with 'browseVignettes()'. To cite Bioconductor, see 'citation("Biobase")', and for packages 'citation("pkgname")'. Attaching package: 'Biobase' The following object is masked from 'package:MatrixGenerics': rowMedians The following objects are masked from 'package:matrixStats': anyMissing, rowMedians Loading required package: SingleCellExperiment Loading required package: DelayedArray Loading required package: Matrix Attaching package: 'Matrix' The following object is masked from 'package:S4Vectors': expand Loading required package: S4Arrays Loading required package: abind Attaching package: 'S4Arrays' The following object is masked from 'package:abind': abind The following object is masked from 'package:base': rowsum Loading required package: SparseArray Attaching package: 'DelayedArray' The following objects are masked from 'package:base': apply, scale, sweep Attaching package: 'singleCellTK' The following object is masked from 'package:BiocGenerics': plotPCA > > test_check("singleCellTK") Found 2 batches Using null model in ComBat-seq. Adjusting for 0 covariate(s) or covariate level(s) Estimating dispersions Fitting the GLM model Shrinkage off - using GLM estimates for parameters Adjusting the data Found 2 batches Using null model in ComBat-seq. Adjusting for 1 covariate(s) or covariate level(s) Estimating dispersions Fitting the GLM model Shrinkage off - using GLM estimates for parameters Adjusting the data Performing log-normalization 0% 10 20 30 40 50 60 70 80 90 100% [----|----|----|----|----|----|----|----|----|----| **************************************************| | | | 0% | |======================================================================| 100% Calculating gene variances 0% 10 20 30 40 50 60 70 80 90 100% [----|----|----|----|----|----|----|----|----|----| **************************************************| Calculating feature variances of standardized and clipped values 0% 10 20 30 40 50 60 70 80 90 100% [----|----|----|----|----|----|----|----|----|----| **************************************************| | | | 0% | |======================================================================| 100% | | | 0% | |======================================================================| 100% Calculating gene variances 0% 10 20 30 40 50 60 70 80 90 100% [----|----|----|----|----|----|----|----|----|----| **************************************************| Calculating feature variances of standardized and clipped values 0% 10 20 30 40 50 60 70 80 90 100% [----|----|----|----|----|----|----|----|----|----| **************************************************| Uploading data to Enrichr... Done. Querying HDSigDB_Human_2021... Done. Parsing results... Done. Performing log-normalization 0% 10 20 30 40 50 60 70 80 90 100% [----|----|----|----|----|----|----|----|----|----| **************************************************| Calculating gene variances 0% 10 20 30 40 50 60 70 80 90 100% [----|----|----|----|----|----|----|----|----|----| **************************************************| Calculating feature variances of standardized and clipped values 0% 10 20 30 40 50 60 70 80 90 100% [----|----|----|----|----|----|----|----|----|----| **************************************************| Calculating gene means 0% 10 20 30 40 50 60 70 80 90 100% [----|----|----|----|----|----|----|----|----|----| **************************************************| Calculating gene variance to mean ratios 0% 10 20 30 40 50 60 70 80 90 100% [----|----|----|----|----|----|----|----|----|----| **************************************************| Calculating gene means 0% 10 20 30 40 50 60 70 80 90 100% [----|----|----|----|----|----|----|----|----|----| **************************************************| Calculating gene variance to mean ratios 0% 10 20 30 40 50 60 70 80 90 100% [----|----|----|----|----|----|----|----|----|----| **************************************************| Estimating GSVA scores for 34 gene sets. Estimating ECDFs with Gaussian kernels | | | 0% | |== | 3% | |==== | 6% | |====== | 9% | |======== | 12% | |========== | 15% | |============ | 18% | |============== | 21% | |================ | 24% | |=================== | 26% | |===================== | 29% | |======================= | 32% | |========================= | 35% | |=========================== | 38% | |============================= | 41% | |=============================== | 44% | |================================= | 47% | |=================================== | 50% | |===================================== | 53% | |======================================= | 56% | |========================================= | 59% | |=========================================== | 62% | |============================================= | 65% | |=============================================== | 68% | |================================================= | 71% | |=================================================== | 74% | |====================================================== | 76% | |======================================================== | 79% | |========================================================== | 82% | |============================================================ | 85% | |============================================================== | 88% | |================================================================ | 91% | |================================================================== | 94% | |==================================================================== | 97% | |======================================================================| 100% Estimating GSVA scores for 2 gene sets. Estimating ECDFs with Gaussian kernels | | | 0% | |=================================== | 50% | |======================================================================| 100% Performing log-normalization 0% 10 20 30 40 50 60 70 80 90 100% [----|----|----|----|----|----|----|----|----|----| **************************************************| Calculating gene variances 0% 10 20 30 40 50 60 70 80 90 100% [----|----|----|----|----|----|----|----|----|----| **************************************************| Calculating feature variances of standardized and clipped values 0% 10 20 30 40 50 60 70 80 90 100% [----|----|----|----|----|----|----|----|----|----| **************************************************| | | | 0% | |======================================================================| 100% Performing log-normalization 0% 10 20 30 40 50 60 70 80 90 100% [----|----|----|----|----|----|----|----|----|----| **************************************************| | | | 0% | |======================================================================| 100% Calculating gene variances 0% 10 20 30 40 50 60 70 80 90 100% [----|----|----|----|----|----|----|----|----|----| **************************************************| Calculating feature variances of standardized and clipped values 0% 10 20 30 40 50 60 70 80 90 100% [----|----|----|----|----|----|----|----|----|----| **************************************************| | | | 0% | |======================================================================| 100% | | | 0% | |======================================================================| 100% Modularity Optimizer version 1.3.0 by Ludo Waltman and Nees Jan van Eck Number of nodes: 390 Number of edges: 9849 Running Louvain algorithm... 0% 10 20 30 40 50 60 70 80 90 100% [----|----|----|----|----|----|----|----|----|----| **************************************************| Maximum modularity in 10 random starts: 0.8351 Number of communities: 7 Elapsed time: 0 seconds Using method 'umap' 0% 10 20 30 40 50 60 70 80 90 100% [----|----|----|----|----|----|----|----|----|----| **************************************************| | | | 0% | |======================================================================| 100% | | | 0% | |======================================================================| 100% 0% 10 20 30 40 50 60 70 80 90 100% [----|----|----|----|----|----|----|----|----|----| **************************************************| 0% 10 20 30 40 50 60 70 80 90 100% [----|----|----|----|----|----|----|----|----|----| **************************************************| | | | 0% | |======================================================================| 100% | | | 0% | |======================================================================| 100% | | | 0% | |======================================================================| 100% | | | 0% | |======================================================================| 100% | | | 0% | |======================================================================| 100% Performing log-normalization 0% 10 20 30 40 50 60 70 80 90 100% [----|----|----|----|----|----|----|----|----|----| **************************************************| [ FAIL 0 | WARN 22 | SKIP 0 | PASS 223 ] [ FAIL 0 | WARN 22 | SKIP 0 | PASS 223 ] > > proc.time() user system elapsed 455.806 10.387 520.589
singleCellTK.Rcheck/singleCellTK-Ex.timings
name | user | system | elapsed | |
MitoGenes | 0.005 | 0.005 | 0.009 | |
SEG | 0.005 | 0.005 | 0.010 | |
calcEffectSizes | 0.541 | 0.016 | 0.567 | |
combineSCE | 3.896 | 0.056 | 4.034 | |
computeZScore | 0.423 | 0.022 | 0.458 | |
convertSCEToSeurat | 8.537 | 0.291 | 9.256 | |
convertSeuratToSCE | 1.073 | 0.022 | 1.165 | |
dedupRowNames | 0.112 | 0.005 | 0.121 | |
detectCellOutlier | 8.026 | 0.219 | 8.661 | |
diffAbundanceFET | 0.099 | 0.006 | 0.112 | |
discreteColorPalette | 0.011 | 0.001 | 0.011 | |
distinctColors | 0.004 | 0.001 | 0.005 | |
downSampleCells | 1.425 | 0.197 | 1.717 | |
downSampleDepth | 1.139 | 0.060 | 1.243 | |
expData-ANY-character-method | 0.667 | 0.011 | 0.706 | |
expData-set-ANY-character-CharacterOrNullOrMissing-logical-method | 0.748 | 0.010 | 0.792 | |
expData-set | 0.759 | 0.016 | 0.819 | |
expData | 0.752 | 0.063 | 0.854 | |
expDataNames-ANY-method | 0.663 | 0.011 | 0.700 | |
expDataNames | 0.664 | 0.009 | 0.697 | |
expDeleteDataTag | 0.059 | 0.003 | 0.069 | |
expSetDataTag | 0.044 | 0.005 | 0.049 | |
expTaggedData | 0.048 | 0.005 | 0.054 | |
exportSCE | 0.043 | 0.006 | 0.053 | |
exportSCEtoAnnData | 0.147 | 0.006 | 0.161 | |
exportSCEtoFlatFile | 0.144 | 0.003 | 0.155 | |
featureIndex | 0.074 | 0.008 | 0.088 | |
generateSimulatedData | 0.095 | 0.008 | 0.107 | |
getBiomarker | 0.109 | 0.008 | 0.123 | |
getDEGTopTable | 1.933 | 0.058 | 2.095 | |
getDiffAbundanceResults | 0.090 | 0.007 | 0.104 | |
getEnrichRResult | 0.681 | 0.056 | 10.070 | |
getFindMarkerTopTable | 7.664 | 0.085 | 8.305 | |
getMSigDBTable | 0.008 | 0.008 | 0.017 | |
getPathwayResultNames | 0.040 | 0.008 | 0.048 | |
getSampleSummaryStatsTable | 0.688 | 0.013 | 0.751 | |
getSoupX | 0 | 0 | 0 | |
getTSCANResults | 3.784 | 0.063 | 3.924 | |
getTopHVG | 2.199 | 0.031 | 2.410 | |
importAnnData | 0.003 | 0.001 | 0.004 | |
importBUStools | 0.623 | 0.012 | 0.721 | |
importCellRanger | 2.524 | 0.065 | 2.724 | |
importCellRangerV2Sample | 0.601 | 0.005 | 0.630 | |
importCellRangerV3Sample | 0.891 | 0.023 | 0.948 | |
importDropEst | 0.707 | 0.006 | 0.746 | |
importExampleData | 27.053 | 2.702 | 35.604 | |
importGeneSetsFromCollection | 1.592 | 0.154 | 1.789 | |
importGeneSetsFromGMT | 0.129 | 0.011 | 0.142 | |
importGeneSetsFromList | 0.269 | 0.010 | 0.280 | |
importGeneSetsFromMSigDB | 5.977 | 0.228 | 6.754 | |
importMitoGeneSet | 0.105 | 0.015 | 0.127 | |
importOptimus | 0.003 | 0.001 | 0.004 | |
importSEQC | 0.530 | 0.043 | 0.580 | |
importSTARsolo | 0.605 | 0.068 | 0.680 | |
iterateSimulations | 0.827 | 0.050 | 0.923 | |
listSampleSummaryStatsTables | 0.819 | 0.009 | 0.837 | |
mergeSCEColData | 1.017 | 0.030 | 1.055 | |
mouseBrainSubsetSCE | 0.065 | 0.007 | 0.072 | |
msigdb_table | 0.003 | 0.005 | 0.008 | |
plotBarcodeRankDropsResults | 1.758 | 0.030 | 1.796 | |
plotBarcodeRankScatter | 1.790 | 0.014 | 1.809 | |
plotBatchCorrCompare | 14.205 | 0.136 | 14.775 | |
plotBatchVariance | 0.703 | 0.040 | 0.754 | |
plotBcdsResults | 11.675 | 0.272 | 12.256 | |
plotBubble | 2.295 | 0.018 | 2.356 | |
plotClusterAbundance | 1.876 | 0.012 | 1.912 | |
plotCxdsResults | 8.780 | 0.081 | 8.938 | |
plotDEGHeatmap | 6.352 | 0.121 | 6.535 | |
plotDEGRegression | 8.007 | 0.080 | 8.140 | |
plotDEGViolin | 9.554 | 0.142 | 9.751 | |
plotDEGVolcano | 2.109 | 0.022 | 2.142 | |
plotDecontXResults | 11.332 | 0.101 | 11.572 | |
plotDimRed | 0.591 | 0.010 | 0.638 | |
plotDoubletFinderResults | 42.999 | 0.282 | 44.498 | |
plotEmptyDropsResults | 10.243 | 0.058 | 10.696 | |
plotEmptyDropsScatter | 10.390 | 0.051 | 10.668 | |
plotFindMarkerHeatmap | 10.248 | 0.048 | 10.353 | |
plotMASTThresholdGenes | 3.574 | 0.052 | 3.662 | |
plotPCA | 1.103 | 0.017 | 1.128 | |
plotPathway | 1.801 | 0.018 | 1.833 | |
plotRunPerCellQCResults | 4.883 | 0.042 | 5.063 | |
plotSCEBarAssayData | 0.395 | 0.012 | 0.442 | |
plotSCEBarColData | 0.301 | 0.009 | 0.313 | |
plotSCEBatchFeatureMean | 0.534 | 0.005 | 0.576 | |
plotSCEDensity | 0.471 | 0.011 | 0.530 | |
plotSCEDensityAssayData | 0.370 | 0.011 | 0.466 | |
plotSCEDensityColData | 0.472 | 0.013 | 0.618 | |
plotSCEDimReduceColData | 1.645 | 0.023 | 1.732 | |
plotSCEDimReduceFeatures | 0.803 | 0.016 | 0.867 | |
plotSCEHeatmap | 1.496 | 0.018 | 1.625 | |
plotSCEScatter | 0.748 | 0.013 | 0.783 | |
plotSCEViolin | 0.508 | 0.012 | 0.522 | |
plotSCEViolinAssayData | 0.539 | 0.011 | 0.567 | |
plotSCEViolinColData | 0.501 | 0.012 | 0.514 | |
plotScDblFinderResults | 47.508 | 1.126 | 51.505 | |
plotScanpyDotPlot | 0.039 | 0.004 | 0.044 | |
plotScanpyEmbedding | 0.040 | 0.006 | 0.046 | |
plotScanpyHVG | 0.040 | 0.003 | 0.046 | |
plotScanpyHeatmap | 0.039 | 0.005 | 0.047 | |
plotScanpyMarkerGenes | 0.041 | 0.006 | 0.048 | |
plotScanpyMarkerGenesDotPlot | 0.041 | 0.005 | 0.050 | |
plotScanpyMarkerGenesHeatmap | 0.043 | 0.005 | 0.072 | |
plotScanpyMarkerGenesMatrixPlot | 0.041 | 0.005 | 0.046 | |
plotScanpyMarkerGenesViolin | 0.044 | 0.004 | 0.049 | |
plotScanpyMatrixPlot | 0.040 | 0.005 | 0.046 | |
plotScanpyPCA | 0.040 | 0.004 | 0.045 | |
plotScanpyPCAGeneRanking | 0.042 | 0.005 | 0.050 | |
plotScanpyPCAVariance | 0.041 | 0.006 | 0.048 | |
plotScanpyViolin | 0.044 | 0.007 | 0.052 | |
plotScdsHybridResults | 12.960 | 0.338 | 14.295 | |
plotScrubletResults | 0.041 | 0.006 | 0.051 | |
plotSeuratElbow | 0.041 | 0.005 | 0.051 | |
plotSeuratHVG | 0.040 | 0.005 | 0.047 | |
plotSeuratJackStraw | 0.042 | 0.004 | 0.047 | |
plotSeuratReduction | 0.042 | 0.005 | 0.049 | |
plotSoupXResults | 0.000 | 0.001 | 0.001 | |
plotTSCANClusterDEG | 11.554 | 0.161 | 12.401 | |
plotTSCANClusterPseudo | 5.224 | 0.049 | 5.561 | |
plotTSCANDimReduceFeatures | 4.961 | 0.043 | 5.276 | |
plotTSCANPseudotimeGenes | 4.988 | 0.044 | 5.316 | |
plotTSCANPseudotimeHeatmap | 5.125 | 0.047 | 5.441 | |
plotTSCANResults | 4.984 | 0.041 | 5.254 | |
plotTSNE | 1.068 | 0.017 | 1.138 | |
plotTopHVG | 0.813 | 0.019 | 0.876 | |
plotUMAP | 7.875 | 0.091 | 8.396 | |
readSingleCellMatrix | 0.009 | 0.002 | 0.011 | |
reportCellQC | 0.393 | 0.008 | 0.442 | |
reportDropletQC | 0.040 | 0.007 | 0.052 | |
reportQCTool | 0.371 | 0.008 | 0.391 | |
retrieveSCEIndex | 0.053 | 0.003 | 0.063 | |
runBBKNN | 0.001 | 0.001 | 0.001 | |
runBarcodeRankDrops | 0.890 | 0.011 | 0.950 | |
runBcds | 3.703 | 0.062 | 3.932 | |
runCellQC | 0.386 | 0.009 | 0.416 | |
runClusterSummaryMetrics | 1.592 | 0.060 | 1.745 | |
runComBatSeq | 0.970 | 0.026 | 1.051 | |
runCxds | 0.993 | 0.012 | 1.052 | |
runCxdsBcdsHybrid | 3.758 | 0.070 | 4.119 | |
runDEAnalysis | 1.491 | 0.022 | 1.727 | |
runDecontX | 10.348 | 0.121 | 12.444 | |
runDimReduce | 0.978 | 0.012 | 1.013 | |
runDoubletFinder | 37.743 | 0.227 | 39.942 | |
runDropletQC | 0.044 | 0.007 | 0.054 | |
runEmptyDrops | 9.692 | 0.050 | 10.367 | |
runEnrichR | 0.639 | 0.054 | 12.092 | |
runFastMNN | 3.616 | 0.070 | 3.874 | |
runFeatureSelection | 0.441 | 0.009 | 0.470 | |
runFindMarker | 7.454 | 0.082 | 8.157 | |
runGSVA | 1.619 | 0.031 | 1.742 | |
runHarmony | 0.084 | 0.003 | 0.091 | |
runKMeans | 0.941 | 0.018 | 1.012 | |
runLimmaBC | 0.167 | 0.003 | 0.178 | |
runMNNCorrect | 1.096 | 0.012 | 1.174 | |
runModelGeneVar | 0.966 | 0.012 | 1.046 | |
runNormalization | 3.066 | 0.035 | 3.186 | |
runPerCellQC | 1.128 | 0.016 | 1.195 | |
runSCANORAMA | 0.000 | 0.000 | 0.001 | |
runSCMerge | 0.007 | 0.002 | 0.011 | |
runScDblFinder | 31.137 | 0.496 | 33.062 | |
runScanpyFindClusters | 0.042 | 0.007 | 0.053 | |
runScanpyFindHVG | 0.040 | 0.007 | 0.048 | |
runScanpyFindMarkers | 0.039 | 0.005 | 0.047 | |
runScanpyNormalizeData | 0.423 | 0.009 | 0.437 | |
runScanpyPCA | 0.042 | 0.006 | 0.051 | |
runScanpyScaleData | 0.040 | 0.006 | 0.049 | |
runScanpyTSNE | 0.041 | 0.005 | 0.051 | |
runScanpyUMAP | 0.040 | 0.005 | 0.046 | |
runScranSNN | 1.655 | 0.021 | 1.739 | |
runScrublet | 0.041 | 0.003 | 0.046 | |
runSeuratFindClusters | 0.040 | 0.004 | 0.046 | |
runSeuratFindHVG | 1.744 | 0.122 | 1.969 | |
runSeuratHeatmap | 0.040 | 0.008 | 0.052 | |
runSeuratICA | 0.040 | 0.006 | 0.049 | |
runSeuratJackStraw | 0.040 | 0.006 | 0.048 | |
runSeuratNormalizeData | 0.041 | 0.006 | 0.048 | |
runSeuratPCA | 0.040 | 0.007 | 0.048 | |
runSeuratSCTransform | 8.754 | 0.155 | 9.445 | |
runSeuratScaleData | 0.041 | 0.006 | 0.049 | |
runSeuratUMAP | 0.040 | 0.005 | 0.047 | |
runSingleR | 0.080 | 0.005 | 0.088 | |
runSoupX | 0.001 | 0.001 | 0.001 | |
runTSCAN | 3.205 | 0.038 | 3.405 | |
runTSCANClusterDEAnalysis | 3.537 | 0.048 | 3.656 | |
runTSCANDEG | 3.391 | 0.033 | 3.503 | |
runTSNE | 1.703 | 0.025 | 1.806 | |
runUMAP | 7.867 | 0.093 | 8.482 | |
runVAM | 1.198 | 0.015 | 1.324 | |
runZINBWaVE | 0.007 | 0.002 | 0.009 | |
sampleSummaryStats | 0.638 | 0.011 | 0.681 | |
scaterCPM | 0.234 | 0.004 | 0.245 | |
scaterPCA | 0.902 | 0.012 | 0.950 | |
scaterlogNormCounts | 0.480 | 0.006 | 0.514 | |
sce | 0.039 | 0.007 | 0.054 | |
sctkListGeneSetCollections | 0.162 | 0.011 | 0.186 | |
sctkPythonInstallConda | 0.000 | 0.001 | 0.001 | |
sctkPythonInstallVirtualEnv | 0.001 | 0.000 | 0.001 | |
selectSCTKConda | 0.000 | 0.001 | 0.001 | |
selectSCTKVirtualEnvironment | 0.000 | 0.000 | 0.001 | |
setRowNames | 0.176 | 0.008 | 0.192 | |
setSCTKDisplayRow | 0.871 | 0.017 | 0.930 | |
singleCellTK | 0.000 | 0.000 | 0.001 | |
subDiffEx | 1.077 | 0.055 | 1.199 | |
subsetSCECols | 0.378 | 0.013 | 0.396 | |
subsetSCERows | 0.909 | 0.015 | 0.959 | |
summarizeSCE | 0.127 | 0.011 | 0.167 | |
trimCounts | 0.368 | 0.010 | 0.428 | |