Back to Multiple platform build/check report for BioC 3.18: simplified long |
|
This page was generated on 2023-12-02 11:35:21 -0500 (Sat, 02 Dec 2023).
Hostname | OS | Arch (*) | R version | Installed pkgs |
---|---|---|---|---|
nebbiolo2 | Linux (Ubuntu 22.04.2 LTS) | x86_64 | 4.3.2 Patched (2023-11-13 r85521) -- "Eye Holes" | 4685 |
palomino4 | Windows Server 2022 Datacenter | x64 | 4.3.2 (2023-10-31 ucrt) -- "Eye Holes" | 4420 |
lconway | macOS 12.7.1 Monterey | x86_64 | 4.3.2 Patched (2023-11-01 r85457) -- "Eye Holes" | 4439 |
Click on any hostname to see more info about the system (e.g. compilers) (*) as reported by 'uname -p', except on Windows and Mac OS X |
Package 2/2266 | Hostname | OS / Arch | INSTALL | BUILD | CHECK | BUILD BIN | ||||||||
a4Base 1.50.0 (landing page) Laure Cougnaud
| nebbiolo2 | Linux (Ubuntu 22.04.2 LTS) / x86_64 | OK | OK | OK | ![]() | ||||||||
palomino4 | Windows Server 2022 Datacenter / x64 | OK | OK | OK | OK | ![]() | ||||||||
lconway | macOS 12.7.1 Monterey / x86_64 | OK | OK | OK | OK | ![]() | ||||||||
kjohnson1 | macOS 13.6.1 Ventura / arm64 | see weekly results here | ||||||||||||
To the developers/maintainers of the a4Base package: - Allow up to 24 hours (and sometimes 48 hours) for your latest push to git@git.bioconductor.org:packages/a4Base.git to reflect on this report. See Troubleshooting Build Report for more information. - Use the following Renviron settings to reproduce errors and warnings. - If 'R CMD check' started to fail recently on the Linux builder(s) over a missing dependency, add the missing dependency to 'Suggests:' in your DESCRIPTION file. See Renviron.bioc for more information. |
Package: a4Base |
Version: 1.50.0 |
Command: /home/biocbuild/bbs-3.18-bioc/R/bin/R CMD check --install=check:a4Base.install-out.txt --library=/home/biocbuild/bbs-3.18-bioc/R/site-library --timings a4Base_1.50.0.tar.gz |
StartedAt: 2023-12-01 19:50:08 -0500 (Fri, 01 Dec 2023) |
EndedAt: 2023-12-01 19:53:23 -0500 (Fri, 01 Dec 2023) |
EllapsedTime: 195.0 seconds |
RetCode: 0 |
Status: OK |
CheckDir: a4Base.Rcheck |
Warnings: 0 |
############################################################################## ############################################################################## ### ### Running command: ### ### /home/biocbuild/bbs-3.18-bioc/R/bin/R CMD check --install=check:a4Base.install-out.txt --library=/home/biocbuild/bbs-3.18-bioc/R/site-library --timings a4Base_1.50.0.tar.gz ### ############################################################################## ############################################################################## * using log directory ‘/home/biocbuild/bbs-3.18-bioc/meat/a4Base.Rcheck’ * using R version 4.3.2 Patched (2023-11-13 r85521) * using platform: x86_64-pc-linux-gnu (64-bit) * R was compiled by gcc (Ubuntu 11.4.0-1ubuntu1~22.04) 11.4.0 GNU Fortran (Ubuntu 11.4.0-1ubuntu1~22.04) 11.4.0 * running under: Ubuntu 22.04.3 LTS * using session charset: UTF-8 * checking for file ‘a4Base/DESCRIPTION’ ... OK * checking extension type ... Package * this is package ‘a4Base’ version ‘1.50.0’ * checking package namespace information ... OK * checking package dependencies ... NOTE Package which this enhances but not available for checking: ‘JavaGD’ * checking if this is a source package ... OK * checking if there is a namespace ... OK * checking for hidden files and directories ... OK * checking for portable file names ... OK * checking for sufficient/correct file permissions ... OK * checking whether package ‘a4Base’ can be installed ... OK * checking installed package size ... OK * checking package directory ... OK * checking DESCRIPTION meta-information ... OK * checking top-level files ... OK * checking for left-over files ... OK * checking index information ... OK * checking package subdirectories ... OK * checking R files for non-ASCII characters ... OK * checking R files for syntax errors ... OK * checking whether the package can be loaded ... OK * checking whether the package can be loaded with stated dependencies ... OK * checking whether the package can be unloaded cleanly ... OK * checking whether the namespace can be loaded with stated dependencies ... OK * checking whether the namespace can be unloaded cleanly ... OK * checking loading without being on the library search path ... OK * checking startup messages can be suppressed ... OK * checking dependencies in R code ... OK * checking S3 generic/method consistency ... OK * checking replacement functions ... OK * checking foreign function calls ... OK * checking R code for possible problems ... OK * checking Rd files ... NOTE checkRd: (-1) filterVarInt.Rd:52: Escaped LaTeX specials: \& checkRd: (-1) histPvalue.Rd:50: Escaped LaTeX specials: \& checkRd: (-1) lassoReg.Rd:38: Escaped LaTeX specials: \& checkRd: (-1) spectralMap.Rd:49: Escaped LaTeX specials: \& checkRd: (-1) volcanoPlot.Rd:45: Escaped LaTeX specials: \& * checking Rd metadata ... OK * checking Rd cross-references ... OK * checking for missing documentation entries ... OK * checking for code/documentation mismatches ... OK * checking Rd \usage sections ... OK * checking Rd contents ... OK * checking for unstated dependencies in examples ... OK * checking contents of ‘data’ directory ... OK * checking data for non-ASCII characters ... OK * checking data for ASCII and uncompressed saves ... OK * checking examples ... OK Examples with CPU (user + system) or elapsed time > 5s user system elapsed spectralMap 9.929 0.347 10.277 * checking PDF version of manual ... OK * DONE Status: 2 NOTEs See ‘/home/biocbuild/bbs-3.18-bioc/meat/a4Base.Rcheck/00check.log’ for details.
a4Base.Rcheck/00install.out
############################################################################## ############################################################################## ### ### Running command: ### ### /home/biocbuild/bbs-3.18-bioc/R/bin/R CMD INSTALL a4Base ### ############################################################################## ############################################################################## * installing to library ‘/home/biocbuild/bbs-3.18-bioc/R/site-library’ * installing *source* package ‘a4Base’ ... ** using staged installation ** R ** data ** inst ** byte-compile and prepare package for lazy loading ** help *** installing help indices ** building package indices ** testing if installed package can be loaded from temporary location ** testing if installed package can be loaded from final location ** testing if installed package keeps a record of temporary installation path * DONE (a4Base)
a4Base.Rcheck/a4Base-Ex.timings
name | user | system | elapsed | |
a4palette | 0.013 | 0.016 | 0.029 | |
addQuantilesColors | 1.873 | 0.120 | 1.994 | |
boxPlot | 2.549 | 0.108 | 2.658 | |
combineTwoExpressionSet | 0 | 0 | 0 | |
computeLogRatio | 4.719 | 0.248 | 4.968 | |
createExpressionSet | 0.058 | 0.012 | 0.070 | |
filterVarInt | 2.248 | 0.092 | 2.340 | |
heatmap.expressionSet | 0.000 | 0.001 | 0.000 | |
histPvalue | 1.774 | 0.035 | 1.808 | |
histpvalueplotter | 1.771 | 0.052 | 1.823 | |
lassoReg | 1.820 | 0.036 | 1.856 | |
logReg | 0.000 | 0.000 | 0.001 | |
nlcvTT | 0 | 0 | 0 | |
plot1gene | 1.707 | 0.048 | 1.756 | |
plotComb2Samples | 2.423 | 0.096 | 2.518 | |
plotCombMultSamples | 2.684 | 0.080 | 2.764 | |
plotCombination2genes | 2.581 | 0.072 | 2.652 | |
plotLogRatio | 4.24 | 0.10 | 4.34 | |
probabilitiesPlot | 0 | 0 | 0 | |
probe2gene | 1.523 | 0.008 | 1.532 | |
profilesPlot | 1.743 | 0.028 | 1.771 | |
propdegenescalculation | 1.909 | 0.024 | 1.932 | |
replicates | 0.000 | 0.002 | 0.002 | |
spectralMap | 9.929 | 0.347 | 10.277 | |
tTest | 2.013 | 0.016 | 2.030 | |
volcanoPlot | 2.226 | 0.036 | 2.262 | |