Back to Multiple platform build/check report for BioC 3.18:   simplified   long
ABC[D]EFGHIJKLMNOPQRSTUVWXYZ

This page was generated on 2023-12-02 11:36:17 -0500 (Sat, 02 Dec 2023).

HostnameOSArch (*)R versionInstalled pkgs
nebbiolo2Linux (Ubuntu 22.04.2 LTS)x86_644.3.2 Patched (2023-11-13 r85521) -- "Eye Holes" 4685
palomino4Windows Server 2022 Datacenterx644.3.2 (2023-10-31 ucrt) -- "Eye Holes" 4420
lconwaymacOS 12.7.1 Montereyx86_644.3.2 Patched (2023-11-01 r85457) -- "Eye Holes" 4439
Click on any hostname to see more info about the system (e.g. compilers)      (*) as reported by 'uname -p', except on Windows and Mac OS X

Package 595/2266HostnameOS / ArchINSTALLBUILDCHECKBUILD BIN
doubletrouble 1.2.1  (landing page)
Fabrício Almeida-Silva
Snapshot Date: 2023-12-01 14:05:06 -0500 (Fri, 01 Dec 2023)
git_url: https://git.bioconductor.org/packages/doubletrouble
git_branch: RELEASE_3_18
git_last_commit: ef82a21
git_last_commit_date: 2023-11-08 05:11:31 -0500 (Wed, 08 Nov 2023)
nebbiolo2Linux (Ubuntu 22.04.2 LTS) / x86_64  OK    OK    OK  UNNEEDED, same version is already published
palomino4Windows Server 2022 Datacenter / x64  OK    OK    OK    OK  UNNEEDED, same version is already published
lconwaymacOS 12.7.1 Monterey / x86_64  OK    OK    OK    OK  UNNEEDED, same version is already published
kjohnson1macOS 13.6.1 Ventura / arm64see weekly results here

CHECK results for doubletrouble on palomino4


To the developers/maintainers of the doubletrouble package:
- Allow up to 24 hours (and sometimes 48 hours) for your latest push to git@git.bioconductor.org:packages/doubletrouble.git to reflect on this report. See Troubleshooting Build Report for more information.
- Use the following Renviron settings to reproduce errors and warnings.
- If 'R CMD check' started to fail recently on the Linux builder(s) over a missing dependency, add the missing dependency to 'Suggests:' in your DESCRIPTION file. See Renviron.bioc for more information.

raw results


Summary

Package: doubletrouble
Version: 1.2.1
Command: F:\biocbuild\bbs-3.18-bioc\R\bin\R.exe CMD check --no-multiarch --install=check:doubletrouble.install-out.txt --library=F:\biocbuild\bbs-3.18-bioc\R\library --no-vignettes --timings doubletrouble_1.2.1.tar.gz
StartedAt: 2023-12-02 01:03:37 -0500 (Sat, 02 Dec 2023)
EndedAt: 2023-12-02 01:09:32 -0500 (Sat, 02 Dec 2023)
EllapsedTime: 354.7 seconds
RetCode: 0
Status:   OK  
CheckDir: doubletrouble.Rcheck
Warnings: 0

Command output

##############################################################################
##############################################################################
###
### Running command:
###
###   F:\biocbuild\bbs-3.18-bioc\R\bin\R.exe CMD check --no-multiarch --install=check:doubletrouble.install-out.txt --library=F:\biocbuild\bbs-3.18-bioc\R\library --no-vignettes --timings doubletrouble_1.2.1.tar.gz
###
##############################################################################
##############################################################################


* using log directory 'F:/biocbuild/bbs-3.18-bioc/meat/doubletrouble.Rcheck'
* using R version 4.3.2 (2023-10-31 ucrt)
* using platform: x86_64-w64-mingw32 (64-bit)
* R was compiled by
    gcc.exe (GCC) 12.3.0
    GNU Fortran (GCC) 12.3.0
* running under: Windows Server 2022 x64 (build 20348)
* using session charset: UTF-8
* using option '--no-vignettes'
* checking for file 'doubletrouble/DESCRIPTION' ... OK
* this is package 'doubletrouble' version '1.2.1'
* package encoding: UTF-8
* checking package namespace information ... OK
* checking package dependencies ... OK
* checking if this is a source package ... OK
* checking if there is a namespace ... OK
* checking for hidden files and directories ... OK
* checking for portable file names ... OK
* checking whether package 'doubletrouble' can be installed ... OK
* checking installed package size ... OK
* checking package directory ... OK
* checking 'build' directory ... OK
* checking DESCRIPTION meta-information ... OK
* checking top-level files ... OK
* checking for left-over files ... OK
* checking index information ... OK
* checking package subdirectories ... OK
* checking R files for non-ASCII characters ... OK
* checking R files for syntax errors ... OK
* checking whether the package can be loaded ... OK
* checking whether the package can be loaded with stated dependencies ... OK
* checking whether the package can be unloaded cleanly ... OK
* checking whether the namespace can be loaded with stated dependencies ... OK
* checking whether the namespace can be unloaded cleanly ... OK
* checking dependencies in R code ... OK
* checking S3 generic/method consistency ... OK
* checking replacement functions ... OK
* checking foreign function calls ... OK
* checking R code for possible problems ... OK
* checking Rd files ... OK
* checking Rd metadata ... OK
* checking Rd cross-references ... OK
* checking for missing documentation entries ... OK
* checking for code/documentation mismatches ... OK
* checking Rd \usage sections ... OK
* checking Rd contents ... OK
* checking for unstated dependencies in examples ... OK
* checking contents of 'data' directory ... OK
* checking data for non-ASCII characters ... OK
* checking data for ASCII and uncompressed saves ... OK
* checking files in 'vignettes' ... OK
* checking examples ... OK
Examples with CPU (user + system) or elapsed time > 5s
                    user system elapsed
classify_gene_pairs 8.55   2.05   10.64
pairs2kaks          3.08   1.01   27.80
* checking for unstated dependencies in 'tests' ... OK
* checking tests ...
  Running 'testthat.R'
 OK
* checking for unstated dependencies in vignettes ... OK
* checking package vignettes in 'inst/doc' ... OK
* checking running R code from vignettes ... SKIPPED
* checking re-building of vignette outputs ... SKIPPED
* checking PDF version of manual ... OK
* DONE

Status: OK


Installation output

doubletrouble.Rcheck/00install.out

##############################################################################
##############################################################################
###
### Running command:
###
###   F:\biocbuild\bbs-3.18-bioc\R\bin\R.exe CMD INSTALL doubletrouble
###
##############################################################################
##############################################################################


* installing to library 'F:/biocbuild/bbs-3.18-bioc/R/library'
* installing *source* package 'doubletrouble' ...
** using staged installation
** R
** data
** inst
** byte-compile and prepare package for lazy loading
** help
*** installing help indices
*** copying figures
** building package indices
** installing vignettes
** testing if installed package can be loaded from temporary location
** testing if installed package can be loaded from final location
** testing if installed package keeps a record of temporary installation path
* DONE (doubletrouble)

Tests output

doubletrouble.Rcheck/tests/testthat.Rout


R version 4.3.2 (2023-10-31 ucrt) -- "Eye Holes"
Copyright (C) 2023 The R Foundation for Statistical Computing
Platform: x86_64-w64-mingw32/x64 (64-bit)

R is free software and comes with ABSOLUTELY NO WARRANTY.
You are welcome to redistribute it under certain conditions.
Type 'license()' or 'licence()' for distribution details.

R is a collaborative project with many contributors.
Type 'contributors()' for more information and
'citation()' on how to cite R or R packages in publications.

Type 'demo()' for some demos, 'help()' for on-line help, or
'help.start()' for an HTML browser interface to help.
Type 'q()' to quit R.

> # This file is part of the standard setup for testthat.
> # It is recommended that you do not modify it.
> #
> # Where should you do additional test configuration?
> # Learn more about the roles of various files in:
> # * https://r-pkgs.org/tests.html
> # * https://testthat.r-lib.org/reference/test_package.html#special-files
> 
> library(testthat)
> library(doubletrouble)
> 
> test_check("doubletrouble")
CDS length is not a multiple of 3 for pair YGR032W, YLR342W
Bayesian Information Criterion (BIC): 
          E         V
1 -5588.359 -5588.359
2 -4806.157 -4294.228

Top 3 models based on the BIC criterion: 
      V,2       E,2       E,1 
-4294.228 -4806.157 -5588.359 
[ FAIL 0 | WARN 0 | SKIP 0 | PASS 50 ]
> 
> proc.time()
   user  system elapsed 
  31.39    6.21   53.95 

Example timings

doubletrouble.Rcheck/doubletrouble-Ex.timings

nameusersystemelapsed
cds_scerevisiae0.030.010.05
classify_gene_pairs 8.55 2.0510.64
classify_genes0.020.000.02
diamond_inter0.030.020.05
diamond_intra0.050.010.06
find_ks_peaks0.140.000.14
get_anchors_list2.750.853.61
get_intron_counts2.160.012.17
get_segmental2.480.893.41
get_tandem_proximal0.730.030.76
get_transposed2.540.833.38
get_transposed_classes3.590.744.36
gmax_ks0.20.00.2
pairs2kaks 3.08 1.0127.80
plot_ks_peaks0.300.020.31
scerevisiae_kaks000
split_pairs_by_peak0.280.000.28
yeast_annot0.150.000.16
yeast_seq0.210.000.20