Back to Multiple platform build/check report for BioC 3.18:   simplified   long
ABCDEFGHIJKL[M]NOPQRSTUVWXYZ

This page was generated on 2024-02-28 11:36:59 -0500 (Wed, 28 Feb 2024).

HostnameOSArch (*)R versionInstalled pkgs
nebbiolo2Linux (Ubuntu 22.04.3 LTS)x86_644.3.2 Patched (2023-11-13 r85521) -- "Eye Holes" 4692
palomino4Windows Server 2022 Datacenterx644.3.2 (2023-10-31 ucrt) -- "Eye Holes" 4445
lconwaymacOS 12.7.1 Montereyx86_644.3.2 Patched (2023-11-01 r85457) -- "Eye Holes" 4466
Click on any hostname to see more info about the system (e.g. compilers)      (*) as reported by 'uname -p', except on Windows and Mac OS X

Package 1214/2266HostnameOS / ArchINSTALLBUILDCHECKBUILD BIN
metaseqR2 1.14.0  (landing page)
Panagiotis Moulos
Snapshot Date: 2024-02-27 14:05:07 -0500 (Tue, 27 Feb 2024)
git_url: https://git.bioconductor.org/packages/metaseqR2
git_branch: RELEASE_3_18
git_last_commit: c5496b0
git_last_commit_date: 2023-10-24 11:22:10 -0500 (Tue, 24 Oct 2023)
nebbiolo2Linux (Ubuntu 22.04.3 LTS) / x86_64  OK    OK    OK  UNNEEDED, same version is already published
palomino4Windows Server 2022 Datacenter / x64  OK    OK    OK    OK  UNNEEDED, same version is already published
lconwaymacOS 12.7.1 Monterey / x86_64  OK    OK    OK    OK  UNNEEDED, same version is already published
kjohnson1macOS 13.6.1 Ventura / arm64see weekly results here

CHECK results for metaseqR2 on palomino4


To the developers/maintainers of the metaseqR2 package:
- Allow up to 24 hours (and sometimes 48 hours) for your latest push to git@git.bioconductor.org:packages/metaseqR2.git to reflect on this report. See Troubleshooting Build Report for more information.
- Use the following Renviron settings to reproduce errors and warnings.
- If 'R CMD check' started to fail recently on the Linux builder(s) over a missing dependency, add the missing dependency to 'Suggests:' in your DESCRIPTION file. See Renviron.bioc for more information.

raw results


Summary

Package: metaseqR2
Version: 1.14.0
Command: F:\biocbuild\bbs-3.18-bioc\R\bin\R.exe CMD check --no-multiarch --install=check:metaseqR2.install-out.txt --library=F:\biocbuild\bbs-3.18-bioc\R\library --no-vignettes --timings metaseqR2_1.14.0.tar.gz
StartedAt: 2024-02-28 03:33:50 -0500 (Wed, 28 Feb 2024)
EndedAt: 2024-02-28 03:42:03 -0500 (Wed, 28 Feb 2024)
EllapsedTime: 493.1 seconds
RetCode: 0
Status:   OK  
CheckDir: metaseqR2.Rcheck
Warnings: 0

Command output

##############################################################################
##############################################################################
###
### Running command:
###
###   F:\biocbuild\bbs-3.18-bioc\R\bin\R.exe CMD check --no-multiarch --install=check:metaseqR2.install-out.txt --library=F:\biocbuild\bbs-3.18-bioc\R\library --no-vignettes --timings metaseqR2_1.14.0.tar.gz
###
##############################################################################
##############################################################################


* using log directory 'F:/biocbuild/bbs-3.18-bioc/meat/metaseqR2.Rcheck'
* using R version 4.3.2 (2023-10-31 ucrt)
* using platform: x86_64-w64-mingw32 (64-bit)
* R was compiled by
    gcc.exe (GCC) 12.3.0
    GNU Fortran (GCC) 12.3.0
* running under: Windows Server 2022 x64 (build 20348)
* using session charset: UTF-8
* using option '--no-vignettes'
* checking for file 'metaseqR2/DESCRIPTION' ... OK
* checking extension type ... Package
* this is package 'metaseqR2' version '1.14.0'
* package encoding: UTF-8
* checking package namespace information ... OK
* checking package dependencies ... OK
* checking if this is a source package ... OK
* checking if there is a namespace ... OK
* checking for hidden files and directories ... OK
* checking for portable file names ... OK
* checking whether package 'metaseqR2' can be installed ... OK
* used C compiler: 'gcc.exe (GCC) 12.3.0'
* checking installed package size ... OK
* checking package directory ... OK
* checking 'build' directory ... OK
* checking DESCRIPTION meta-information ... OK
* checking top-level files ... OK
* checking for left-over files ... OK
* checking index information ... OK
* checking package subdirectories ... OK
* checking R files for non-ASCII characters ... OK
* checking R files for syntax errors ... OK
* checking whether the package can be loaded ... OK
* checking whether the package can be loaded with stated dependencies ... OK
* checking whether the package can be unloaded cleanly ... OK
* checking whether the namespace can be loaded with stated dependencies ... OK
* checking whether the namespace can be unloaded cleanly ... OK
* checking dependencies in R code ... OK
* checking S3 generic/method consistency ... OK
* checking replacement functions ... OK
* checking foreign function calls ... OK
* checking R code for possible problems ... NOTE
getUcscUtr: no visible binding for global variable 'customDir'
Undefined global functions or variables:
  customDir
* checking Rd files ... OK
* checking Rd metadata ... OK
* checking Rd cross-references ... OK
* checking for missing documentation entries ... OK
* checking for code/documentation mismatches ... OK
* checking Rd \usage sections ... OK
* checking Rd contents ... OK
* checking for unstated dependencies in examples ... OK
* checking contents of 'data' directory ... OK
* checking data for non-ASCII characters ... OK
* checking data for ASCII and uncompressed saves ... OK
* checking line endings in C/C++/Fortran sources/headers ... OK
* checking compiled code ... NOTE
Note: information on .o files for x64 is not available
File 'F:/biocbuild/bbs-3.18-bioc/R/library/metaseqR2/libs/x64/metaseqR2.dll':
  Found 'abort', possibly from 'abort' (C), 'runtime' (Fortran)

Compiled code should not call entry points which might terminate R nor
write to stdout/stderr instead of to the console, nor use Fortran I/O
nor system RNGs nor [v]sprintf. The detected symbols are linked into
the code but might come from libraries and not actually be called.

See 'Writing portable packages' in the 'Writing R Extensions' manual.
* checking files in 'vignettes' ... OK
* checking examples ... OK
Examples with CPU (user + system) or elapsed time > 5s
           user system elapsed
metaseqr2  5.52   1.36   12.16
statNoiseq 6.45   0.04    6.50
* checking for unstated dependencies in 'tests' ... OK
* checking tests ...
  Running 'runTests.R'
 OK
* checking for unstated dependencies in vignettes ... OK
* checking package vignettes in 'inst/doc' ... OK
* checking running R code from vignettes ... SKIPPED
* checking re-building of vignette outputs ... SKIPPED
* checking PDF version of manual ... OK
* DONE

Status: 2 NOTEs
See
  'F:/biocbuild/bbs-3.18-bioc/meat/metaseqR2.Rcheck/00check.log'
for details.



Installation output

metaseqR2.Rcheck/00install.out

##############################################################################
##############################################################################
###
### Running command:
###
###   F:\biocbuild\bbs-3.18-bioc\R\bin\R.exe CMD INSTALL metaseqR2
###
##############################################################################
##############################################################################


* installing to library 'F:/biocbuild/bbs-3.18-bioc/R/library'
* installing *source* package 'metaseqR2' ...
** using staged installation
** libs
using C compiler: 'gcc.exe (GCC) 12.3.0'
gcc  -I"F:/biocbuild/bbs-3.18-bioc/R/include" -DNDEBUG     -I"C:/rtools43/x86_64-w64-mingw32.static.posix/include"     -O2 -Wall  -mfpmath=sse -msse2 -mstackrealign  -c pval.c -o pval.o
pval.c: In function 'add_from_both_sides':
pval.c:26:11: warning: unused variable 'esttotalperlength' [-Wunused-variable]
   26 |    double esttotalperlength = total/2;
      |           ^~~~~~~~~~~~~~~~~
gcc -shared -s -static-libgcc -o metaseqR2.dll tmp.def pval.o -LC:/rtools43/x86_64-w64-mingw32.static.posix/lib/x64 -LC:/rtools43/x86_64-w64-mingw32.static.posix/lib -LF:/biocbuild/bbs-3.18-bioc/R/bin/x64 -lR
installing to F:/biocbuild/bbs-3.18-bioc/R/library/00LOCK-metaseqR2/00new/metaseqR2/libs/x64
** R
** data
** inst
** byte-compile and prepare package for lazy loading
** help
*** installing help indices
** building package indices
** installing vignettes
** testing if installed package can be loaded from temporary location
** testing if installed package can be loaded from final location
** testing if installed package keeps a record of temporary installation path
* DONE (metaseqR2)

Tests output

metaseqR2.Rcheck/tests/runTests.Rout


R version 4.3.2 (2023-10-31 ucrt) -- "Eye Holes"
Copyright (C) 2023 The R Foundation for Statistical Computing
Platform: x86_64-w64-mingw32/x64 (64-bit)

R is free software and comes with ABSOLUTELY NO WARRANTY.
You are welcome to redistribute it under certain conditions.
Type 'license()' or 'licence()' for distribution details.

R is a collaborative project with many contributors.
Type 'contributors()' for more information and
'citation()' on how to cite R or R packages in publications.

Type 'demo()' for some demos, 'help()' for on-line help, or
'help.start()' for an HTML browser interface to help.
Type 'q()' to quit R.

> BiocGenerics:::testPackage("metaseqR2")

Attaching package: 'BiocGenerics'

The following objects are masked from 'package:stats':

    IQR, mad, sd, var, xtabs

The following objects are masked from 'package:base':

    Filter, Find, Map, Position, Reduce, anyDuplicated, aperm, append,
    as.data.frame, basename, cbind, colnames, dirname, do.call,
    duplicated, eval, evalq, get, grep, grepl, intersect, is.unsorted,
    lapply, mapply, match, mget, order, paste, pmax, pmax.int, pmin,
    pmin.int, rank, rbind, rownames, sapply, setdiff, sort, table,
    tapply, union, unique, unsplit, which.max, which.min


Attaching package: 'S4Vectors'

The following object is masked from 'package:utils':

    findMatches

The following objects are masked from 'package:base':

    I, expand.grid, unname


Attaching package: 'IRanges'

The following object is masked from 'package:grDevices':

    windows


Attaching package: 'MatrixGenerics'

The following objects are masked from 'package:matrixStats':

    colAlls, colAnyNAs, colAnys, colAvgsPerRowSet, colCollapse,
    colCounts, colCummaxs, colCummins, colCumprods, colCumsums,
    colDiffs, colIQRDiffs, colIQRs, colLogSumExps, colMadDiffs,
    colMads, colMaxs, colMeans2, colMedians, colMins, colOrderStats,
    colProds, colQuantiles, colRanges, colRanks, colSdDiffs, colSds,
    colSums2, colTabulates, colVarDiffs, colVars, colWeightedMads,
    colWeightedMeans, colWeightedMedians, colWeightedSds,
    colWeightedVars, rowAlls, rowAnyNAs, rowAnys, rowAvgsPerColSet,
    rowCollapse, rowCounts, rowCummaxs, rowCummins, rowCumprods,
    rowCumsums, rowDiffs, rowIQRDiffs, rowIQRs, rowLogSumExps,
    rowMadDiffs, rowMads, rowMaxs, rowMeans2, rowMedians, rowMins,
    rowOrderStats, rowProds, rowQuantiles, rowRanges, rowRanks,
    rowSdDiffs, rowSds, rowSums2, rowTabulates, rowVarDiffs, rowVars,
    rowWeightedMads, rowWeightedMeans, rowWeightedMedians,
    rowWeightedSds, rowWeightedVars

Welcome to Bioconductor

    Vignettes contain introductory material; view with
    'browseVignettes()'. To cite Bioconductor, see
    'citation("Biobase")', and for packages 'citation("pkgname")'.


Attaching package: 'Biobase'

The following object is masked from 'package:MatrixGenerics':

    rowMedians

The following objects are masked from 'package:matrixStats':

    anyMissing, rowMedians


Attaching package: 'limma'

The following object is masked from 'package:DESeq2':

    plotMA

The following object is masked from 'package:BiocGenerics':

    plotMA

locfit 1.5-9.8 	 2023-06-11

Attaching package: 'metaseqR2'

The following object is masked from 'package:limma':

    readTargets


Downsampling counts...
Estimating initial dispersion population...
Estimating dispersions using log-likelihood...

Running simulations... This procedure requires time... Please wait...Using Ensembl host https://nov2020.archive.ensembl.org

2024-02-28 03:41:41: Data processing started...

Read counts file: imported custom data frame
Conditions: G1, G2
Samples to include: G1_rep1, G1_rep2, G1_rep3, G2_rep1, G2_rep2, G2_rep3
Samples to exclude: none
Requested contrasts: G1_vs_G2
Annotation: embedded
Organism: mm10
Reference source: ensembl
Count type: gene
Analysis preset: all_basic
Transcriptional level: gene
Exon filters: none applied
Gene filters: none applied
Filter application: postnorm
Normalization algorithm: edaseq
Normalization arguments: 
  within.which: loess
  between.which: full
Statistical algorithm(s): edger, limma
Statistical arguments: 
  edger: classic, 5, 10, movingave, NULL, grid, 11, c(-6, 6), NULL, CoxReid, 10000, NULL, auto, NULL, NULL, NULL, NULL, 0.125, NULL, auto, chisq, TRUE, FALSE, c(0.05, 0.1)
  limma: none
Meta-analysis method: simes
Multiple testing correction: BH
Logarithmic transformation offset: 1
Analysis preset: all_basic
Quality control plots: 
Figure format: png
Output directory: F:\biocbuild\bbs-3.18-bioc\tmpdir\RtmpqMhhgQ
Output data: annotation, p_value, adj_p_value, meta_p_value, adj_meta_p_value, fold_change
Output scale(s): natural, log2
Output values: normalized
Loading gene annotation...
Saving gene model to F:\biocbuild\bbs-3.18-bioc\tmpdir\RtmpqMhhgQ/data/gene_model.RData
Removing genes with zero counts in all samples...
Normalizing with: edaseq
Running statistical tests with: edger
  Contrast: G1_vs_G2
Running statistical tests with: limma
  Contrast: G1_vs_G2
Performing meta-analysis with simes
Building output files...
  Contrast: G1_vs_G2
    Adding non-filtered data...
      binding annotation...
      binding p-values...
      binding FDRs...
      binding meta p-values...
      binding adjusted meta p-values...
      binding natural normalized fold changes...
      binding log2 normalized fold changes...
    Writing output...

2024-02-28 03:41:41: Data processing finished!


Total processing time: 00 seconds


Estimating AUFC weights... Please wait...
Processing edger
Processing limma

Retrieving edger
Retrieving limma

2024-02-28 03:41:42: Data processing started...

Read counts file: imported custom data frame
Conditions: e14.5, adult_8_weeks
Samples to include: e14.5_1, e14.5_2, a8w_1, a8w_2
Samples to exclude: none
Requested contrasts: adult_8_weeks_vs_e14.5
Library sizes: 
  e14.5_1: 3102907
  e14.5_2: 2067905
  a8w_1: 3742059
  a8w_2: 4403954
Annotation: embedded
Organism: mm9
Reference source: ensembl
Count type: gene
Analysis preset: medium_basic
Transcriptional level: gene
Exon filters: minActiveExons
  minActiveExons: 
    exonsPerGene: 5
    minExons: 2
    frac: 0.2
Gene filters: length, avgReads, expression, biotype
  length: 
    length: 500
  avgReads: 
    averagePerBp: 100
    quantile: 0.25
  expression: 
    median: TRUE
    mean: FALSE
    quantile: NA
    known: NA
    custom: NA
  biotype: 
    pseudogene: FALSE
    snRNA: FALSE
    protein_coding: FALSE
    antisense: FALSE
    miRNA: FALSE
    lincRNA: FALSE
    snoRNA: FALSE
    processed_transcript: FALSE
    misc_RNA: FALSE
    rRNA: TRUE
    sense_overlapping: FALSE
    sense_intronic: FALSE
    polymorphic_pseudogene: FALSE
    non_coding: FALSE
    three_prime_overlapping_ncrna: FALSE
    IG_C_gene: FALSE
    IG_J_gene: FALSE
    IG_D_gene: FALSE
    IG_V_gene: FALSE
    ncrna_host: FALSE
Filter application: postnorm
Normalization algorithm: edger
Normalization arguments: 
  method: TMM
  logratioTrim: 0.3
  sumTrim: 0.05
  doWeighting: TRUE
  Acutoff: -1e+10
  p: 0.75
Statistical algorithm(s): edger, limma
Statistical arguments: 
  edger: classic, 5, 10, movingave, NULL, grid, 11, c(-6, 6), NULL, CoxReid, 10000, NULL, auto, NULL, NULL, NULL, NULL, 0.125, NULL, auto, chisq, TRUE, FALSE, c(0.05, 0.1)
  limma: none
Meta-analysis method: simes
Multiple testing correction: BH
p-value threshold: 0.05
Logarithmic transformation offset: 1
Analysis preset: medium_basic
Quality control plots: mds
Figure format: png
Output directory: F:\biocbuild\bbs-3.18-bioc\tmpdir\RtmpqMhhgQ
Output data: annotation, p_value, adj_p_value, meta_p_value, adj_meta_p_value, fold_change
Output scale(s): natural, log2
Output values: normalized
Loading gene annotation...
Saving gene model to F:\biocbuild\bbs-3.18-bioc\tmpdir\RtmpqMhhgQ/data/gene_model.RData
Removing genes with zero counts in all samples...
Normalizing with: edger
Applying gene filter length...
  Threshold below which ignored: 500
Applying gene filter avgReads...
  Threshold below which ignored: 0.0659629215631332
Applying gene filter expression...
  Threshold below which ignored: 68
Applying gene filter biotype...
  Biotypes ignored: rRNA
2106 genes filtered out
1681 genes remain after filtering
Running statistical tests with: edger
  Contrast: adult_8_weeks_vs_e14.5
  Contrast adult_8_weeks_vs_e14.5: found 906 genes
Running statistical tests with: limma
  Contrast: adult_8_weeks_vs_e14.5
  Contrast adult_8_weeks_vs_e14.5: found 911 genes
Performing meta-analysis with simes
Building output files...
  Contrast: adult_8_weeks_vs_e14.5
    Adding non-filtered data...
      binding annotation...
      binding p-values...
      binding FDRs...
      binding meta p-values...
      binding adjusted meta p-values...
      binding natural normalized fold changes...
      binding log2 normalized fold changes...
    Writing output...
    Adding filtered data...
      binding annotation...
      binding p-values...
      binding FDRs...
      binding meta p-values...
      binding adjusted meta p-values...
      binding natural normalized fold changes...
      binding log2 normalized fold changes...
    Writing output...
    Adding report data...
      binding annotation...
      binding meta p-values...
      binding adjusted meta p-values...
      binding log2 normalized fold changes...
      binding normalized mean counts...
      binding normalized mean counts...
Creating quality control graphs...
Plotting in png format...
  Plotting mds...
  Importing mds...
Writing plot database in F:\biocbuild\bbs-3.18-bioc\tmpdir\RtmpqMhhgQ/data/reportdb.js
Creating HTML report...
Compressing figures...  adding: biocbuild/bbs-3.18-bioc/tmpdir/RtmpqMhhgQ/plots/qc/mds.png (deflated 49%)

Downloading required JavaScript libraries...trying URL 'https://raw.github.com/HubSpot/pace/v1.0.0/pace.min.js'
Content type 'text/plain; charset=utf-8' length 12363 bytes (12 KB)
==================================================
downloaded 12 KB

trying URL 'https://code.highcharts.com/highcharts.js'
downloaded 271 KB

trying URL 'https://code.highcharts.com/highcharts-more.js'
downloaded 92 KB

trying URL 'https://code.highcharts.com/modules/exporting.js'
downloaded 19 KB

trying URL 'https://code.highcharts.com/modules/offline-exporting.js'
downloaded 9675 bytes

trying URL 'https://code.highcharts.com/modules/export-data.js'
downloaded 12 KB

trying URL 'http://jvenn.toulouse.inrae.fr/app/js/canvas2svg.js'
Content type 'text/javascript' length 35122 bytes (34 KB)
==================================================
downloaded 34 KB

trying URL 'http://jvenn.toulouse.inrae.fr/app/js/jvenn.min.js'
Content type 'text/javascript' length 100524 bytes (98 KB)
==================================================
downloaded 98 KB

trying URL 'https://unpkg.com/dexie@2.0.4/dist/dexie.min.js'
downloaded 55 KB



processing file: metaseqr2_report.Rmd
output file: metaseqr2_report.knit.md

"C:/PROGRA~1/Pandoc/pandoc" +RTS -K512m -RTS metaseqr2_report.knit.md --to html4 --from markdown+autolink_bare_uris+tex_math_single_backslash --output pandoc34c83c6c4437.html --lua-filter "F:\biocbuild\bbs-3.18-bioc\R\library\rmarkdown\rmarkdown\lua\pagebreak.lua" --lua-filter "F:\biocbuild\bbs-3.18-bioc\R\library\rmarkdown\rmarkdown\lua\latex-div.lua" +RTS -K2048m -RTS --variable "material:true" --variable "lightbox:true" --variable "thumbnails:true" --variable "gallery:true" --variable "cards:true" --variable bs3=TRUE --standalone --section-divs --table-of-contents --toc-depth 1 --template "F:\biocbuild\bbs-3.18-bioc\R\library\rmdformats\templates\material\material.html" --highlight-style kate --variable theme=bootstrap --include-in-header "F:\biocbuild\bbs-3.18-bioc\tmpdir\RtmpqMhhgQ\rmarkdown-str34c8289533f3.html" 

Output created: F:/biocbuild/bbs-3.18-bioc/tmpdir/RtmpqMhhgQ/index.html


2024-02-28 03:41:52: Data processing finished!


Total processing time: 10 seconds



RUNIT TEST PROTOCOL -- Wed Feb 28 03:41:52 2024 
*********************************************** 
Number of test functions: 2 
Number of errors: 0 
Number of failures: 0 

 
1 Test Suite : 
metaseqR2 RUnit Tests - 2 test functions, 0 errors, 0 failures
Number of test functions: 2 
Number of errors: 0 
Number of failures: 0 
There were 50 or more warnings (use warnings() to see the first 50)
> 
> proc.time()
   user  system elapsed 
  25.54    2.70   34.51 

Example timings

metaseqR2.Rcheck/metaseqR2-Ex.timings

nameusersystemelapsed
buildAnnotationDatabase000
buildCustomAnnotation000
combineBonferroni0.020.000.02
combineHarmonic0.000.000.01
combineMaxp000
combineMinp000
combineSimes000
combineWeight000
createSignalTracks000
diagplotAvgFtd0.080.000.09
diagplotBoxplot0.870.090.97
diagplotCor1.190.031.22
diagplotDeHeatmap0.900.030.94
diagplotEdaseq0.430.040.47
diagplotFiltered0.040.000.04
diagplotFtd0.020.010.04
diagplotMds0.190.020.20
diagplotNoiseq0.460.030.50
diagplotPairs0.630.000.64
diagplotRoc0.000.030.03
diagplotVenn0.190.010.27
diagplotVolcano2.900.052.95
downsampleCounts0.180.000.17
estimateAufcWeights0.890.030.92
estimateSimParams0.700.160.86
getAnnotation1.000.063.87
getDefaults000
getInstalledAnnotations000
getWeights000
importCustomAnnotation1.050.031.10
loadAnnotation000
makeSimDataSd0.750.070.81
makeSimDataTcc1.760.071.86
metaTest000
metaseqr2 5.52 1.3612.16
metaseqrPlot0.530.050.58
normalizeAbsseq0.540.090.62
normalizeDeseq0.170.050.22
normalizeDeseq20.480.030.52
normalizeDss0.200.050.25
normalizeEdaseq0.400.030.42
normalizeEdger0.090.030.12
normalizeNbpseq0.110.050.16
normalizeNoiseq0.140.030.17
read2count0.880.124.80
readTargets0.040.000.06
statAbsseq1.600.041.63
statDeseq1.610.001.61
statDeseq23.090.043.14
statDss0.590.020.61
statEdger0.720.000.72
statLimma0.220.000.22
statNbpseq2.910.002.90
statNoiseq6.450.046.50