Back to Multiple platform build/check report for BioC 3.18:   simplified   long
ABCDEFGHIJKLMNOPQR[S]TUVWXYZ

This page was generated on 2023-12-02 11:36:52 -0500 (Sat, 02 Dec 2023).

HostnameOSArch (*)R versionInstalled pkgs
nebbiolo2Linux (Ubuntu 22.04.2 LTS)x86_644.3.2 Patched (2023-11-13 r85521) -- "Eye Holes" 4685
palomino4Windows Server 2022 Datacenterx644.3.2 (2023-10-31 ucrt) -- "Eye Holes" 4420
lconwaymacOS 12.7.1 Montereyx86_644.3.2 Patched (2023-11-01 r85457) -- "Eye Holes" 4439
Click on any hostname to see more info about the system (e.g. compilers)      (*) as reported by 'uname -p', except on Windows and Mac OS X

Package 1971/2266HostnameOS / ArchINSTALLBUILDCHECKBUILD BIN
singleCellTK 2.12.0  (landing page)
Yichen Wang
Snapshot Date: 2023-12-01 14:05:06 -0500 (Fri, 01 Dec 2023)
git_url: https://git.bioconductor.org/packages/singleCellTK
git_branch: RELEASE_3_18
git_last_commit: 2332cff
git_last_commit_date: 2023-10-24 11:04:51 -0500 (Tue, 24 Oct 2023)
nebbiolo2Linux (Ubuntu 22.04.2 LTS) / x86_64  OK    OK    ERROR  
palomino4Windows Server 2022 Datacenter / x64  OK    OK    ERROR    OK  
lconwaymacOS 12.7.1 Monterey / x86_64  OK    OK    ERROR    OK  
kjohnson1macOS 13.6.1 Ventura / arm64see weekly results here

BUILD results for singleCellTK on palomino4


To the developers/maintainers of the singleCellTK package:
- Allow up to 24 hours (and sometimes 48 hours) for your latest push to git@git.bioconductor.org:packages/singleCellTK.git to reflect on this report. See Troubleshooting Build Report for more information.
- Use the following Renviron settings to reproduce errors and warnings.
- If 'R CMD check' started to fail recently on the Linux builder(s) over a missing dependency, add the missing dependency to 'Suggests:' in your DESCRIPTION file. See Renviron.bioc for more information.

raw results


Summary

Package: singleCellTK
Version: 2.12.0
Command: chmod a+r singleCellTK -R && F:\biocbuild\bbs-3.18-bioc\R\bin\R.exe CMD build --keep-empty-dirs --no-resave-data singleCellTK
StartedAt: 2023-12-01 21:48:34 -0500 (Fri, 01 Dec 2023)
EndedAt: 2023-12-01 21:49:48 -0500 (Fri, 01 Dec 2023)
EllapsedTime: 73.9 seconds
RetCode: 0
Status:   OK  
PackageFile: singleCellTK_2.12.0.tar.gz
PackageFileSize: 3.419 MiB

Command output

##############################################################################
##############################################################################
###
### Running command:
###
###   chmod a+r singleCellTK -R && F:\biocbuild\bbs-3.18-bioc\R\bin\R.exe CMD build --keep-empty-dirs --no-resave-data singleCellTK
###
##############################################################################
##############################################################################


* checking for file 'singleCellTK/DESCRIPTION' ... OK
* preparing 'singleCellTK':
* checking DESCRIPTION meta-information ... OK
* installing the package to build vignettes
* creating vignettes ... OK
* checking for LF line-endings in source and make files and shell scripts
* checking for empty or unneeded directories
* looking to see if a 'data/datalist' file should be added
* building 'singleCellTK_2.12.0.tar.gz'