Back to Multiple platform build/check report for BioC 3.18:   simplified   long
ABCDEF[G]HIJKLMNOPQRSTUVWXYZ

This page was generated on 2023-12-02 11:35:36 -0500 (Sat, 02 Dec 2023).

HostnameOSArch (*)R versionInstalled pkgs
nebbiolo2Linux (Ubuntu 22.04.2 LTS)x86_644.3.2 Patched (2023-11-13 r85521) -- "Eye Holes" 4685
palomino4Windows Server 2022 Datacenterx644.3.2 (2023-10-31 ucrt) -- "Eye Holes" 4420
lconwaymacOS 12.7.1 Montereyx86_644.3.2 Patched (2023-11-01 r85457) -- "Eye Holes" 4439
Click on any hostname to see more info about the system (e.g. compilers)      (*) as reported by 'uname -p', except on Windows and Mac OS X

Package 894/2266HostnameOS / ArchINSTALLBUILDCHECKBUILD BIN
GRaNIE 1.6.1  (landing page)
Christian Arnold
Snapshot Date: 2023-12-01 14:05:06 -0500 (Fri, 01 Dec 2023)
git_url: https://git.bioconductor.org/packages/GRaNIE
git_branch: RELEASE_3_18
git_last_commit: 35f2aa9
git_last_commit_date: 2023-10-26 11:47:33 -0500 (Thu, 26 Oct 2023)
nebbiolo2Linux (Ubuntu 22.04.2 LTS) / x86_64  OK    OK    OK  UNNEEDED, same version is already published
palomino4Windows Server 2022 Datacenter / x64  OK    OK    WARNINGS    OK  UNNEEDED, same version is already published
lconwaymacOS 12.7.1 Monterey / x86_64  OK    OK    OK    OK  UNNEEDED, same version is already published
kjohnson1macOS 13.6.1 Ventura / arm64see weekly results here

CHECK results for GRaNIE on nebbiolo2


To the developers/maintainers of the GRaNIE package:
- Allow up to 24 hours (and sometimes 48 hours) for your latest push to git@git.bioconductor.org:packages/GRaNIE.git to reflect on this report. See Troubleshooting Build Report for more information.
- Use the following Renviron settings to reproduce errors and warnings.
- If 'R CMD check' started to fail recently on the Linux builder(s) over a missing dependency, add the missing dependency to 'Suggests:' in your DESCRIPTION file. See Renviron.bioc for more information.

raw results


Summary

Package: GRaNIE
Version: 1.6.1
Command: /home/biocbuild/bbs-3.18-bioc/R/bin/R CMD check --install=check:GRaNIE.install-out.txt --library=/home/biocbuild/bbs-3.18-bioc/R/site-library --timings GRaNIE_1.6.1.tar.gz
StartedAt: 2023-12-01 22:28:02 -0500 (Fri, 01 Dec 2023)
EndedAt: 2023-12-01 22:38:36 -0500 (Fri, 01 Dec 2023)
EllapsedTime: 634.4 seconds
RetCode: 0
Status:   OK  
CheckDir: GRaNIE.Rcheck
Warnings: 0

Command output

##############################################################################
##############################################################################
###
### Running command:
###
###   /home/biocbuild/bbs-3.18-bioc/R/bin/R CMD check --install=check:GRaNIE.install-out.txt --library=/home/biocbuild/bbs-3.18-bioc/R/site-library --timings GRaNIE_1.6.1.tar.gz
###
##############################################################################
##############################################################################


* using log directory ‘/home/biocbuild/bbs-3.18-bioc/meat/GRaNIE.Rcheck’
* using R version 4.3.2 Patched (2023-11-13 r85521)
* using platform: x86_64-pc-linux-gnu (64-bit)
* R was compiled by
    gcc (Ubuntu 11.4.0-1ubuntu1~22.04) 11.4.0
    GNU Fortran (Ubuntu 11.4.0-1ubuntu1~22.04) 11.4.0
* running under: Ubuntu 22.04.3 LTS
* using session charset: UTF-8
* checking for file ‘GRaNIE/DESCRIPTION’ ... OK
* this is package ‘GRaNIE’ version ‘1.6.1’
* package encoding: UTF-8
* checking package namespace information ... OK
* checking package dependencies ... OK
* checking if this is a source package ... OK
* checking if there is a namespace ... OK
* checking for hidden files and directories ... OK
* checking for portable file names ... OK
* checking for sufficient/correct file permissions ... OK
* checking whether package ‘GRaNIE’ can be installed ... OK
* checking installed package size ... OK
* checking package directory ... OK
* checking ‘build’ directory ... OK
* checking DESCRIPTION meta-information ... OK
* checking top-level files ... OK
* checking for left-over files ... OK
* checking index information ... OK
* checking package subdirectories ... OK
* checking R files for non-ASCII characters ... OK
* checking R files for syntax errors ... OK
* checking whether the package can be loaded ... OK
* checking whether the package can be loaded with stated dependencies ... OK
* checking whether the package can be unloaded cleanly ... OK
* checking whether the namespace can be loaded with stated dependencies ... OK
* checking whether the namespace can be unloaded cleanly ... OK
* checking loading without being on the library search path ... OK
* checking startup messages can be suppressed ... OK
* checking dependencies in R code ... OK
* checking S3 generic/method consistency ... OK
* checking replacement functions ... OK
* checking foreign function calls ... OK
* checking R code for possible problems ... NOTE
.performIHW: no visible binding for global variable 'adj_pvalue'
Undefined global functions or variables:
  adj_pvalue
* checking Rd files ... OK
* checking Rd metadata ... OK
* checking Rd cross-references ... OK
* checking for missing documentation entries ... OK
* checking for code/documentation mismatches ... OK
* checking Rd \usage sections ... OK
* checking Rd contents ... OK
* checking for unstated dependencies in examples ... OK
* checking files in ‘vignettes’ ... OK
* checking examples ... OK
Examples with CPU (user + system) or elapsed time > 5s
                              user system elapsed
plotDiagnosticPlots_peakGene 7.328  0.830   8.854
plotCommunitiesEnrichment    7.129  0.699  10.617
addSNPData                   6.334  0.740  10.074
generateStatsSummary         6.424  0.236   7.055
plotCorrelations             5.398  0.556   6.721
plotGeneralGraphStats        5.228  0.428   6.518
addConnections_peak_gene     4.769  0.420   5.615
nGenes                       4.689  0.479   5.779
addConnections_TF_peak       4.417  0.444   6.939
plotDiagnosticPlots_TFPeaks  4.569  0.264   5.571
plotPCA_all                  4.241  0.552   5.175
plotCommunitiesStats         4.436  0.199   6.346
getGRNConnections            3.765  0.420   5.443
getParameters                2.948  0.123   5.013
* checking for unstated dependencies in vignettes ... OK
* checking package vignettes in ‘inst/doc’ ... OK
* checking running R code from vignettes ...
  ‘GRaNIE_packageDetails.Rmd’ using ‘UTF-8’... OK
  ‘GRaNIE_singleCell_eGRNs.Rmd’ using ‘UTF-8’... OK
  ‘GRaNIE_workflow.Rmd’ using ‘UTF-8’... OK
 NONE
* checking re-building of vignette outputs ... OK
* checking PDF version of manual ... OK
* DONE

Status: 1 NOTE
See
  ‘/home/biocbuild/bbs-3.18-bioc/meat/GRaNIE.Rcheck/00check.log’
for details.



Installation output

GRaNIE.Rcheck/00install.out

##############################################################################
##############################################################################
###
### Running command:
###
###   /home/biocbuild/bbs-3.18-bioc/R/bin/R CMD INSTALL GRaNIE
###
##############################################################################
##############################################################################


* installing to library ‘/home/biocbuild/bbs-3.18-bioc/R/site-library’
* installing *source* package ‘GRaNIE’ ...
** using staged installation
** R
** byte-compile and prepare package for lazy loading
** help
*** installing help indices
** building package indices
** installing vignettes
** testing if installed package can be loaded from temporary location
** testing if installed package can be loaded from final location
** testing if installed package keeps a record of temporary installation path
* DONE (GRaNIE)

Tests output


Example timings

GRaNIE.Rcheck/GRaNIE-Ex.timings

nameusersystemelapsed
AR_classification_wrapper000
addConnections_TF_peak4.4170.4446.939
addConnections_peak_gene4.7690.4205.615
addData000
addSNPData 6.334 0.74010.074
addTFBS000
add_TF_gene_correlation1.7010.0882.174
add_featureVariation000
build_eGRN_graph1.7250.1042.258
calculateCommunitiesEnrichment2.5550.1963.180
calculateCommunitiesStats2.7020.1923.281
calculateGeneralEnrichment1.9400.0922.447
calculateTFEnrichment2.2360.0842.685
changeOutputDirectory1.7600.0922.230
deleteIntermediateData2.8120.2483.438
filterConnectionsForPlotting1.7190.0672.171
filterData2.4360.1243.009
filterGRNAndConnectGenes1.8410.0402.260
generateStatsSummary6.4240.2367.055
getCounts1.9860.1842.555
getGRNConnections3.7650.4205.443
getGRNSummary3.3440.2564.489
getParameters2.9480.1235.013
getTopNodes2.2700.0672.821
initializeGRN0.0340.0000.066
loadExampleObject2.8240.1564.425
nGenes4.6890.4795.779
nPeaks2.1330.1242.747
nTFs2.9380.1484.436
overlapPeaksAndTFBS1.8670.0682.468
performAllNetworkAnalyses000
plotCommunitiesEnrichment 7.129 0.69910.617
plotCommunitiesStats4.4360.1996.346
plotCorrelations5.3980.5566.721
plotDiagnosticPlots_TFPeaks4.5690.2645.571
plotDiagnosticPlots_peakGene7.3280.8308.854
plotGeneralEnrichment2.8130.1003.281
plotGeneralGraphStats5.2280.4286.518
plotPCA_all4.2410.5525.175
plotTFEnrichment2.7290.1843.289
plot_stats_connectionSummary2.3540.1842.912
visualizeGRN2.5910.1913.136