Back to Multiple platform build/check report for BioC 3.19:   simplified   long
ABCDEF[G]HIJKLMNOPQRSTUVWXYZ

This page was generated on 2024-05-28 11:34:37 -0400 (Tue, 28 May 2024).

HostnameOSArch (*)R versionInstalled pkgs
nebbiolo1Linux (Ubuntu 22.04.3 LTS)x86_644.4.0 (2024-04-24) -- "Puppy Cup" 4752
lconwaymacOS 12.7.1 Montereyx86_644.4.0 (2024-04-24) -- "Puppy Cup" 4517
Click on any hostname to see more info about the system (e.g. compilers)      (*) as reported by 'uname -p', except on Windows and Mac OS X

All results for package GenomicRanges


To the developers/maintainers of the GenomicRanges package:
- Allow up to 24 hours (and sometimes 48 hours) for your latest push to git@git.bioconductor.org:packages/GenomicRanges.git to reflect on this report. See Troubleshooting Build Report for more information.
- Use the following Renviron settings to reproduce errors and warnings.
- If 'R CMD check' started to fail recently on the Linux builder(s) over a missing dependency, add the missing dependency to 'Suggests:' in your DESCRIPTION file. See Renviron.bioc for more information.

raw results

Package 839/2300HostnameOS / ArchINSTALLBUILDCHECKBUILD BIN
GenomicRanges 1.56.0  (landing page)
Hervé Pagès
Snapshot Date: 2024-05-27 14:00:08 -0400 (Mon, 27 May 2024)
git_url: https://git.bioconductor.org/packages/GenomicRanges
git_branch: RELEASE_3_19
git_last_commit: 82c4a90
git_last_commit_date: 2024-04-30 14:34:23 -0400 (Tue, 30 Apr 2024)
nebbiolo1Linux (Ubuntu 22.04.3 LTS) / x86_64  OK    OK    OK  UNNEEDED, same version is already published
lconwaymacOS 12.7.1 Monterey / x86_64  OK    OK    OK    OK  UNNEEDED, same version is already published
kjohnson3macOS 13.6.5 Ventura / arm64see weekly results here

Results for Bioconductor software packages that depend directly on package GenomicRanges

QUICK STATSOS / ArchINSTALLBUILDCHECKBUILD BIN
nebbiolo1Linux (Ubuntu 22.04.3 LTS) / x86_64
05550
144510
11489406
lconwaymacOS 12.7.1 Monterey / x86_64
06546
048504
2688408
00504
Package 1/555HostnameOS / ArchINSTALLBUILDCHECKBUILD BIN
ACE 1.22.0  (landing page)
Jos B Poell
git_last_commit: dce64ee
git_last_commit_date: 2024-04-30 11:07:49 -0400
nebbiolo1Linux (Ubuntu 22.04.3 LTS) / x86_64  OK    OK    OK  UNNEEDED, same version is already published
lconwaymacOS 12.7.1 Monterey / x86_64  OK    OK    OK    OK  UNNEEDED, same version is already published
kjohnson3macOS 13.6.5 Ventura / arm64see weekly results here
Package 2/555HostnameOS / ArchINSTALLBUILDCHECKBUILD BIN
alabaster.ranges 1.4.1  (landing page)
Aaron Lun
git_last_commit: 4760e5b
git_last_commit_date: 2024-05-20 19:07:39 -0400
nebbiolo1Linux (Ubuntu 22.04.3 LTS) / x86_64  OK    OK    OK  UNNEEDED, same version is already published
lconwaymacOS 12.7.1 Monterey / x86_64  OK    OK    OK    OK  UNNEEDED, same version is already published
kjohnson3macOS 13.6.5 Ventura / arm64see weekly results here
Package 3/555HostnameOS / ArchINSTALLBUILDCHECKBUILD BIN
alabaster.se 1.4.1  (landing page)
Aaron Lun
git_last_commit: eb38c1c
git_last_commit_date: 2024-05-21 11:33:29 -0400
nebbiolo1Linux (Ubuntu 22.04.3 LTS) / x86_64  OK    OK    OK  UNNEEDED, same version is already published
lconwaymacOS 12.7.1 Monterey / x86_64  OK    OK    OK    OK  UNNEEDED, same version is already published
kjohnson3macOS 13.6.5 Ventura / arm64see weekly results here
Package 4/555HostnameOS / ArchINSTALLBUILDCHECKBUILD BIN
ALDEx2 1.36.0  (landing page)
Greg Gloor
git_last_commit: c7a4c4b
git_last_commit_date: 2024-04-30 10:39:09 -0400
nebbiolo1Linux (Ubuntu 22.04.3 LTS) / x86_64  OK    OK    OK  UNNEEDED, same version is already published
lconwaymacOS 12.7.1 Monterey / x86_64  OK    OK    OK    OK  UNNEEDED, same version is already published
kjohnson3macOS 13.6.5 Ventura / arm64see weekly results here
Package 5/555HostnameOS / ArchINSTALLBUILDCHECKBUILD BIN
AllelicImbalance 1.42.0  (landing page)
Jesper R Gadin
git_last_commit: 4dc686c
git_last_commit_date: 2024-04-30 10:33:42 -0400
nebbiolo1Linux (Ubuntu 22.04.3 LTS) / x86_64  OK    OK    OK  UNNEEDED, same version is already published
lconwaymacOS 12.7.1 Monterey / x86_64  OK    OK    OK    OK  UNNEEDED, same version is already published
kjohnson3macOS 13.6.5 Ventura / arm64see weekly results here
Package 6/555HostnameOS / ArchINSTALLBUILDCHECKBUILD BIN
amplican 1.26.0  (landing page)
Eivind Valen
git_last_commit: 0d1f719
git_last_commit_date: 2024-04-30 11:00:30 -0400
nebbiolo1Linux (Ubuntu 22.04.3 LTS) / x86_64  OK    OK    OK  UNNEEDED, same version is already published
lconwaymacOS 12.7.1 Monterey / x86_64  OK    OK    OK    OK  UNNEEDED, same version is already published
kjohnson3macOS 13.6.5 Ventura / arm64see weekly results here
Package 7/555HostnameOS / ArchINSTALLBUILDCHECKBUILD BIN
AneuFinder 1.32.0  (landing page)
Aaron Taudt
git_last_commit: c7a1f18
git_last_commit_date: 2024-04-30 10:49:35 -0400
nebbiolo1Linux (Ubuntu 22.04.3 LTS) / x86_64  OK    ERROR  skipped
lconwaymacOS 12.7.1 Monterey / x86_64  OK    ERROR  skippedskipped
kjohnson3macOS 13.6.5 Ventura / arm64see weekly results here
Package 8/555HostnameOS / ArchINSTALLBUILDCHECKBUILD BIN
annmap 1.46.0  (landing page)
Chris Wirth
git_last_commit: e6a0bcc
git_last_commit_date: 2024-04-30 10:27:57 -0400
nebbiolo1Linux (Ubuntu 22.04.3 LTS) / x86_64  OK    OK    WARNINGS  UNNEEDED, same version is already published
lconwaymacOS 12.7.1 Monterey / x86_64  OK    OK    WARNINGS    OK  UNNEEDED, same version is already published
kjohnson3macOS 13.6.5 Ventura / arm64see weekly results here
Package 9/555HostnameOS / ArchINSTALLBUILDCHECKBUILD BIN
AnnotationFilter 1.28.0  (landing page)
Bioconductor Package Maintainer
git_last_commit: 61709ad
git_last_commit_date: 2024-04-30 10:57:18 -0400
nebbiolo1Linux (Ubuntu 22.04.3 LTS) / x86_64  OK    OK    OK  UNNEEDED, same version is already published
lconwaymacOS 12.7.1 Monterey / x86_64  OK    OK    OK    OK  UNNEEDED, same version is already published
kjohnson3macOS 13.6.5 Ventura / arm64see weekly results here
Package 10/555HostnameOS / ArchINSTALLBUILDCHECKBUILD BIN
AnnotationHubData 1.34.0  (landing page)
Bioconductor Package Maintainer
git_last_commit: f7d9109
git_last_commit_date: 2024-04-30 10:45:30 -0400
nebbiolo1Linux (Ubuntu 22.04.3 LTS) / x86_64  OK    OK    WARNINGS  UNNEEDED, same version is already published
lconwaymacOS 12.7.1 Monterey / x86_64  OK    OK    WARNINGS    OK  UNNEEDED, same version is already published
kjohnson3macOS 13.6.5 Ventura / arm64see weekly results here
Package 11/555HostnameOS / ArchINSTALLBUILDCHECKBUILD BIN
annotatr 1.30.0  (landing page)
Raymond G. Cavalcante
git_last_commit: aa1c8ba
git_last_commit_date: 2024-04-30 10:54:39 -0400
nebbiolo1Linux (Ubuntu 22.04.3 LTS) / x86_64  OK    OK    OK  UNNEEDED, same version is already published
lconwaymacOS 12.7.1 Monterey / x86_64  OK    OK    OK    OK  UNNEEDED, same version is already published
kjohnson3macOS 13.6.5 Ventura / arm64see weekly results here
Package 12/555HostnameOS / ArchINSTALLBUILDCHECKBUILD BIN
APAlyzer 1.18.0  (landing page)
Ruijia Wang
git_last_commit: 2f81d23
git_last_commit_date: 2024-04-30 11:16:25 -0400
nebbiolo1Linux (Ubuntu 22.04.3 LTS) / x86_64  OK    OK    WARNINGS  UNNEEDED, same version is already published
lconwaymacOS 12.7.1 Monterey / x86_64  OK    OK    WARNINGS    OK  UNNEEDED, same version is already published
kjohnson3macOS 13.6.5 Ventura / arm64see weekly results here
Package 13/555HostnameOS / ArchINSTALLBUILDCHECKBUILD BIN
apeglm 1.26.0  (landing page)
Anqi Zhu
git_last_commit: cfac223
git_last_commit_date: 2024-04-30 11:00:17 -0400
nebbiolo1Linux (Ubuntu 22.04.3 LTS) / x86_64  OK    OK    OK  UNNEEDED, same version is already published
lconwaymacOS 12.7.1 Monterey / x86_64  OK    OK    OK    OK  UNNEEDED, same version is already published
kjohnson3macOS 13.6.5 Ventura / arm64see weekly results here
Package 14/555HostnameOS / ArchINSTALLBUILDCHECKBUILD BIN
appreci8R 1.22.0  (landing page)
Sarah Sandmann
git_last_commit: 0629a87
git_last_commit_date: 2024-04-30 11:07:43 -0400
nebbiolo1Linux (Ubuntu 22.04.3 LTS) / x86_64  OK    OK    OK  UNNEEDED, same version is already published
lconwaymacOS 12.7.1 Monterey / x86_64  OK    OK    OK    OK  UNNEEDED, same version is already published
kjohnson3macOS 13.6.5 Ventura / arm64see weekly results here
Package 15/555HostnameOS / ArchINSTALLBUILDCHECKBUILD BIN
ASpli 2.14.0  (landing page)
Ariel Chernomoretz
git_last_commit: 11a1f6e
git_last_commit_date: 2024-04-30 10:52:43 -0400
nebbiolo1Linux (Ubuntu 22.04.3 LTS) / x86_64  OK    OK    WARNINGS  UNNEEDED, same version is already published
lconwaymacOS 12.7.1 Monterey / x86_64  OK    OK    WARNINGS    OK  UNNEEDED, same version is already published
kjohnson3macOS 13.6.5 Ventura / arm64see weekly results here
Package 16/555HostnameOS / ArchINSTALLBUILDCHECKBUILD BIN
AssessORF 1.22.0  (landing page)
Deepank Korandla
git_last_commit: 4bbec4f
git_last_commit_date: 2024-04-30 11:10:45 -0400
nebbiolo1Linux (Ubuntu 22.04.3 LTS) / x86_64  OK    OK    OK  UNNEEDED, same version is already published
lconwaymacOS 12.7.1 Monterey / x86_64  OK    OK    OK    OK  UNNEEDED, same version is already published
kjohnson3macOS 13.6.5 Ventura / arm64see weekly results here
Package 17/555HostnameOS / ArchINSTALLBUILDCHECKBUILD BIN
ATACCoGAPS 1.6.0  (landing page)
Rossin Erbe
git_last_commit: d9555fb
git_last_commit_date: 2024-04-30 11:43:31 -0400
nebbiolo1Linux (Ubuntu 22.04.3 LTS) / x86_64  OK    OK    OK  UNNEEDED, same version is already published
lconwaymacOS 12.7.1 Monterey / x86_64  OK    OK    TIMEOUT    OK  
kjohnson3macOS 13.6.5 Ventura / arm64see weekly results here
Package 18/555HostnameOS / ArchINSTALLBUILDCHECKBUILD BIN
ATACseqQC 1.28.0  (landing page)
Jianhong Ou
git_last_commit: dd1def6
git_last_commit_date: 2024-04-30 10:58:06 -0400
nebbiolo1Linux (Ubuntu 22.04.3 LTS) / x86_64  OK    OK    OK  UNNEEDED, same version is already published
lconwaymacOS 12.7.1 Monterey / x86_64  OK    OK    OK    OK  UNNEEDED, same version is already published
kjohnson3macOS 13.6.5 Ventura / arm64see weekly results here
Package 19/555HostnameOS / ArchINSTALLBUILDCHECKBUILD BIN
ATACseqTFEA 1.6.0  (landing page)
Jianhong Ou
git_last_commit: 9d17d68
git_last_commit_date: 2024-04-30 11:44:07 -0400
nebbiolo1Linux (Ubuntu 22.04.3 LTS) / x86_64  OK    OK    OK  UNNEEDED, same version is already published
lconwaymacOS 12.7.1 Monterey / x86_64  OK    OK    OK    OK  UNNEEDED, same version is already published
kjohnson3macOS 13.6.5 Ventura / arm64see weekly results here
Package 20/555HostnameOS / ArchINSTALLBUILDCHECKBUILD BIN
atena 1.10.0  (landing page)
Robert Castelo
git_last_commit: 7e1c59e
git_last_commit_date: 2024-04-30 11:37:21 -0400
nebbiolo1Linux (Ubuntu 22.04.3 LTS) / x86_64  OK    OK    OK  UNNEEDED, same version is already published
lconwaymacOS 12.7.1 Monterey / x86_64  OK    OK    OK    OK  UNNEEDED, same version is already published
kjohnson3macOS 13.6.5 Ventura / arm64see weekly results here
Package 21/555HostnameOS / ArchINSTALLBUILDCHECKBUILD BIN
BaalChIP 1.30.0  (landing page)
Ines de Santiago
git_last_commit: a8a0dc9
git_last_commit_date: 2024-04-30 10:53:36 -0400
nebbiolo1Linux (Ubuntu 22.04.3 LTS) / x86_64  OK    OK    WARNINGS  UNNEEDED, same version is already published
lconwaymacOS 12.7.1 Monterey / x86_64  OK    OK    WARNINGS    OK  UNNEEDED, same version is already published
kjohnson3macOS 13.6.5 Ventura / arm64see weekly results here
Package 22/555HostnameOS / ArchINSTALLBUILDCHECKBUILD BIN
BadRegionFinder 1.32.0  (landing page)
Sarah Sandmann
git_last_commit: dd70f4c
git_last_commit_date: 2024-04-30 10:49:59 -0400
nebbiolo1Linux (Ubuntu 22.04.3 LTS) / x86_64  OK    OK    OK  UNNEEDED, same version is already published
lconwaymacOS 12.7.1 Monterey / x86_64  OK    OK    OK    OK  UNNEEDED, same version is already published
kjohnson3macOS 13.6.5 Ventura / arm64see weekly results here
Package 23/555HostnameOS / ArchINSTALLBUILDCHECKBUILD BIN
ballgown 2.36.0  (landing page)
Jack Fu
git_last_commit: 952db93
git_last_commit_date: 2024-04-30 10:37:38 -0400
nebbiolo1Linux (Ubuntu 22.04.3 LTS) / x86_64  OK    OK    OK  UNNEEDED, same version is already published
lconwaymacOS 12.7.1 Monterey / x86_64  OK    OK    OK    OK  UNNEEDED, same version is already published
kjohnson3macOS 13.6.5 Ventura / arm64see weekly results here
Package 24/555HostnameOS / ArchINSTALLBUILDCHECKBUILD BIN
bambu 3.6.0  (landing page)
Ying Chen
git_last_commit: f32777f
git_last_commit_date: 2024-04-30 11:28:33 -0400
nebbiolo1Linux (Ubuntu 22.04.3 LTS) / x86_64  OK    OK    OK  UNNEEDED, same version is already published
lconwaymacOS 12.7.1 Monterey / x86_64  OK    OK    OK    OK  UNNEEDED, same version is already published
kjohnson3macOS 13.6.5 Ventura / arm64see weekly results here
Package 25/555HostnameOS / ArchINSTALLBUILDCHECKBUILD BIN
bamsignals 1.36.0  (landing page)
Johannes Helmuth
git_last_commit: 5b8df63
git_last_commit_date: 2024-04-30 10:42:21 -0400
nebbiolo1Linux (Ubuntu 22.04.3 LTS) / x86_64  OK    OK    OK  UNNEEDED, same version is already published
lconwaymacOS 12.7.1 Monterey / x86_64  OK    OK    OK    OK  UNNEEDED, same version is already published
kjohnson3macOS 13.6.5 Ventura / arm64see weekly results here
Package 26/555HostnameOS / ArchINSTALLBUILDCHECKBUILD BIN
Basic4Cseq 1.40.0  (landing page)
Carolin Walter
git_last_commit: 608abbc
git_last_commit_date: 2024-04-30 10:35:18 -0400
nebbiolo1Linux (Ubuntu 22.04.3 LTS) / x86_64  OK    OK    OK  UNNEEDED, same version is already published
lconwaymacOS 12.7.1 Monterey / x86_64  OK    OK    OK    OK  UNNEEDED, same version is already published
kjohnson3macOS 13.6.5 Ventura / arm64see weekly results here
Package 27/555HostnameOS / ArchINSTALLBUILDCHECKBUILD BIN
BasicSTARRseq 1.32.0  (landing page)
Annika Buerger
git_last_commit: 898c66e
git_last_commit_date: 2024-04-30 10:48:02 -0400
nebbiolo1Linux (Ubuntu 22.04.3 LTS) / x86_64  OK    OK    OK  UNNEEDED, same version is already published
lconwaymacOS 12.7.1 Monterey / x86_64  OK    OK    OK    OK  UNNEEDED, same version is already published
kjohnson3macOS 13.6.5 Ventura / arm64see weekly results here
Package 28/555HostnameOS / ArchINSTALLBUILDCHECKBUILD BIN
baySeq 2.38.0  (landing page)
Samuel Granjeaud
git_last_commit: f27f3dd
git_last_commit_date: 2024-04-30 11:55:46 -0400
nebbiolo1Linux (Ubuntu 22.04.3 LTS) / x86_64  OK    OK    OK  UNNEEDED, same version is already published
lconwaymacOS 12.7.1 Monterey / x86_64  OK    OK    OK    OK  UNNEEDED, same version is already published
kjohnson3macOS 13.6.5 Ventura / arm64see weekly results here
Package 29/555HostnameOS / ArchINSTALLBUILDCHECKBUILD BIN
BBCAnalyzer 1.34.0  (landing page)
Sarah Sandmann
git_last_commit: 05d5712
git_last_commit_date: 2024-04-30 10:45:13 -0400
nebbiolo1Linux (Ubuntu 22.04.3 LTS) / x86_64  OK    OK    OK  UNNEEDED, same version is already published
lconwaymacOS 12.7.1 Monterey / x86_64  OK    OK    OK    OK  UNNEEDED, same version is already published
kjohnson3macOS 13.6.5 Ventura / arm64see weekly results here
Package 30/555HostnameOS / ArchINSTALLBUILDCHECKBUILD BIN
beadarray 2.54.0  (landing page)
Mark Dunning
git_last_commit: 696d598
git_last_commit_date: 2024-04-30 10:14:58 -0400
nebbiolo1Linux (Ubuntu 22.04.3 LTS) / x86_64  OK    ERROR  skipped
lconwaymacOS 12.7.1 Monterey / x86_64  OK    ERROR  skippedskipped
kjohnson3macOS 13.6.5 Ventura / arm64see weekly results here
Package 31/555HostnameOS / ArchINSTALLBUILDCHECKBUILD BIN
BEAT 1.42.0  (landing page)
Kemal Akman
git_last_commit: 4cbe33f
git_last_commit_date: 2024-04-30 10:34:47 -0400
nebbiolo1Linux (Ubuntu 22.04.3 LTS) / x86_64  OK    OK    OK  UNNEEDED, same version is already published
lconwaymacOS 12.7.1 Monterey / x86_64  OK    OK    OK    OK  UNNEEDED, same version is already published
kjohnson3macOS 13.6.5 Ventura / arm64see weekly results here
Package 32/555HostnameOS / ArchINSTALLBUILDCHECKBUILD BIN
betaHMM 1.0.0  (landing page)
Koyel Majumdar
git_last_commit: efa317d
git_last_commit_date: 2024-04-30 11:53:25 -0400
nebbiolo1Linux (Ubuntu 22.04.3 LTS) / x86_64  OK    OK    OK  UNNEEDED, same version is already published
lconwaymacOS 12.7.1 Monterey / x86_64  OK    OK    OK    OK  UNNEEDED, same version is already published
kjohnson3macOS 13.6.5 Ventura / arm64see weekly results here
Package 33/555HostnameOS / ArchINSTALLBUILDCHECKBUILD BIN
BiFET 1.24.0  (landing page)
Ahrim Youn
git_last_commit: c4f9fb6
git_last_commit_date: 2024-04-30 11:03:20 -0400
nebbiolo1Linux (Ubuntu 22.04.3 LTS) / x86_64  OK    OK    OK  UNNEEDED, same version is already published
lconwaymacOS 12.7.1 Monterey / x86_64  OK    OK    OK    OK  UNNEEDED, same version is already published
kjohnson3macOS 13.6.5 Ventura / arm64see weekly results here
Package 34/555HostnameOS / ArchINSTALLBUILDCHECKBUILD BIN
BindingSiteFinder 2.2.0  (landing page)
Mirko Brüggemann
git_last_commit: 1e3a377
git_last_commit_date: 2024-04-30 11:36:02 -0400
nebbiolo1Linux (Ubuntu 22.04.3 LTS) / x86_64  OK    OK    OK  UNNEEDED, same version is already published
lconwaymacOS 12.7.1 Monterey / x86_64  OK    OK    OK    OK  UNNEEDED, same version is already published
kjohnson3macOS 13.6.5 Ventura / arm64see weekly results here
Package 35/555HostnameOS / ArchINSTALLBUILDCHECKBUILD BIN
BiocOncoTK 1.24.0  (landing page)
VJ Carey
git_last_commit: 73631bd
git_last_commit_date: 2024-04-30 11:06:23 -0400
nebbiolo1Linux (Ubuntu 22.04.3 LTS) / x86_64  OK    OK    OK  UNNEEDED, same version is already published
lconwaymacOS 12.7.1 Monterey / x86_64  OK    OK    OK    OK  UNNEEDED, same version is already published
kjohnson3macOS 13.6.5 Ventura / arm64see weekly results here
Package 36/555HostnameOS / ArchINSTALLBUILDCHECKBUILD BIN
biomvRCNS 1.44.0  (landing page)
Yang Du
git_last_commit: 2a6c78b
git_last_commit_date: 2024-04-30 11:53:14 -0400
nebbiolo1Linux (Ubuntu 22.04.3 LTS) / x86_64  OK    OK    OK  UNNEEDED, same version is already published
lconwaymacOS 12.7.1 Monterey / x86_64  OK    OK    OK    OK  UNNEEDED, same version is already published
kjohnson3macOS 13.6.5 Ventura / arm64see weekly results here
Package 37/555HostnameOS / ArchINSTALLBUILDCHECKBUILD BIN
BioTIP 1.18.0  (landing page)
Yuxi (Jennifer) Sun , Zhezhen Wang , and X Holly Yang
git_last_commit: 2bec384
git_last_commit_date: 2024-04-30 11:17:48 -0400
nebbiolo1Linux (Ubuntu 22.04.3 LTS) / x86_64  OK    OK    ERROR  
lconwaymacOS 12.7.1 Monterey / x86_64  OK    OK    WARNINGS    OK  UNNEEDED, same version is already published
kjohnson3macOS 13.6.5 Ventura / arm64see weekly results here
Package 38/555HostnameOS / ArchINSTALLBUILDCHECKBUILD BIN
biovizBase 1.52.0  (landing page)
Michael Lawrence
git_last_commit: 1cfd8c1
git_last_commit_date: 2024-04-30 10:25:43 -0400
nebbiolo1Linux (Ubuntu 22.04.3 LTS) / x86_64  OK    OK    WARNINGS  UNNEEDED, same version is already published
lconwaymacOS 12.7.1 Monterey / x86_64  OK    OK    WARNINGS    OK  UNNEEDED, same version is already published
kjohnson3macOS 13.6.5 Ventura / arm64see weekly results here
Package 39/555HostnameOS / ArchINSTALLBUILDCHECKBUILD BIN
biscuiteer 1.18.0  (landing page)
Jacob Morrison
git_last_commit: b94d958
git_last_commit_date: 2024-04-30 11:18:36 -0400
nebbiolo1Linux (Ubuntu 22.04.3 LTS) / x86_64  OK    OK    WARNINGS  UNNEEDED, same version is already published
lconwaymacOS 12.7.1 Monterey / x86_64  OK    OK    WARNINGS    OK  UNNEEDED, same version is already published
kjohnson3macOS 13.6.5 Ventura / arm64see weekly results here
Package 40/555HostnameOS / ArchINSTALLBUILDCHECKBUILD BIN
BiSeq 1.44.0  (landing page)
Katja Hebestreit
git_last_commit: 0babe62
git_last_commit_date: 2024-04-30 10:31:46 -0400
nebbiolo1Linux (Ubuntu 22.04.3 LTS) / x86_64  OK    OK    OK  UNNEEDED, same version is already published
lconwaymacOS 12.7.1 Monterey / x86_64  OK    OK    OK    OK  UNNEEDED, same version is already published
kjohnson3macOS 13.6.5 Ventura / arm64see weekly results here
Package 41/555HostnameOS / ArchINSTALLBUILDCHECKBUILD BIN
bnbc 1.26.0  (landing page)
Kipper Fletez-Brant
git_last_commit: f8fbdeb
git_last_commit_date: 2024-04-30 11:01:33 -0400
nebbiolo1Linux (Ubuntu 22.04.3 LTS) / x86_64  OK    OK    OK  UNNEEDED, same version is already published
lconwaymacOS 12.7.1 Monterey / x86_64  OK    OK    OK    OK  UNNEEDED, same version is already published
kjohnson3macOS 13.6.5 Ventura / arm64see weekly results here
Package 42/555HostnameOS / ArchINSTALLBUILDCHECKBUILD BIN
BOBaFIT 1.8.0  (landing page)
Gaia Mazzocchetti
git_last_commit: f0189db
git_last_commit_date: 2024-04-30 11:39:42 -0400
nebbiolo1Linux (Ubuntu 22.04.3 LTS) / x86_64  OK    OK    WARNINGS  UNNEEDED, same version is already published
lconwaymacOS 12.7.1 Monterey / x86_64  OK    OK    WARNINGS    OK  UNNEEDED, same version is already published
kjohnson3macOS 13.6.5 Ventura / arm64see weekly results here
Package 43/555HostnameOS / ArchINSTALLBUILDCHECKBUILD BIN
borealis 1.8.0  (landing page)
Garrett Jenkinson
git_last_commit: 45bdf47
git_last_commit_date: 2024-04-30 11:42:05 -0400
nebbiolo1Linux (Ubuntu 22.04.3 LTS) / x86_64  OK    OK    OK  UNNEEDED, same version is already published
lconwaymacOS 12.7.1 Monterey / x86_64  OK    OK    OK    OK  UNNEEDED, same version is already published
kjohnson3macOS 13.6.5 Ventura / arm64see weekly results here
Package 44/555HostnameOS / ArchINSTALLBUILDCHECKBUILD BIN
BPRMeth 1.30.0  (landing page)
Chantriolnt-Andreas Kapourani
git_last_commit: 8aa8cdb
git_last_commit_date: 2024-04-30 10:55:06 -0400
nebbiolo1Linux (Ubuntu 22.04.3 LTS) / x86_64  OK    OK    OK  UNNEEDED, same version is already published
lconwaymacOS 12.7.1 Monterey / x86_64  OK    OK    OK    OK  UNNEEDED, same version is already published
kjohnson3macOS 13.6.5 Ventura / arm64see weekly results here
Package 45/555HostnameOS / ArchINSTALLBUILDCHECKBUILD BIN
brainflowprobes 1.18.0  (landing page)
Amanda Price
git_last_commit: 0a266f4
git_last_commit_date: 2024-04-30 11:19:04 -0400
nebbiolo1Linux (Ubuntu 22.04.3 LTS) / x86_64  OK    OK    ERROR  
lconwaymacOS 12.7.1 Monterey / x86_64  OK    OK    ERROR    OK  
kjohnson3macOS 13.6.5 Ventura / arm64see weekly results here
Package 46/555HostnameOS / ArchINSTALLBUILDCHECKBUILD BIN
branchpointer 1.30.0  (landing page)
Beth Signal
git_last_commit: 5363c96
git_last_commit_date: 2024-04-30 10:56:51 -0400
nebbiolo1Linux (Ubuntu 22.04.3 LTS) / x86_64  OK    ERROR  skipped
lconwaymacOS 12.7.1 Monterey / x86_64  OK    ERROR  skippedskipped
kjohnson3macOS 13.6.5 Ventura / arm64see weekly results here
Package 47/555HostnameOS / ArchINSTALLBUILDCHECKBUILD BIN
breakpointR 1.22.0  (landing page)
David Porubsky
git_last_commit: 9362506
git_last_commit_date: 2024-04-30 11:09:22 -0400
nebbiolo1Linux (Ubuntu 22.04.3 LTS) / x86_64  OK    ERROR  skipped
lconwaymacOS 12.7.1 Monterey / x86_64  OK    ERROR  skippedskipped
kjohnson3macOS 13.6.5 Ventura / arm64see weekly results here
Package 48/555HostnameOS / ArchINSTALLBUILDCHECKBUILD BIN
BREW3R.r 1.0.1  (landing page)
Lucille Lopez-Delisle
git_last_commit: 55629ac
git_last_commit_date: 2024-05-14 15:52:09 -0400
nebbiolo1Linux (Ubuntu 22.04.3 LTS) / x86_64  OK    OK    OK  UNNEEDED, same version is already published
lconwaymacOS 12.7.1 Monterey / x86_64  OK    OK    OK    OK  UNNEEDED, same version is already published
kjohnson3macOS 13.6.5 Ventura / arm64see weekly results here
Package 49/555HostnameOS / ArchINSTALLBUILDCHECKBUILD BIN
BRGenomics 1.16.0  (landing page)
Mike DeBerardine
git_last_commit: 3aeed06
git_last_commit_date: 2024-04-30 11:22:19 -0400
nebbiolo1Linux (Ubuntu 22.04.3 LTS) / x86_64  OK    OK    TIMEOUT  
lconwaymacOS 12.7.1 Monterey / x86_64  OK    OK    TIMEOUT    OK  
kjohnson3macOS 13.6.5 Ventura / arm64see weekly results here
Package 50/555HostnameOS / ArchINSTALLBUILDCHECKBUILD BIN
BSgenome 1.72.0  (landing page)
Hervé Pagès
git_last_commit: 152815d
git_last_commit_date: 2024-04-30 13:20:03 -0400
nebbiolo1Linux (Ubuntu 22.04.3 LTS) / x86_64  OK    OK    WARNINGS  UNNEEDED, same version is already published
lconwaymacOS 12.7.1 Monterey / x86_64  OK    OK    WARNINGS    OK  UNNEEDED, same version is already published
kjohnson3macOS 13.6.5 Ventura / arm64see weekly results here
Package 51/555HostnameOS / ArchINSTALLBUILDCHECKBUILD BIN
BSgenomeForge 1.4.0  (landing page)
Hervé Pagès
git_last_commit: fc75a8d
git_last_commit_date: 2024-04-30 13:20:29 -0400
nebbiolo1Linux (Ubuntu 22.04.3 LTS) / x86_64  OK    OK    OK  UNNEEDED, same version is already published
lconwaymacOS 12.7.1 Monterey / x86_64  OK    OK    OK    OK  UNNEEDED, same version is already published
kjohnson3macOS 13.6.5 Ventura / arm64see weekly results here
Package 52/555HostnameOS / ArchINSTALLBUILDCHECKBUILD BIN
bsseq 1.40.0  (landing page)
Kasper Daniel Hansen
git_last_commit: bfe7511
git_last_commit_date: 2024-04-30 10:28:16 -0400
nebbiolo1Linux (Ubuntu 22.04.3 LTS) / x86_64  OK    OK    OK  UNNEEDED, same version is already published
lconwaymacOS 12.7.1 Monterey / x86_64  OK    OK    OK    OK  UNNEEDED, same version is already published
kjohnson3macOS 13.6.5 Ventura / arm64see weekly results here
Package 53/555HostnameOS / ArchINSTALLBUILDCHECKBUILD BIN
BubbleTree 2.34.0  (landing page)
Todd Creasy , Wei Zhu
git_last_commit: fc76893
git_last_commit_date: 2024-04-30 10:41:43 -0400
nebbiolo1Linux (Ubuntu 22.04.3 LTS) / x86_64  OK    OK    OK  UNNEEDED, same version is already published
lconwaymacOS 12.7.1 Monterey / x86_64  OK    OK    OK    OK  UNNEEDED, same version is already published
kjohnson3macOS 13.6.5 Ventura / arm64see weekly results here
Package 54/555HostnameOS / ArchINSTALLBUILDCHECKBUILD BIN
bumphunter 1.46.0  (landing page)
Tamilselvi Guharaj
git_last_commit: 5a10300
git_last_commit_date: 2024-04-30 10:29:50 -0400
nebbiolo1Linux (Ubuntu 22.04.3 LTS) / x86_64  OK    OK    OK  UNNEEDED, same version is already published
lconwaymacOS 12.7.1 Monterey / x86_64  OK    OK    OK    OK  UNNEEDED, same version is already published
kjohnson3macOS 13.6.5 Ventura / arm64see weekly results here
Package 55/555HostnameOS / ArchINSTALLBUILDCHECKBUILD BIN
BUSpaRse 1.18.0  (landing page)
Lambda Moses
git_last_commit: 3d24c55
git_last_commit_date: 2024-04-30 11:16:44 -0400
nebbiolo1Linux (Ubuntu 22.04.3 LTS) / x86_64  OK    OK    ERROR  
lconwaymacOS 12.7.1 Monterey / x86_64  OK    OK    ERROR    OK  
kjohnson3macOS 13.6.5 Ventura / arm64see weekly results here
Package 56/555HostnameOS / ArchINSTALLBUILDCHECKBUILD BIN
CAFE 1.40.0  (landing page)
Sander Bollen
git_last_commit: 67621fe
git_last_commit_date: 2024-04-30 10:35:22 -0400
nebbiolo1Linux (Ubuntu 22.04.3 LTS) / x86_64  OK    OK    WARNINGS  UNNEEDED, same version is already published
lconwaymacOS 12.7.1 Monterey / x86_64  OK    OK    WARNINGS    OK  UNNEEDED, same version is already published
kjohnson3macOS 13.6.5 Ventura / arm64see weekly results here
Package 57/555HostnameOS / ArchINSTALLBUILDCHECKBUILD BIN
CAGEfightR 1.24.0  (landing page)
Malte Thodberg
git_last_commit: e83345a
git_last_commit_date: 2024-04-30 11:06:32 -0400
nebbiolo1Linux (Ubuntu 22.04.3 LTS) / x86_64  OK    OK    OK  UNNEEDED, same version is already published
lconwaymacOS 12.7.1 Monterey / x86_64  OK    OK    OK    OK  UNNEEDED, same version is already published
kjohnson3macOS 13.6.5 Ventura / arm64see weekly results here
Package 58/555HostnameOS / ArchINSTALLBUILDCHECKBUILD BIN
cageminer 1.10.0  (landing page)
Fabrício Almeida-Silva
git_last_commit: 9fafcfa
git_last_commit_date: 2024-04-30 11:36:00 -0400
nebbiolo1Linux (Ubuntu 22.04.3 LTS) / x86_64  OK    OK    OK  UNNEEDED, same version is already published
lconwaymacOS 12.7.1 Monterey / x86_64  OK    OK    OK    OK  UNNEEDED, same version is already published
kjohnson3macOS 13.6.5 Ventura / arm64see weekly results here
Package 59/555HostnameOS / ArchINSTALLBUILDCHECKBUILD BIN
CAGEr 2.10.0  (landing page)
Charles Plessy
git_last_commit: 6c8b145
git_last_commit_date: 2024-04-30 10:30:39 -0400
nebbiolo1Linux (Ubuntu 22.04.3 LTS) / x86_64  OK    OK    OK  UNNEEDED, same version is already published
lconwaymacOS 12.7.1 Monterey / x86_64  OK    OK    OK    OK  UNNEEDED, same version is already published
kjohnson3macOS 13.6.5 Ventura / arm64see weekly results here
Package 60/555HostnameOS / ArchINSTALLBUILDCHECKBUILD BIN
cardelino 1.6.0  (landing page)
Davis McCarthy
git_last_commit: cd86d56
git_last_commit_date: 2024-04-30 11:45:30 -0400
nebbiolo1Linux (Ubuntu 22.04.3 LTS) / x86_64  OK    OK    OK  UNNEEDED, same version is already published
lconwaymacOS 12.7.1 Monterey / x86_64  OK    OK    OK    OK  UNNEEDED, same version is already published
kjohnson3macOS 13.6.5 Ventura / arm64see weekly results here
Package 61/555HostnameOS / ArchINSTALLBUILDCHECKBUILD BIN
casper 2.38.0  (landing page)
David Rossell
git_last_commit: fc6ff88
git_last_commit_date: 2024-04-30 10:30:14 -0400
nebbiolo1Linux (Ubuntu 22.04.3 LTS) / x86_64  OK    OK    OK  UNNEEDED, same version is already published
lconwaymacOS 12.7.1 Monterey / x86_64  OK    ERROR  skippedskipped
kjohnson3macOS 13.6.5 Ventura / arm64see weekly results here
Package 62/555HostnameOS / ArchINSTALLBUILDCHECKBUILD BIN
cBioPortalData 2.16.0  (landing page)
Marcel Ramos
git_last_commit: 7ad8fdf
git_last_commit_date: 2024-04-30 11:24:11 -0400
nebbiolo1Linux (Ubuntu 22.04.3 LTS) / x86_64  OK    OK    OK  UNNEEDED, same version is already published
lconwaymacOS 12.7.1 Monterey / x86_64  OK    OK    OK    OK  UNNEEDED, same version is already published
kjohnson3macOS 13.6.5 Ventura / arm64see weekly results here
Package 63/555HostnameOS / ArchINSTALLBUILDCHECKBUILD BIN
CexoR 1.42.0  (landing page)
Pedro Madrigal
git_last_commit: af27fa1
git_last_commit_date: 2024-04-30 11:37:45 -0400
nebbiolo1Linux (Ubuntu 22.04.3 LTS) / x86_64  OK    OK    OK  UNNEEDED, same version is already published
lconwaymacOS 12.7.1 Monterey / x86_64  OK    OK    OK    OK  UNNEEDED, same version is already published
kjohnson3macOS 13.6.5 Ventura / arm64see weekly results here
Package 64/555HostnameOS / ArchINSTALLBUILDCHECKBUILD BIN
cfdnakit 1.2.0  (landing page)
Pitithat Puranachot
git_last_commit: c461945
git_last_commit_date: 2024-04-30 11:50:10 -0400
nebbiolo1Linux (Ubuntu 22.04.3 LTS) / x86_64  OK    OK    OK  UNNEEDED, same version is already published
lconwaymacOS 12.7.1 Monterey / x86_64  OK    OK    OK    OK  UNNEEDED, same version is already published
kjohnson3macOS 13.6.5 Ventura / arm64see weekly results here
Package 65/555HostnameOS / ArchINSTALLBUILDCHECKBUILD BIN
cfDNAPro 1.10.0  (landing page)
Haichao Wang
git_last_commit: 83b9016
git_last_commit_date: 2024-04-30 11:36:13 -0400
nebbiolo1Linux (Ubuntu 22.04.3 LTS) / x86_64  OK    OK    WARNINGS  UNNEEDED, same version is already published
lconwaymacOS 12.7.1 Monterey / x86_64  OK    OK    WARNINGS    OK  UNNEEDED, same version is already published
kjohnson3macOS 13.6.5 Ventura / arm64see weekly results here
Package 66/555HostnameOS / ArchINSTALLBUILDCHECKBUILD BIN
cfTools 1.4.0  (landing page)
Ran Hu
git_last_commit: 6be9a24
git_last_commit_date: 2024-04-30 11:49:00 -0400
nebbiolo1Linux (Ubuntu 22.04.3 LTS) / x86_64  OK    OK    OK  UNNEEDED, same version is already published
lconwaymacOS 12.7.1 Monterey / x86_64  OK    OK    OK    OK  UNNEEDED, same version is already published
kjohnson3macOS 13.6.5 Ventura / arm64see weekly results here
Package 67/555HostnameOS / ArchINSTALLBUILDCHECKBUILD BIN
ChAMP 2.34.0  (landing page)
Yuan Tian
git_last_commit: fd26db1
git_last_commit_date: 2024-04-30 10:34:10 -0400
nebbiolo1Linux (Ubuntu 22.04.3 LTS) / x86_64  OK    OK    WARNINGS  NO, package depends on 'goseq' which is not available
lconwaymacOS 12.7.1 Monterey / x86_64  OK    OK    WARNINGS    OK  NO, package depends on 'goseq' which is not available
kjohnson3macOS 13.6.5 Ventura / arm64see weekly results here
Package 68/555HostnameOS / ArchINSTALLBUILDCHECKBUILD BIN
chimeraviz 1.30.0  (landing page)
Stian Lågstad
git_last_commit: 830e53e
git_last_commit_date: 2024-04-30 10:55:19 -0400
nebbiolo1Linux (Ubuntu 22.04.3 LTS) / x86_64  OK    OK    OK  UNNEEDED, same version is already published
lconwaymacOS 12.7.1 Monterey / x86_64  OK    OK    OK    OK  UNNEEDED, same version is already published
kjohnson3macOS 13.6.5 Ventura / arm64see weekly results here
Package 69/555HostnameOS / ArchINSTALLBUILDCHECKBUILD BIN
ChIPanalyser 1.26.0  (landing page)
Patrick C.N. Martin
git_last_commit: 0c3fa2c
git_last_commit_date: 2024-04-30 11:00:14 -0400
nebbiolo1Linux (Ubuntu 22.04.3 LTS) / x86_64  OK    OK    OK  UNNEEDED, same version is already published
lconwaymacOS 12.7.1 Monterey / x86_64  OK    OK    OK    OK  UNNEEDED, same version is already published
kjohnson3macOS 13.6.5 Ventura / arm64see weekly results here
Package 70/555HostnameOS / ArchINSTALLBUILDCHECKBUILD BIN
ChIPComp 1.34.0  (landing page)
Li Chen
git_last_commit: 7f6de83
git_last_commit_date: 2024-04-30 10:45:16 -0400
nebbiolo1Linux (Ubuntu 22.04.3 LTS) / x86_64  OK    OK    OK  UNNEEDED, same version is already published
lconwaymacOS 12.7.1 Monterey / x86_64  OK    OK    OK    OK  UNNEEDED, same version is already published
kjohnson3macOS 13.6.5 Ventura / arm64see weekly results here
Package 71/555HostnameOS / ArchINSTALLBUILDCHECKBUILD BIN
chipenrich 2.28.0  (landing page)
Kai Wang
git_last_commit: 6495340
git_last_commit_date: 2024-04-30 10:33:18 -0400
nebbiolo1Linux (Ubuntu 22.04.3 LTS) / x86_64  OK    OK    OK  UNNEEDED, same version is already published
lconwaymacOS 12.7.1 Monterey / x86_64  OK    OK    OK    OK  UNNEEDED, same version is already published
kjohnson3macOS 13.6.5 Ventura / arm64see weekly results here
Package 72/555HostnameOS / ArchINSTALLBUILDCHECKBUILD BIN
ChIPexoQual 1.28.0  (landing page)
Rene Welch
git_last_commit: bd77a4d
git_last_commit_date: 2024-04-30 10:55:58 -0400
nebbiolo1Linux (Ubuntu 22.04.3 LTS) / x86_64  OK    OK    OK  UNNEEDED, same version is already published
lconwaymacOS 12.7.1 Monterey / x86_64  OK    OK    OK    OK  UNNEEDED, same version is already published
kjohnson3macOS 13.6.5 Ventura / arm64see weekly results here
Package 73/555HostnameOS / ArchINSTALLBUILDCHECKBUILD BIN
ChIPpeakAnno 3.38.0  (landing page)
Jianhong Ou
git_last_commit: 26e03e3
git_last_commit_date: 2024-04-30 10:20:21 -0400
nebbiolo1Linux (Ubuntu 22.04.3 LTS) / x86_64  OK    OK    OK  UNNEEDED, same version is already published
lconwaymacOS 12.7.1 Monterey / x86_64  OK    OK    OK    OK  UNNEEDED, same version is already published
kjohnson3macOS 13.6.5 Ventura / arm64see weekly results here
Package 74/555HostnameOS / ArchINSTALLBUILDCHECKBUILD BIN
ChIPQC 1.40.0  (landing page)
Tom Carroll , Rory Stark
git_last_commit: b105a43
git_last_commit_date: 2024-04-30 10:35:54 -0400
nebbiolo1Linux (Ubuntu 22.04.3 LTS) / x86_64  OK    OK    WARNINGS  UNNEEDED, same version is already published
lconwaymacOS 12.7.1 Monterey / x86_64  OK    OK    WARNINGS    OK  UNNEEDED, same version is already published
kjohnson3macOS 13.6.5 Ventura / arm64see weekly results here
Package 75/555HostnameOS / ArchINSTALLBUILDCHECKBUILD BIN
ChIPseeker 1.40.0  (landing page)
Guangchuang Yu
git_last_commit: 8063d66
git_last_commit_date: 2024-04-30 10:36:31 -0400
nebbiolo1Linux (Ubuntu 22.04.3 LTS) / x86_64  OK    OK    OK  UNNEEDED, same version is already published
lconwaymacOS 12.7.1 Monterey / x86_64  OK    OK    OK    OK  UNNEEDED, same version is already published
kjohnson3macOS 13.6.5 Ventura / arm64see weekly results here
Package 76/555HostnameOS / ArchINSTALLBUILDCHECKBUILD BIN
chipseq 1.54.0  (landing page)
Bioconductor Package Maintainer
git_last_commit: c02cb58
git_last_commit_date: 2024-04-30 10:20:06 -0400
nebbiolo1Linux (Ubuntu 22.04.3 LTS) / x86_64  OK    OK    WARNINGS  UNNEEDED, same version is already published
lconwaymacOS 12.7.1 Monterey / x86_64  OK    OK    WARNINGS    OK  UNNEEDED, same version is already published
kjohnson3macOS 13.6.5 Ventura / arm64see weekly results here
Package 77/555HostnameOS / ArchINSTALLBUILDCHECKBUILD BIN
ChIPseqR 1.58.0  (landing page)
Peter Humburg
git_last_commit: e89adb7
git_last_commit_date: 2024-04-30 10:20:50 -0400
nebbiolo1Linux (Ubuntu 22.04.3 LTS) / x86_64  OK    OK    OK  UNNEEDED, same version is already published
lconwaymacOS 12.7.1 Monterey / x86_64  OK    OK    OK    OK  UNNEEDED, same version is already published
kjohnson3macOS 13.6.5 Ventura / arm64see weekly results here
Package 78/555HostnameOS / ArchINSTALLBUILDCHECKBUILD BIN
chromDraw 2.34.0  (landing page)
Jan Janecka
git_last_commit: 13cf60b
git_last_commit_date: 2024-04-30 10:41:01 -0400
nebbiolo1Linux (Ubuntu 22.04.3 LTS) / x86_64  OK    OK    WARNINGS  UNNEEDED, same version is already published
lconwaymacOS 12.7.1 Monterey / x86_64  OK    OK    WARNINGS    OK  UNNEEDED, same version is already published
kjohnson3macOS 13.6.5 Ventura / arm64see weekly results here
Package 79/555HostnameOS / ArchINSTALLBUILDCHECKBUILD BIN
ChromHeatMap 1.58.0  (landing page)
Tim F. Rayner
git_last_commit: 7d510bc
git_last_commit_date: 2024-04-30 10:20:48 -0400
nebbiolo1Linux (Ubuntu 22.04.3 LTS) / x86_64  OK    OK    OK  UNNEEDED, same version is already published
lconwaymacOS 12.7.1 Monterey / x86_64  OK    OK    OK    OK  UNNEEDED, same version is already published
kjohnson3macOS 13.6.5 Ventura / arm64see weekly results here
Package 80/555HostnameOS / ArchINSTALLBUILDCHECKBUILD BIN
chromPlot 1.32.0  (landing page)
Karen Y. Orostica
git_last_commit: 270638d
git_last_commit_date: 2024-04-30 10:48:29 -0400
nebbiolo1Linux (Ubuntu 22.04.3 LTS) / x86_64  OK    OK    OK  UNNEEDED, same version is already published
lconwaymacOS 12.7.1 Monterey / x86_64  OK    OK    OK    OK  UNNEEDED, same version is already published
kjohnson3macOS 13.6.5 Ventura / arm64see weekly results here
Package 81/555HostnameOS / ArchINSTALLBUILDCHECKBUILD BIN
ChromSCape 1.14.0  (landing page)
Pacome Prompsy
git_last_commit: ecb3c51
git_last_commit_date: 2024-04-30 11:27:45 -0400
nebbiolo1Linux (Ubuntu 22.04.3 LTS) / x86_64  OK    OK    WARNINGS  UNNEEDED, same version is already published
lconwaymacOS 12.7.1 Monterey / x86_64  OK    OK    WARNINGS    OK  UNNEEDED, same version is already published
kjohnson3macOS 13.6.5 Ventura / arm64see weekly results here
Package 82/555HostnameOS / ArchINSTALLBUILDCHECKBUILD BIN
chromstaR 1.30.0  (landing page)
Aaron Taudt
git_last_commit: d0560fd
git_last_commit_date: 2024-04-30 10:51:52 -0400
nebbiolo1Linux (Ubuntu 22.04.3 LTS) / x86_64  OK    ERROR  skipped
lconwaymacOS 12.7.1 Monterey / x86_64  OK    ERROR  skippedskipped
kjohnson3macOS 13.6.5 Ventura / arm64see weekly results here
Package 83/555HostnameOS / ArchINSTALLBUILDCHECKBUILD BIN
chromVAR 1.26.0  (landing page)
Alicia Schep
git_last_commit: 8150876
git_last_commit_date: 2024-04-30 11:01:15 -0400
nebbiolo1Linux (Ubuntu 22.04.3 LTS) / x86_64  OK    OK    OK  UNNEEDED, same version is already published
lconwaymacOS 12.7.1 Monterey / x86_64  OK    OK    OK    OK  UNNEEDED, same version is already published
kjohnson3macOS 13.6.5 Ventura / arm64see weekly results here
Package 84/555HostnameOS / ArchINSTALLBUILDCHECKBUILD BIN
cicero 1.22.0  (landing page)
Hannah Pliner
git_last_commit: 90e4014
git_last_commit_date: 2024-04-30 11:09:41 -0400
nebbiolo1Linux (Ubuntu 22.04.3 LTS) / x86_64  OK    OK    OK  UNNEEDED, same version is already published
lconwaymacOS 12.7.1 Monterey / x86_64  OK    OK    OK    OK  UNNEEDED, same version is already published
kjohnson3macOS 13.6.5 Ventura / arm64see weekly results here
Package 85/555HostnameOS / ArchINSTALLBUILDCHECKBUILD BIN
CINdex 1.32.0  (landing page)
Yuriy Gusev
git_last_commit: 5e69ff0
git_last_commit_date: 2024-04-30 10:49:54 -0400
nebbiolo1Linux (Ubuntu 22.04.3 LTS) / x86_64  OK    ERROR  skipped
lconwaymacOS 12.7.1 Monterey / x86_64  OK    ERROR  skippedskipped
kjohnson3macOS 13.6.5 Ventura / arm64see weekly results here
Package 86/555HostnameOS / ArchINSTALLBUILDCHECKBUILD BIN
circRNAprofiler 1.18.0  (landing page)
Simona Aufiero
git_last_commit: 61f3b94
git_last_commit_date: 2024-04-30 11:15:56 -0400
nebbiolo1Linux (Ubuntu 22.04.3 LTS) / x86_64  OK    OK    OK  UNNEEDED, same version is already published
lconwaymacOS 12.7.1 Monterey / x86_64  OK    OK    OK    OK  UNNEEDED, same version is already published
kjohnson3macOS 13.6.5 Ventura / arm64see weekly results here
Package 87/555HostnameOS / ArchINSTALLBUILDCHECKBUILD BIN
cleanUpdTSeq 1.42.0  (landing page)
Jianhong Ou ; Lihua Julie Zhu
git_last_commit: 89c1035
git_last_commit_date: 2024-04-30 10:32:31 -0400
nebbiolo1Linux (Ubuntu 22.04.3 LTS) / x86_64  OK    OK    OK  UNNEEDED, same version is already published
lconwaymacOS 12.7.1 Monterey / x86_64  OK    OK    OK    OK  UNNEEDED, same version is already published
kjohnson3macOS 13.6.5 Ventura / arm64see weekly results here
Package 88/555HostnameOS / ArchINSTALLBUILDCHECKBUILD BIN
cliProfiler 1.10.0  (landing page)
You Zhou
git_last_commit: 0df6994
git_last_commit_date: 2024-04-30 11:38:03 -0400
nebbiolo1Linux (Ubuntu 22.04.3 LTS) / x86_64  OK    OK    OK  UNNEEDED, same version is already published
lconwaymacOS 12.7.1 Monterey / x86_64  OK    OK    OK    OK  UNNEEDED, same version is already published
kjohnson3macOS 13.6.5 Ventura / arm64see weekly results here
Package 89/555HostnameOS / ArchINSTALLBUILDCHECKBUILD BIN
cn.mops 1.50.0  (landing page)
Gundula Povysil
git_last_commit: 70252ab
git_last_commit_date: 2024-04-30 10:26:19 -0400
nebbiolo1Linux (Ubuntu 22.04.3 LTS) / x86_64  OK    OK    OK  UNNEEDED, same version is already published
lconwaymacOS 12.7.1 Monterey / x86_64  OK    OK    OK    OK  UNNEEDED, same version is already published
kjohnson3macOS 13.6.5 Ventura / arm64see weekly results here
Package 90/555HostnameOS / ArchINSTALLBUILDCHECKBUILD BIN
CNEr 1.40.0  (landing page)
Ge Tan
git_last_commit: e967f84
git_last_commit_date: 2024-04-30 10:35:00 -0400
nebbiolo1Linux (Ubuntu 22.04.3 LTS) / x86_64  OK    OK    WARNINGS  UNNEEDED, same version is already published
lconwaymacOS 12.7.1 Monterey / x86_64  OK    OK    WARNINGS    OK  UNNEEDED, same version is already published
kjohnson3macOS 13.6.5 Ventura / arm64see weekly results here
Package 91/555HostnameOS / ArchINSTALLBUILDCHECKBUILD BIN
CNVfilteR 1.18.0  (landing page)
Jose Marcos Moreno-Cabrera
git_last_commit: 5470481
git_last_commit_date: 2024-04-30 11:18:03 -0400
nebbiolo1Linux (Ubuntu 22.04.3 LTS) / x86_64  OK    OK    OK  UNNEEDED, same version is already published
lconwaymacOS 12.7.1 Monterey / x86_64  OK    OK    OK    OK  UNNEEDED, same version is already published
kjohnson3macOS 13.6.5 Ventura / arm64see weekly results here
Package 92/555HostnameOS / ArchINSTALLBUILDCHECKBUILD BIN
cnvGSA 1.48.0  (landing page)
Joseph Lugo
git_last_commit: 0501b34
git_last_commit_date: 2024-04-30 10:27:27 -0400
nebbiolo1Linux (Ubuntu 22.04.3 LTS) / x86_64  OK    OK    OK  UNNEEDED, same version is already published
lconwaymacOS 12.7.1 Monterey / x86_64  OK    OK    OK    OK  UNNEEDED, same version is already published
kjohnson3macOS 13.6.5 Ventura / arm64see weekly results here
Package 93/555HostnameOS / ArchINSTALLBUILDCHECKBUILD BIN
CNViz 1.12.0  (landing page)
Rebecca Greenblatt
git_last_commit: aa5a9cd
git_last_commit_date: 2024-04-30 11:33:06 -0400
nebbiolo1Linux (Ubuntu 22.04.3 LTS) / x86_64  OK    OK    OK  UNNEEDED, same version is already published
lconwaymacOS 12.7.1 Monterey / x86_64  OK    OK    OK    OK  UNNEEDED, same version is already published
kjohnson3macOS 13.6.5 Ventura / arm64see weekly results here
Package 94/555HostnameOS / ArchINSTALLBUILDCHECKBUILD BIN
CNVMetrics 1.8.0  (landing page)
Astrid Deschênes
git_last_commit: 51b5f15
git_last_commit_date: 2024-04-30 11:39:32 -0400
nebbiolo1Linux (Ubuntu 22.04.3 LTS) / x86_64  OK    OK    OK  UNNEEDED, same version is already published
lconwaymacOS 12.7.1 Monterey / x86_64  OK    OK    OK    OK  UNNEEDED, same version is already published
kjohnson3macOS 13.6.5 Ventura / arm64see weekly results here
Package 95/555HostnameOS / ArchINSTALLBUILDCHECKBUILD BIN
CNVPanelizer 1.36.0  (landing page)
Thomas Wolf
git_last_commit: 9cd2650
git_last_commit_date: 2024-04-30 10:44:28 -0400
nebbiolo1Linux (Ubuntu 22.04.3 LTS) / x86_64  OK    ERROR  skipped
lconwaymacOS 12.7.1 Monterey / x86_64  OK    ERROR  skippedskipped
kjohnson3macOS 13.6.5 Ventura / arm64see weekly results here
Package 96/555HostnameOS / ArchINSTALLBUILDCHECKBUILD BIN
CNVRanger 1.20.0  (landing page)
Ludwig Geistlinger
git_last_commit: dca5773
git_last_commit_date: 2024-04-30 11:12:23 -0400
nebbiolo1Linux (Ubuntu 22.04.3 LTS) / x86_64  OK    OK    OK  UNNEEDED, same version is already published
lconwaymacOS 12.7.1 Monterey / x86_64  OK    OK    OK    OK  UNNEEDED, same version is already published
kjohnson3macOS 13.6.5 Ventura / arm64see weekly results here
Package 97/555HostnameOS / ArchINSTALLBUILDCHECKBUILD BIN
COCOA 2.18.0  (landing page)
John Lawson
git_last_commit: f2b450f
git_last_commit_date: 2024-04-30 11:10:32 -0400
nebbiolo1Linux (Ubuntu 22.04.3 LTS) / x86_64  OK    OK    OK  UNNEEDED, same version is already published
lconwaymacOS 12.7.1 Monterey / x86_64  OK    OK    OK    OK  UNNEEDED, same version is already published
kjohnson3macOS 13.6.5 Ventura / arm64see weekly results here
Package 98/555HostnameOS / ArchINSTALLBUILDCHECKBUILD BIN
Cogito 1.10.0  (landing page)
Annika Bürger
git_last_commit: f64c84b
git_last_commit_date: 2024-04-30 11:38:11 -0400
nebbiolo1Linux (Ubuntu 22.04.3 LTS) / x86_64  OK    OK    OK  UNNEEDED, same version is already published
lconwaymacOS 12.7.1 Monterey / x86_64  OK    OK    OK    OK  UNNEEDED, same version is already published
kjohnson3macOS 13.6.5 Ventura / arm64see weekly results here
Package 99/555HostnameOS / ArchINSTALLBUILDCHECKBUILD BIN
comapr 1.8.0  (landing page)
Ruqian Lyu
git_last_commit: 553ee62
git_last_commit_date: 2024-04-30 11:39:48 -0400
nebbiolo1Linux (Ubuntu 22.04.3 LTS) / x86_64  OK    OK    OK  UNNEEDED, same version is already published
lconwaymacOS 12.7.1 Monterey / x86_64  OK    OK    OK    OK  UNNEEDED, same version is already published
kjohnson3macOS 13.6.5 Ventura / arm64see weekly results here
Package 100/555HostnameOS / ArchINSTALLBUILDCHECKBUILD BIN
coMET 1.36.0  (landing page)
Tiphaine Martin
git_last_commit: 6d5fd0d
git_last_commit_date: 2024-04-30 11:45:58 -0400
nebbiolo1Linux (Ubuntu 22.04.3 LTS) / x86_64  OK    ERROR  skipped
lconwaymacOS 12.7.1 Monterey / x86_64  OK    ERROR  skippedskipped
kjohnson3macOS 13.6.5 Ventura / arm64see weekly results here
Package 101/555HostnameOS / ArchINSTALLBUILDCHECKBUILD BIN
coMethDMR 1.8.0  (landing page)
Fernanda Veitzman
git_last_commit: 0588fe1
git_last_commit_date: 2024-04-30 11:39:34 -0400
nebbiolo1Linux (Ubuntu 22.04.3 LTS) / x86_64  OK    OK    OK  UNNEEDED, same version is already published
lconwaymacOS 12.7.1 Monterey / x86_64  OK    OK    OK    OK  UNNEEDED, same version is already published
kjohnson3macOS 13.6.5 Ventura / arm64see weekly results here
Package 102/555HostnameOS / ArchINSTALLBUILDCHECKBUILD BIN
compartmap 1.22.0  (landing page)
Benjamin Johnson
git_last_commit: 8d4beb1
git_last_commit_date: 2024-04-30 11:11:00 -0400
nebbiolo1Linux (Ubuntu 22.04.3 LTS) / x86_64  OK    OK    ERROR  
lconwaymacOS 12.7.1 Monterey / x86_64  OK    OK    OK    OK  UNNEEDED, same version is already published
kjohnson3macOS 13.6.5 Ventura / arm64see weekly results here
Package 103/555HostnameOS / ArchINSTALLBUILDCHECKBUILD BIN
compEpiTools 1.38.0  (landing page)
Mattia Furlan
git_last_commit: b4f7b92
git_last_commit_date: 2024-04-30 10:38:11 -0400
nebbiolo1Linux (Ubuntu 22.04.3 LTS) / x86_64  OK    ERROR  skipped
lconwaymacOS 12.7.1 Monterey / x86_64  OK    ERROR  skippedskipped
kjohnson3macOS 13.6.5 Ventura / arm64see weekly results here
Package 104/555HostnameOS / ArchINSTALLBUILDCHECKBUILD BIN
consensusSeekeR 1.32.0  (landing page)
Astrid Deschênes
git_last_commit: 7bd4cad
git_last_commit_date: 2024-04-30 10:46:48 -0400
nebbiolo1Linux (Ubuntu 22.04.3 LTS) / x86_64  OK    OK    OK  UNNEEDED, same version is already published
lconwaymacOS 12.7.1 Monterey / x86_64  OK    OK    OK    OK  UNNEEDED, same version is already published
kjohnson3macOS 13.6.5 Ventura / arm64see weekly results here
Package 105/555HostnameOS / ArchINSTALLBUILDCHECKBUILD BIN
contiBAIT 1.32.0  (landing page)
Kieran O'Neill
git_last_commit: eb4782b
git_last_commit_date: 2024-04-30 10:48:15 -0400
nebbiolo1Linux (Ubuntu 22.04.3 LTS) / x86_64  ERROR    ERROR  skipped
lconwaymacOS 12.7.1 Monterey / x86_64  ERROR    ERROR  skippedskipped
kjohnson3macOS 13.6.5 Ventura / arm64see weekly results here
Package 106/555HostnameOS / ArchINSTALLBUILDCHECKBUILD BIN
conumee 1.38.0  (landing page)
Volker Hovestadt
git_last_commit: 98a8051
git_last_commit_date: 2024-04-30 10:43:13 -0400
nebbiolo1Linux (Ubuntu 22.04.3 LTS) / x86_64  OK    OK    OK  UNNEEDED, same version is already published
lconwaymacOS 12.7.1 Monterey / x86_64  OK    OK    OK    OK  UNNEEDED, same version is already published
kjohnson3macOS 13.6.5 Ventura / arm64see weekly results here
Package 107/555HostnameOS / ArchINSTALLBUILDCHECKBUILD BIN
CopyNumberPlots 1.20.0  (landing page)
Bernat Gel
git_last_commit: 853880e
git_last_commit_date: 2024-04-30 11:14:18 -0400
nebbiolo1Linux (Ubuntu 22.04.3 LTS) / x86_64  OK    OK    OK  UNNEEDED, same version is already published
lconwaymacOS 12.7.1 Monterey / x86_64  OK    OK    OK    OK  UNNEEDED, same version is already published
kjohnson3macOS 13.6.5 Ventura / arm64see weekly results here
Package 108/555HostnameOS / ArchINSTALLBUILDCHECKBUILD BIN
CoverageView 1.42.0  (landing page)
Ernesto Lowy
git_last_commit: 471370d
git_last_commit_date: 2024-04-30 10:36:07 -0400
nebbiolo1Linux (Ubuntu 22.04.3 LTS) / x86_64  OK    OK    WARNINGS  UNNEEDED, same version is already published
lconwaymacOS 12.7.1 Monterey / x86_64  OK    OK    WARNINGS    OK  UNNEEDED, same version is already published
kjohnson3macOS 13.6.5 Ventura / arm64see weekly results here
Package 109/555HostnameOS / ArchINSTALLBUILDCHECKBUILD BIN
crisprBase 1.8.0  (landing page)
Jean-Philippe Fortin
git_last_commit: 1b765b0
git_last_commit_date: 2024-04-30 11:39:39 -0400
nebbiolo1Linux (Ubuntu 22.04.3 LTS) / x86_64  OK    OK    OK  UNNEEDED, same version is already published
lconwaymacOS 12.7.1 Monterey / x86_64  OK    OK    OK    OK  UNNEEDED, same version is already published
kjohnson3macOS 13.6.5 Ventura / arm64see weekly results here
Package 110/555HostnameOS / ArchINSTALLBUILDCHECKBUILD BIN
crisprBowtie 1.8.0  (landing page)
Jean-Philippe Fortin
git_last_commit: 3d96121
git_last_commit_date: 2024-04-30 11:40:26 -0400
nebbiolo1Linux (Ubuntu 22.04.3 LTS) / x86_64  OK    OK    OK  UNNEEDED, same version is already published
lconwaymacOS 12.7.1 Monterey / x86_64  OK    OK    OK    OK  UNNEEDED, same version is already published
kjohnson3macOS 13.6.5 Ventura / arm64see weekly results here
Package 111/555HostnameOS / ArchINSTALLBUILDCHECKBUILD BIN
crisprDesign 1.6.0  (landing page)
Jean-Philippe Fortin
git_last_commit: 9c8b631
git_last_commit_date: 2024-04-30 11:43:47 -0400
nebbiolo1Linux (Ubuntu 22.04.3 LTS) / x86_64  OK    OK    OK  UNNEEDED, same version is already published
lconwaymacOS 12.7.1 Monterey / x86_64  OK    OK    OK    OK  UNNEEDED, same version is already published
kjohnson3macOS 13.6.5 Ventura / arm64see weekly results here
Package 112/555HostnameOS / ArchINSTALLBUILDCHECKBUILD BIN
CRISPRseek 1.44.0  (landing page)
Lihua Julie Zhu
git_last_commit: e23777b
git_last_commit_date: 2024-04-30 10:34:25 -0400
nebbiolo1Linux (Ubuntu 22.04.3 LTS) / x86_64  OK    OK    OK  UNNEEDED, same version is already published
lconwaymacOS 12.7.1 Monterey / x86_64  OK    OK    OK    OK  UNNEEDED, same version is already published
kjohnson3macOS 13.6.5 Ventura / arm64see weekly results here
Package 113/555HostnameOS / ArchINSTALLBUILDCHECKBUILD BIN
crisprseekplus 1.30.0  (landing page)
Alper Kucukural
git_last_commit: 543b7be
git_last_commit_date: 2024-04-30 10:54:36 -0400
nebbiolo1Linux (Ubuntu 22.04.3 LTS) / x86_64  OK    OK    ERROR  
lconwaymacOS 12.7.1 Monterey / x86_64  OK    OK    OK    OK  UNNEEDED, same version is already published
kjohnson3macOS 13.6.5 Ventura / arm64see weekly results here
Package 114/555HostnameOS / ArchINSTALLBUILDCHECKBUILD BIN
CrispRVariants 1.32.0  (landing page)
Helen Lindsay
git_last_commit: eef5fe0
git_last_commit_date: 2024-04-30 10:47:26 -0400
nebbiolo1Linux (Ubuntu 22.04.3 LTS) / x86_64  OK    OK    WARNINGS  UNNEEDED, same version is already published
lconwaymacOS 12.7.1 Monterey / x86_64  OK    OK    WARNINGS    OK  UNNEEDED, same version is already published
kjohnson3macOS 13.6.5 Ventura / arm64see weekly results here
Package 115/555HostnameOS / ArchINSTALLBUILDCHECKBUILD BIN
crisprViz 1.6.0  (landing page)
Jean-Philippe Fortin
git_last_commit: 11641c3
git_last_commit_date: 2024-04-30 11:44:44 -0400
nebbiolo1Linux (Ubuntu 22.04.3 LTS) / x86_64  OK    OK    OK  UNNEEDED, same version is already published
lconwaymacOS 12.7.1 Monterey / x86_64  OK    OK    OK    OK  UNNEEDED, same version is already published
kjohnson3macOS 13.6.5 Ventura / arm64see weekly results here
Package 116/555HostnameOS / ArchINSTALLBUILDCHECKBUILD BIN
CSAR 1.56.0  (landing page)
Jose M Muino
git_last_commit: dee095d
git_last_commit_date: 2024-04-30 10:21:02 -0400
nebbiolo1Linux (Ubuntu 22.04.3 LTS) / x86_64  OK    OK    OK  UNNEEDED, same version is already published
lconwaymacOS 12.7.1 Monterey / x86_64  OK    OK    OK    OK  UNNEEDED, same version is already published
kjohnson3macOS 13.6.5 Ventura / arm64see weekly results here
Package 117/555HostnameOS / ArchINSTALLBUILDCHECKBUILD BIN
csaw 1.38.0  (landing page)
Aaron Lun
git_last_commit: 8000717
git_last_commit_date: 2024-04-30 10:39:51 -0400
nebbiolo1Linux (Ubuntu 22.04.3 LTS) / x86_64  OK    OK    WARNINGS  UNNEEDED, same version is already published
lconwaymacOS 12.7.1 Monterey / x86_64  OK    OK    WARNINGS    OK  UNNEEDED, same version is already published
kjohnson3macOS 13.6.5 Ventura / arm64see weekly results here
Package 118/555HostnameOS / ArchINSTALLBUILDCHECKBUILD BIN
CSSQ 1.16.0  (landing page)
Fan Lab at Georgia Institute of Technology
git_last_commit: c1a83d2
git_last_commit_date: 2024-04-30 11:19:38 -0400
nebbiolo1Linux (Ubuntu 22.04.3 LTS) / x86_64  OK    OK    OK  UNNEEDED, same version is already published
lconwaymacOS 12.7.1 Monterey / x86_64  OK    OK    OK    OK  UNNEEDED, same version is already published
kjohnson3macOS 13.6.5 Ventura / arm64see weekly results here
Package 119/555HostnameOS / ArchINSTALLBUILDCHECKBUILD BIN
CTexploreR 1.0.0  (landing page)
Axelle Loriot
git_last_commit: 7af29e4
git_last_commit_date: 2024-04-30 11:53:09 -0400
nebbiolo1Linux (Ubuntu 22.04.3 LTS) / x86_64  OK    OK    OK  UNNEEDED, same version is already published
lconwaymacOS 12.7.1 Monterey / x86_64  OK    OK    OK    OK  UNNEEDED, same version is already published
kjohnson3macOS 13.6.5 Ventura / arm64see weekly results here
Package 120/555HostnameOS / ArchINSTALLBUILDCHECKBUILD BIN
customProDB 1.44.0  (landing page)
Xiaojing Wang
git_last_commit: 4cc0d41
git_last_commit_date: 2024-04-30 10:32:13 -0400
nebbiolo1Linux (Ubuntu 22.04.3 LTS) / x86_64  OK    OK    WARNINGS  UNNEEDED, same version is already published
lconwaymacOS 12.7.1 Monterey / x86_64  OK    OK    WARNINGS    OK  UNNEEDED, same version is already published
kjohnson3macOS 13.6.5 Ventura / arm64see weekly results here
Package 121/555HostnameOS / ArchINSTALLBUILDCHECKBUILD BIN
DAMEfinder 1.16.0  (landing page)
Stephany Orjuela
git_last_commit: 3bc9405
git_last_commit_date: 2024-04-30 11:20:22 -0400
nebbiolo1Linux (Ubuntu 22.04.3 LTS) / x86_64  OK    OK    OK  UNNEEDED, same version is already published
lconwaymacOS 12.7.1 Monterey / x86_64  OK    OK    OK    OK  UNNEEDED, same version is already published
kjohnson3macOS 13.6.5 Ventura / arm64see weekly results here
Package 122/555HostnameOS / ArchINSTALLBUILDCHECKBUILD BIN
Damsel 1.0.0  (landing page)
Caitlin Page
git_last_commit: f617ae8
git_last_commit_date: 2024-04-30 11:56:05 -0400
nebbiolo1Linux (Ubuntu 22.04.3 LTS) / x86_64  OK    OK    OK  NO, package depends on 'goseq' which is not available
lconwaymacOS 12.7.1 Monterey / x86_64  OK    OK    OK    OK  NO, package depends on 'goseq' which is not available
kjohnson3macOS 13.6.5 Ventura / arm64see weekly results here
Package 123/555HostnameOS / ArchINSTALLBUILDCHECKBUILD BIN
debrowser 1.32.0  (landing page)
Alper Kucukural
git_last_commit: eb2c623
git_last_commit_date: 2024-04-30 10:49:26 -0400
nebbiolo1Linux (Ubuntu 22.04.3 LTS) / x86_64  OK    OK    OK  UNNEEDED, same version is already published
lconwaymacOS 12.7.1 Monterey / x86_64  OK    OK    OK    OK  UNNEEDED, same version is already published
kjohnson3macOS 13.6.5 Ventura / arm64see weekly results here
Package 124/555HostnameOS / ArchINSTALLBUILDCHECKBUILD BIN
decompTumor2Sig 2.20.0  (landing page)
Rosario M. Piro
git_last_commit: 7c2b408
git_last_commit_date: 2024-04-30 11:11:25 -0400
nebbiolo1Linux (Ubuntu 22.04.3 LTS) / x86_64  OK    OK    OK  UNNEEDED, same version is already published
lconwaymacOS 12.7.1 Monterey / x86_64  OK    OK    OK    OK  UNNEEDED, same version is already published
kjohnson3macOS 13.6.5 Ventura / arm64see weekly results here
Package 125/555HostnameOS / ArchINSTALLBUILDCHECKBUILD BIN
deconvR 1.10.0  (landing page)
Irem B. Gündüz
git_last_commit: e6be0f1
git_last_commit_date: 2024-04-30 11:38:28 -0400
nebbiolo1Linux (Ubuntu 22.04.3 LTS) / x86_64  OK    OK    OK  UNNEEDED, same version is already published
lconwaymacOS 12.7.1 Monterey / x86_64  OK    OK    OK    OK  UNNEEDED, same version is already published
kjohnson3macOS 13.6.5 Ventura / arm64see weekly results here
Package 126/555HostnameOS / ArchINSTALLBUILDCHECKBUILD BIN
deepSNV 1.50.0  (landing page)
Moritz Gerstung
git_last_commit: 2574af4
git_last_commit_date: 2024-04-30 10:26:54 -0400
nebbiolo1Linux (Ubuntu 22.04.3 LTS) / x86_64  OK    ERROR  skipped
lconwaymacOS 12.7.1 Monterey / x86_64  OK    ERROR  skippedskipped
kjohnson3macOS 13.6.5 Ventura / arm64see weekly results here
Package 127/555HostnameOS / ArchINSTALLBUILDCHECKBUILD BIN
DEFormats 1.32.0  (landing page)
Andrzej Oleś
git_last_commit: 1cc90f1
git_last_commit_date: 2024-04-30 10:49:41 -0400
nebbiolo1Linux (Ubuntu 22.04.3 LTS) / x86_64  OK    OK    OK  UNNEEDED, same version is already published
lconwaymacOS 12.7.1 Monterey / x86_64  OK    OK    OK    OK  UNNEEDED, same version is already published
kjohnson3macOS 13.6.5 Ventura / arm64see weekly results here
Package 128/555HostnameOS / ArchINSTALLBUILDCHECKBUILD BIN
DegCre 1.0.0  (landing page)
Brian S. Roberts
git_last_commit: e9e8266
git_last_commit_date: 2024-04-30 11:54:56 -0400
nebbiolo1Linux (Ubuntu 22.04.3 LTS) / x86_64  OK    OK    OK  UNNEEDED, same version is already published
lconwaymacOS 12.7.1 Monterey / x86_64  OK    OK    OK    OK  UNNEEDED, same version is already published
kjohnson3macOS 13.6.5 Ventura / arm64see weekly results here
Package 129/555HostnameOS / ArchINSTALLBUILDCHECKBUILD BIN
DegNorm 1.14.0  (landing page)
Ji-Ping Wang
git_last_commit: 0e96e09
git_last_commit_date: 2024-04-30 11:24:33 -0400
nebbiolo1Linux (Ubuntu 22.04.3 LTS) / x86_64  OK    OK    OK  UNNEEDED, same version is already published
lconwaymacOS 12.7.1 Monterey / x86_64  OK    OK    OK    OK  UNNEEDED, same version is already published
kjohnson3macOS 13.6.5 Ventura / arm64see weekly results here
Package 130/555HostnameOS / ArchINSTALLBUILDCHECKBUILD BIN
deltaCaptureC 1.18.0  (landing page)
Michael Shapiro
git_last_commit: ba5ee72
git_last_commit_date: 2024-04-30 11:16:55 -0400
nebbiolo1Linux (Ubuntu 22.04.3 LTS) / x86_64  OK    OK    OK  UNNEEDED, same version is already published
lconwaymacOS 12.7.1 Monterey / x86_64  OK    OK    OK    OK  UNNEEDED, same version is already published
kjohnson3macOS 13.6.5 Ventura / arm64see weekly results here
Package 131/555HostnameOS / ArchINSTALLBUILDCHECKBUILD BIN
derfinder 1.38.0  (landing page)
Leonardo Collado-Torres
git_last_commit: e2fef91
git_last_commit_date: 2024-04-30 10:39:14 -0400
nebbiolo1Linux (Ubuntu 22.04.3 LTS) / x86_64  OK    OK    OK  UNNEEDED, same version is already published
lconwaymacOS 12.7.1 Monterey / x86_64  OK    OK    OK    OK  UNNEEDED, same version is already published
kjohnson3macOS 13.6.5 Ventura / arm64see weekly results here
Package 132/555HostnameOS / ArchINSTALLBUILDCHECKBUILD BIN
derfinderPlot 1.38.0  (landing page)
Leonardo Collado-Torres
git_last_commit: db6304d
git_last_commit_date: 2024-04-30 10:39:16 -0400
nebbiolo1Linux (Ubuntu 22.04.3 LTS) / x86_64  OK    OK    OK  UNNEEDED, same version is already published
lconwaymacOS 12.7.1 Monterey / x86_64  OK    OK    OK    OK  UNNEEDED, same version is already published
kjohnson3macOS 13.6.5 Ventura / arm64see weekly results here
Package 133/555HostnameOS / ArchINSTALLBUILDCHECKBUILD BIN
DEScan2 1.24.0  (landing page)
Dario Righelli
git_last_commit: b61e7e9
git_last_commit_date: 2024-04-30 11:04:37 -0400
nebbiolo1Linux (Ubuntu 22.04.3 LTS) / x86_64  OK    OK    WARNINGS  UNNEEDED, same version is already published
lconwaymacOS 12.7.1 Monterey / x86_64  OK    OK    WARNINGS    OK  UNNEEDED, same version is already published
kjohnson3macOS 13.6.5 Ventura / arm64see weekly results here
Package 134/555HostnameOS / ArchINSTALLBUILDCHECKBUILD BIN
DESeq2 1.44.0  (landing page)
Michael Love
git_last_commit: 5facd30
git_last_commit_date: 2024-04-30 10:30:41 -0400
nebbiolo1Linux (Ubuntu 22.04.3 LTS) / x86_64  OK    OK    OK  UNNEEDED, same version is already published
lconwaymacOS 12.7.1 Monterey / x86_64  OK    OK    OK    OK  UNNEEDED, same version is already published
kjohnson3macOS 13.6.5 Ventura / arm64see weekly results here
Package 135/555HostnameOS / ArchINSTALLBUILDCHECKBUILD BIN
DEWSeq 1.18.0  (landing page)
bioinformatics team Hentze
git_last_commit: 92a658b
git_last_commit_date: 2024-04-30 11:18:39 -0400
nebbiolo1Linux (Ubuntu 22.04.3 LTS) / x86_64  OK    OK    OK  UNNEEDED, same version is already published
lconwaymacOS 12.7.1 Monterey / x86_64  OK    OK    OK    OK  UNNEEDED, same version is already published
kjohnson3macOS 13.6.5 Ventura / arm64see weekly results here
Package 136/555HostnameOS / ArchINSTALLBUILDCHECKBUILD BIN
DEXSeq 1.50.0  (landing page)
Alejandro Reyes
git_last_commit: d831c0f
git_last_commit_date: 2024-04-30 10:24:41 -0400
nebbiolo1Linux (Ubuntu 22.04.3 LTS) / x86_64  OK    OK    OK  UNNEEDED, same version is already published
lconwaymacOS 12.7.1 Monterey / x86_64  OK    OK    OK    OK  UNNEEDED, same version is already published
kjohnson3macOS 13.6.5 Ventura / arm64see weekly results here
Package 137/555HostnameOS / ArchINSTALLBUILDCHECKBUILD BIN
DiffBind 3.14.0  (landing page)
Rory Stark
git_last_commit: e0ff4b5
git_last_commit_date: 2024-04-30 10:25:38 -0400
nebbiolo1Linux (Ubuntu 22.04.3 LTS) / x86_64  OK    OK    OK  UNNEEDED, same version is already published
lconwaymacOS 12.7.1 Monterey / x86_64  OK    OK    OK    OK  UNNEEDED, same version is already published
kjohnson3macOS 13.6.5 Ventura / arm64see weekly results here
Package 138/555HostnameOS / ArchINSTALLBUILDCHECKBUILD BIN
diffHic 1.36.1  (landing page)
Aaron Lun , Gordon Smyth , Hannah Coughlin
git_last_commit: fd2125c
git_last_commit_date: 2024-05-10 21:26:37 -0400
nebbiolo1Linux (Ubuntu 22.04.3 LTS) / x86_64  OK    OK    OK  UNNEEDED, same version is already published
lconwaymacOS 12.7.1 Monterey / x86_64  OK    OK    OK    OK  UNNEEDED, same version is already published
kjohnson3macOS 13.6.5 Ventura / arm64see weekly results here
Package 139/555HostnameOS / ArchINSTALLBUILDCHECKBUILD BIN
diffUTR 1.12.0  (landing page)
Pierre-Luc Germain
git_last_commit: 312971f
git_last_commit_date: 2024-04-30 11:34:21 -0400
nebbiolo1Linux (Ubuntu 22.04.3 LTS) / x86_64  OK    OK    OK  UNNEEDED, same version is already published
lconwaymacOS 12.7.1 Monterey / x86_64  OK    OK    OK    OK  UNNEEDED, same version is already published
kjohnson3macOS 13.6.5 Ventura / arm64see weekly results here
Package 140/555HostnameOS / ArchINSTALLBUILDCHECKBUILD BIN
dinoR 1.0.0  (landing page)
Michaela Schwaiger
git_last_commit: cb8acee
git_last_commit_date: 2024-04-30 11:55:16 -0400
nebbiolo1Linux (Ubuntu 22.04.3 LTS) / x86_64  OK    OK    OK  UNNEEDED, same version is already published
lconwaymacOS 12.7.1 Monterey / x86_64  OK    OK    OK    OK  UNNEEDED, same version is already published
kjohnson3macOS 13.6.5 Ventura / arm64see weekly results here
Package 141/555HostnameOS / ArchINSTALLBUILDCHECKBUILD BIN
DMCFB 1.18.0  (landing page)
Farhad Shokoohi
git_last_commit: 4ffb609
git_last_commit_date: 2024-04-30 11:17:54 -0400
nebbiolo1Linux (Ubuntu 22.04.3 LTS) / x86_64  OK    OK    OK  UNNEEDED, same version is already published
lconwaymacOS 12.7.1 Monterey / x86_64  OK    OK    OK    OK  UNNEEDED, same version is already published
kjohnson3macOS 13.6.5 Ventura / arm64see weekly results here
Package 142/555HostnameOS / ArchINSTALLBUILDCHECKBUILD BIN
DMCHMM 1.26.0  (landing page)
Farhad Shokoohi
git_last_commit: 684b3cc
git_last_commit_date: 2024-04-30 11:00:06 -0400
nebbiolo1Linux (Ubuntu 22.04.3 LTS) / x86_64  OK    OK    OK  UNNEEDED, same version is already published
lconwaymacOS 12.7.1 Monterey / x86_64  OK    OK    OK    OK  UNNEEDED, same version is already published
kjohnson3macOS 13.6.5 Ventura / arm64see weekly results here
Package 143/555HostnameOS / ArchINSTALLBUILDCHECKBUILD BIN
DMRcaller 1.36.0  (landing page)
Nicolae Radu Zabet
git_last_commit: 0b1facf
git_last_commit_date: 2024-04-30 10:42:53 -0400
nebbiolo1Linux (Ubuntu 22.04.3 LTS) / x86_64  OK    ERROR  skipped
lconwaymacOS 12.7.1 Monterey / x86_64  OK    ERROR  skippedskipped
kjohnson3macOS 13.6.5 Ventura / arm64see weekly results here
Package 144/555HostnameOS / ArchINSTALLBUILDCHECKBUILD BIN
DMRcate 3.0.1  (landing page)
Tim Peters
git_last_commit: ba6b9f9
git_last_commit_date: 2024-05-27 03:12:02 -0400
nebbiolo1Linux (Ubuntu 22.04.3 LTS) / x86_64  OK    ERROR  skipped
lconwaymacOS 12.7.1 Monterey / x86_64  OK    ERROR  skippedskipped
kjohnson3macOS 13.6.5 Ventura / arm64see weekly results here
Package 145/555HostnameOS / ArchINSTALLBUILDCHECKBUILD BIN
DMRScan 1.26.0  (landing page)
Christian M Page
git_last_commit: 05f9476
git_last_commit_date: 2024-04-30 10:55:55 -0400
nebbiolo1Linux (Ubuntu 22.04.3 LTS) / x86_64  OK    OK    OK  UNNEEDED, same version is already published
lconwaymacOS 12.7.1 Monterey / x86_64  OK    OK    OK    OK  UNNEEDED, same version is already published
kjohnson3macOS 13.6.5 Ventura / arm64see weekly results here
Package 146/555HostnameOS / ArchINSTALLBUILDCHECKBUILD BIN
dmrseq 1.24.0  (landing page)
Keegan Korthauer
git_last_commit: c293895
git_last_commit_date: 2024-04-30 11:04:20 -0400
nebbiolo1Linux (Ubuntu 22.04.3 LTS) / x86_64  OK    OK    OK  UNNEEDED, same version is already published
lconwaymacOS 12.7.1 Monterey / x86_64  OK    OK    OK    OK  UNNEEDED, same version is already published
kjohnson3macOS 13.6.5 Ventura / arm64see weekly results here
Package 147/555HostnameOS / ArchINSTALLBUILDCHECKBUILD BIN
DNAfusion 1.6.0  (landing page)
Christoffer Trier Maansson
git_last_commit: 4ba0c6d
git_last_commit_date: 2024-04-30 11:45:47 -0400
nebbiolo1Linux (Ubuntu 22.04.3 LTS) / x86_64  OK    OK    OK  UNNEEDED, same version is already published
lconwaymacOS 12.7.1 Monterey / x86_64  OK    OK    OK    OK  UNNEEDED, same version is already published
kjohnson3macOS 13.6.5 Ventura / arm64see weekly results here
Package 148/555HostnameOS / ArchINSTALLBUILDCHECKBUILD BIN
DNAshapeR 1.32.0  (landing page)
Tsu-Pei Chiu
git_last_commit: b1c80a3
git_last_commit_date: 2024-04-30 10:49:17 -0400
nebbiolo1Linux (Ubuntu 22.04.3 LTS) / x86_64  OK    OK    OK  UNNEEDED, same version is already published
lconwaymacOS 12.7.1 Monterey / x86_64  OK    OK    OK    OK  UNNEEDED, same version is already published
kjohnson3macOS 13.6.5 Ventura / arm64see weekly results here
Package 149/555HostnameOS / ArchINSTALLBUILDCHECKBUILD BIN
DominoEffect 1.24.0  (landing page)
Marija Buljan
git_last_commit: 200d41e
git_last_commit_date: 2024-04-30 11:04:08 -0400
nebbiolo1Linux (Ubuntu 22.04.3 LTS) / x86_64  OK    OK    OK  UNNEEDED, same version is already published
lconwaymacOS 12.7.1 Monterey / x86_64  OK    OK    OK    OK  UNNEEDED, same version is already published
kjohnson3macOS 13.6.5 Ventura / arm64see weekly results here
Package 150/555HostnameOS / ArchINSTALLBUILDCHECKBUILD BIN
doubletrouble 1.4.0  (landing page)
Fabrício Almeida-Silva
git_last_commit: 365426b
git_last_commit_date: 2024-04-30 11:46:09 -0400
nebbiolo1Linux (Ubuntu 22.04.3 LTS) / x86_64  OK    OK    OK  UNNEEDED, same version is already published
lconwaymacOS 12.7.1 Monterey / x86_64  OK    OK    OK    OK  UNNEEDED, same version is already published
kjohnson3macOS 13.6.5 Ventura / arm64see weekly results here
Package 151/555HostnameOS / ArchINSTALLBUILDCHECKBUILD BIN
DRIMSeq 1.32.0  (landing page)
Malgorzata Nowicka
git_last_commit: 6fa442a
git_last_commit_date: 2024-04-30 10:49:23 -0400
nebbiolo1Linux (Ubuntu 22.04.3 LTS) / x86_64  OK    ERROR  skipped
lconwaymacOS 12.7.1 Monterey / x86_64  OK    ERROR  skippedskipped
kjohnson3macOS 13.6.5 Ventura / arm64see weekly results here
Package 152/555HostnameOS / ArchINSTALLBUILDCHECKBUILD BIN
DropletUtils 1.24.0  (landing page)
Jonathan Griffiths
git_last_commit: b6ab9f0
git_last_commit_date: 2024-04-30 11:03:17 -0400
nebbiolo1Linux (Ubuntu 22.04.3 LTS) / x86_64  OK    OK    WARNINGS  UNNEEDED, same version is already published
lconwaymacOS 12.7.1 Monterey / x86_64  OK    OK    WARNINGS    OK  UNNEEDED, same version is already published
kjohnson3macOS 13.6.5 Ventura / arm64see weekly results here
Package 153/555HostnameOS / ArchINSTALLBUILDCHECKBUILD BIN
easylift 1.2.0  (landing page)
Abdullah Al Nahid
git_last_commit: c54d78d
git_last_commit_date: 2024-04-30 11:51:24 -0400
nebbiolo1Linux (Ubuntu 22.04.3 LTS) / x86_64  OK    OK    OK  UNNEEDED, same version is already published
lconwaymacOS 12.7.1 Monterey / x86_64  OK    OK    OK    OK  UNNEEDED, same version is already published
kjohnson3macOS 13.6.5 Ventura / arm64see weekly results here
Package 154/555HostnameOS / ArchINSTALLBUILDCHECKBUILD BIN
easyRNASeq 2.40.0  (landing page)
Nicolas Delhomme
git_last_commit: 3956fcf
git_last_commit_date: 2024-04-30 10:26:40 -0400
nebbiolo1Linux (Ubuntu 22.04.3 LTS) / x86_64  ERROR    ERROR  skipped
lconwaymacOS 12.7.1 Monterey / x86_64  ERROR    ERROR  skippedskipped
kjohnson3macOS 13.6.5 Ventura / arm64see weekly results here
Package 155/555HostnameOS / ArchINSTALLBUILDCHECKBUILD BIN
EDASeq 2.38.0  (landing page)
Davide Risso
git_last_commit: aab2daa
git_last_commit_date: 2024-04-30 10:25:33 -0400
nebbiolo1Linux (Ubuntu 22.04.3 LTS) / x86_64  OK    OK    OK  UNNEEDED, same version is already published
lconwaymacOS 12.7.1 Monterey / x86_64  OK    OK    OK    OK  UNNEEDED, same version is already published
kjohnson3macOS 13.6.5 Ventura / arm64see weekly results here
Package 156/555HostnameOS / ArchINSTALLBUILDCHECKBUILD BIN
EDIRquery 1.4.0  (landing page)
Laura D.T. Vo Ngoc
git_last_commit: 466dc4e
git_last_commit_date: 2024-04-30 11:48:47 -0400
nebbiolo1Linux (Ubuntu 22.04.3 LTS) / x86_64  OK    OK    OK  UNNEEDED, same version is already published
lconwaymacOS 12.7.1 Monterey / x86_64  OK    OK    OK    OK  UNNEEDED, same version is already published
kjohnson3macOS 13.6.5 Ventura / arm64see weekly results here
Package 157/555HostnameOS / ArchINSTALLBUILDCHECKBUILD BIN
eisaR 1.16.0  (landing page)
Michael Stadler
git_last_commit: 89f72dc
git_last_commit_date: 2024-04-30 11:21:44 -0400
nebbiolo1Linux (Ubuntu 22.04.3 LTS) / x86_64  OK    OK    OK  UNNEEDED, same version is already published
lconwaymacOS 12.7.1 Monterey / x86_64  OK    OK    OK    OK  UNNEEDED, same version is already published
kjohnson3macOS 13.6.5 Ventura / arm64see weekly results here
Package 158/555HostnameOS / ArchINSTALLBUILDCHECKBUILD BIN
ELMER 2.28.0  (landing page)
Tiago Chedraoui Silva
git_last_commit: dd7f626
git_last_commit_date: 2024-04-30 10:44:07 -0400
nebbiolo1Linux (Ubuntu 22.04.3 LTS) / x86_64  OK    OK    OK  UNNEEDED, same version is already published
lconwaymacOS 12.7.1 Monterey / x86_64  OK    OK    OK    OK  UNNEEDED, same version is already published
kjohnson3macOS 13.6.5 Ventura / arm64see weekly results here
Package 159/555HostnameOS / ArchINSTALLBUILDCHECKBUILD BIN
enhancerHomologSearch 1.10.0  (landing page)
Jianhong Ou
git_last_commit: 57a51a2
git_last_commit_date: 2024-04-30 11:36:27 -0400
nebbiolo1Linux (Ubuntu 22.04.3 LTS) / x86_64  OK    OK    OK  UNNEEDED, same version is already published
lconwaymacOS 12.7.1 Monterey / x86_64  OK    OK    OK    OK  UNNEEDED, same version is already published
kjohnson3macOS 13.6.5 Ventura / arm64see weekly results here
Package 160/555HostnameOS / ArchINSTALLBUILDCHECKBUILD BIN
EnrichedHeatmap 1.34.0  (landing page)
Zuguang Gu
git_last_commit: 49f333e
git_last_commit_date: 2024-04-30 10:45:52 -0400
nebbiolo1Linux (Ubuntu 22.04.3 LTS) / x86_64  OK    OK    OK  UNNEEDED, same version is already published
lconwaymacOS 12.7.1 Monterey / x86_64  OK    OK    OK    OK  UNNEEDED, same version is already published
kjohnson3macOS 13.6.5 Ventura / arm64see weekly results here
Package 161/555HostnameOS / ArchINSTALLBUILDCHECKBUILD BIN
enrichTF 1.20.0  (landing page)
Zheng Wei
git_last_commit: 651a042
git_last_commit_date: 2024-04-30 11:14:37 -0400
nebbiolo1Linux (Ubuntu 22.04.3 LTS) / x86_64  OK    OK    ERROR  
lconwaymacOS 12.7.1 Monterey / x86_64  OK    OK    OK    OK  UNNEEDED, same version is already published
kjohnson3macOS 13.6.5 Ventura / arm64see weekly results here
Package 162/555HostnameOS / ArchINSTALLBUILDCHECKBUILD BIN
ensembldb 2.28.0  (landing page)
Johannes Rainer
git_last_commit: b5cbbd5
git_last_commit_date: 2024-04-30 10:42:33 -0400
nebbiolo1Linux (Ubuntu 22.04.3 LTS) / x86_64  OK    OK    OK  UNNEEDED, same version is already published
lconwaymacOS 12.7.1 Monterey / x86_64  OK    OK    OK    OK  UNNEEDED, same version is already published
kjohnson3macOS 13.6.5 Ventura / arm64see weekly results here
Package 163/555HostnameOS / ArchINSTALLBUILDCHECKBUILD BIN
ensemblVEP 1.46.0  (landing page)
Bioconductor Package Maintainer
git_last_commit: 8bc30f8
git_last_commit_date: 2024-04-30 10:29:55 -0400
nebbiolo1Linux (Ubuntu 22.04.3 LTS) / x86_64  OK    ERROR  skipped
lconwaymacOS 12.7.1 Monterey / x86_64  OK    ERROR  skippedskipped
kjohnson3macOS 13.6.5 Ventura / arm64see weekly results here
Package 164/555HostnameOS / ArchINSTALLBUILDCHECKBUILD BIN
epialleleR 1.12.0  (landing page)
Oleksii Nikolaienko
git_last_commit: 69b8e8f
git_last_commit_date: 2024-04-30 11:34:28 -0400
nebbiolo1Linux (Ubuntu 22.04.3 LTS) / x86_64  OK    OK    OK  UNNEEDED, same version is already published
lconwaymacOS 12.7.1 Monterey / x86_64  OK    OK    OK    OK  UNNEEDED, same version is already published
kjohnson3macOS 13.6.5 Ventura / arm64see weekly results here
Package 165/555HostnameOS / ArchINSTALLBUILDCHECKBUILD BIN
EpiCompare 1.8.0  (landing page)
Thomas Roberts
git_last_commit: e80fa05
git_last_commit_date: 2024-04-30 11:42:35 -0400
nebbiolo1Linux (Ubuntu 22.04.3 LTS) / x86_64  OK    OK    OK  NO, package depends on 'BRGenomics' which is not available
lconwaymacOS 12.7.1 Monterey / x86_64  OK    OK    OK    OK  NO, package depends on 'BRGenomics' which is not available
kjohnson3macOS 13.6.5 Ventura / arm64see weekly results here
Package 166/555HostnameOS / ArchINSTALLBUILDCHECKBUILD BIN
epidecodeR 1.12.0  (landing page)
Kandarp Joshi
git_last_commit: 93f723f
git_last_commit_date: 2024-04-30 11:32:56 -0400
nebbiolo1Linux (Ubuntu 22.04.3 LTS) / x86_64  OK    OK    OK  UNNEEDED, same version is already published
lconwaymacOS 12.7.1 Monterey / x86_64  OK    OK    OK    OK  UNNEEDED, same version is already published
kjohnson3macOS 13.6.5 Ventura / arm64see weekly results here
Package 167/555HostnameOS / ArchINSTALLBUILDCHECKBUILD BIN
epigenomix 1.44.0  (landing page)
Hans-Ulrich Klein
git_last_commit: cf0c49a
git_last_commit_date: 2024-04-30 10:30:52 -0400
nebbiolo1Linux (Ubuntu 22.04.3 LTS) / x86_64  OK    OK    OK  UNNEEDED, same version is already published
lconwaymacOS 12.7.1 Monterey / x86_64  OK    OK    OK    OK  UNNEEDED, same version is already published
kjohnson3macOS 13.6.5 Ventura / arm64see weekly results here
Package 168/555HostnameOS / ArchINSTALLBUILDCHECKBUILD BIN
epigraHMM 1.12.0  (landing page)
Pedro Baldoni
git_last_commit: 9185c46
git_last_commit_date: 2024-04-30 11:34:53 -0400
nebbiolo1Linux (Ubuntu 22.04.3 LTS) / x86_64  OK    OK    WARNINGS  UNNEEDED, same version is already published
lconwaymacOS 12.7.1 Monterey / x86_64  OK    OK    WARNINGS    OK  UNNEEDED, same version is already published
kjohnson3macOS 13.6.5 Ventura / arm64see weekly results here
Package 169/555HostnameOS / ArchINSTALLBUILDCHECKBUILD BIN
EpiMix 1.6.1  (landing page)
Yuanning Zheng
git_last_commit: 0e85cbb
git_last_commit_date: 2024-05-01 12:48:30 -0400
nebbiolo1Linux (Ubuntu 22.04.3 LTS) / x86_64  OK    OK    OK  UNNEEDED, same version is already published
lconwaymacOS 12.7.1 Monterey / x86_64  OK    OK    OK    OK  UNNEEDED, same version is already published
kjohnson3macOS 13.6.5 Ventura / arm64see weekly results here
Package 170/555HostnameOS / ArchINSTALLBUILDCHECKBUILD BIN
epimutacions 1.8.0  (landing page)
Dolors Pelegri-Siso
git_last_commit: 26ee4ca
git_last_commit_date: 2024-04-30 11:41:56 -0400
nebbiolo1Linux (Ubuntu 22.04.3 LTS) / x86_64  OK    OK    OK  UNNEEDED, same version is already published
lconwaymacOS 12.7.1 Monterey / x86_64  OK    OK    OK    OK  UNNEEDED, same version is already published
kjohnson3macOS 13.6.5 Ventura / arm64see weekly results here
Package 171/555HostnameOS / ArchINSTALLBUILDCHECKBUILD BIN
epiregulon 1.0.0  (landing page)
Xiaosai Yao
git_last_commit: ebf147a
git_last_commit_date: 2024-04-30 11:56:35 -0400
nebbiolo1Linux (Ubuntu 22.04.3 LTS) / x86_64  OK    OK    OK  UNNEEDED, same version is already published
lconwaymacOS 12.7.1 Monterey / x86_64  OK    OK    OK    OK  UNNEEDED, same version is already published
kjohnson3macOS 13.6.5 Ventura / arm64see weekly results here
Package 172/555HostnameOS / ArchINSTALLBUILDCHECKBUILD BIN
epistack 1.10.0  (landing page)
DEVAILLY Guillaume
git_last_commit: 010beff
git_last_commit_date: 2024-04-30 11:38:14 -0400
nebbiolo1Linux (Ubuntu 22.04.3 LTS) / x86_64  OK    OK    OK  UNNEEDED, same version is already published
lconwaymacOS 12.7.1 Monterey / x86_64  OK    OK    OK    OK  UNNEEDED, same version is already published
kjohnson3macOS 13.6.5 Ventura / arm64see weekly results here
Package 173/555HostnameOS / ArchINSTALLBUILDCHECKBUILD BIN
EpiTxDb 1.16.0  (landing page)
Felix G.M. Ernst
git_last_commit: c33475a
git_last_commit_date: 2024-04-30 11:21:48 -0400
nebbiolo1Linux (Ubuntu 22.04.3 LTS) / x86_64  OK    OK    WARNINGS  UNNEEDED, same version is already published
lconwaymacOS 12.7.1 Monterey / x86_64  OK    OK    WARNINGS    OK  UNNEEDED, same version is already published
kjohnson3macOS 13.6.5 Ventura / arm64see weekly results here
Package 174/555HostnameOS / ArchINSTALLBUILDCHECKBUILD BIN
epivizr 2.34.0  (landing page)
Hector Corrada Bravo
git_last_commit: 8f9dcbf
git_last_commit_date: 2024-04-30 10:33:50 -0400
nebbiolo1Linux (Ubuntu 22.04.3 LTS) / x86_64  OK    OK    OK  UNNEEDED, same version is already published
lconwaymacOS 12.7.1 Monterey / x86_64  OK    OK    OK    OK  UNNEEDED, same version is already published
kjohnson3macOS 13.6.5 Ventura / arm64see weekly results here
Package 175/555HostnameOS / ArchINSTALLBUILDCHECKBUILD BIN
epivizrData 1.32.0  (landing page)
Hector Corrada Bravo
git_last_commit: e66e63d
git_last_commit_date: 2024-04-30 10:50:49 -0400
nebbiolo1Linux (Ubuntu 22.04.3 LTS) / x86_64  OK    OK    OK  UNNEEDED, same version is already published
lconwaymacOS 12.7.1 Monterey / x86_64  OK    OK    OK    OK  UNNEEDED, same version is already published
kjohnson3macOS 13.6.5 Ventura / arm64see weekly results here
Package 176/555HostnameOS / ArchINSTALLBUILDCHECKBUILD BIN
erma 1.20.0  (landing page)
VJ Carey
git_last_commit: acb7b03
git_last_commit_date: 2024-04-30 10:44:19 -0400
nebbiolo1Linux (Ubuntu 22.04.3 LTS) / x86_64  OK    OK    OK  UNNEEDED, same version is already published
lconwaymacOS 12.7.1 Monterey / x86_64  OK    OK    OK    OK  UNNEEDED, same version is already published
kjohnson3macOS 13.6.5 Ventura / arm64see weekly results here
Package 177/555HostnameOS / ArchINSTALLBUILDCHECKBUILD BIN
esATAC 1.26.0  (landing page)
Zheng Wei
git_last_commit: 222623c
git_last_commit_date: 2024-04-30 11:02:36 -0400
nebbiolo1Linux (Ubuntu 22.04.3 LTS) / x86_64  OK    OK    OK  UNNEEDED, same version is already published
lconwaymacOS 12.7.1 Monterey / x86_64  OK    OK    OK    OK  UNNEEDED, same version is already published
kjohnson3macOS 13.6.5 Ventura / arm64see weekly results here
Package 178/555HostnameOS / ArchINSTALLBUILDCHECKBUILD BIN
EventPointer 3.12.0  (landing page)
Juan A. Ferrer-Bonsoms
git_last_commit: 93a9ebf
git_last_commit_date: 2024-04-30 10:56:34 -0400
nebbiolo1Linux (Ubuntu 22.04.3 LTS) / x86_64  OK    OK    OK  UNNEEDED, same version is already published
lconwaymacOS 12.7.1 Monterey / x86_64  OK    OK    OK    OK  UNNEEDED, same version is already published
kjohnson3macOS 13.6.5 Ventura / arm64see weekly results here
Package 179/555HostnameOS / ArchINSTALLBUILDCHECKBUILD BIN
ExCluster 1.22.0  (landing page)
R. Matthew Tanner
git_last_commit: de9fc3b
git_last_commit_date: 2024-04-30 11:09:32 -0400
nebbiolo1Linux (Ubuntu 22.04.3 LTS) / x86_64  OK    OK    OK  UNNEEDED, same version is already published
lconwaymacOS 12.7.1 Monterey / x86_64  OK    OK    OK    OK  UNNEEDED, same version is already published
kjohnson3macOS 13.6.5 Ventura / arm64see weekly results here
Package 180/555HostnameOS / ArchINSTALLBUILDCHECKBUILD BIN
exomePeak2 1.16.0  (landing page)
Zhen Wei
git_last_commit: dac530f
git_last_commit_date: 2024-04-30 11:21:17 -0400
nebbiolo1Linux (Ubuntu 22.04.3 LTS) / x86_64  OK    OK    ERROR  
lconwaymacOS 12.7.1 Monterey / x86_64  OK    OK    OK    OK  UNNEEDED, same version is already published
kjohnson3macOS 13.6.5 Ventura / arm64see weekly results here
Package 181/555HostnameOS / ArchINSTALLBUILDCHECKBUILD BIN
extraChIPs 1.8.1  (landing page)
Stevie Pederson
git_last_commit: 8147515
git_last_commit_date: 2024-05-04 09:14:23 -0400
nebbiolo1Linux (Ubuntu 22.04.3 LTS) / x86_64  OK    OK    OK  UNNEEDED, same version is already published
lconwaymacOS 12.7.1 Monterey / x86_64  OK    OK    OK    OK  UNNEEDED, same version is already published
kjohnson3macOS 13.6.5 Ventura / arm64see weekly results here
Package 182/555HostnameOS / ArchINSTALLBUILDCHECKBUILD BIN
factR 1.6.0  (landing page)
Fursham Hamid
git_last_commit: f704331
git_last_commit_date: 2024-04-30 11:43:20 -0400
nebbiolo1Linux (Ubuntu 22.04.3 LTS) / x86_64  OK    OK    OK  UNNEEDED, same version is already published
lconwaymacOS 12.7.1 Monterey / x86_64  OK    OK    OK    OK  UNNEEDED, same version is already published
kjohnson3macOS 13.6.5 Ventura / arm64see weekly results here
Package 183/555HostnameOS / ArchINSTALLBUILDCHECKBUILD BIN
fastseg 1.50.0  (landing page)
Alexander Blume
git_last_commit: 654144d
git_last_commit_date: 2024-04-30 10:26:22 -0400
nebbiolo1Linux (Ubuntu 22.04.3 LTS) / x86_64  OK    OK    OK  UNNEEDED, same version is already published
lconwaymacOS 12.7.1 Monterey / x86_64  OK    OK    OK    OK  UNNEEDED, same version is already published
kjohnson3macOS 13.6.5 Ventura / arm64see weekly results here
Package 184/555HostnameOS / ArchINSTALLBUILDCHECKBUILD BIN
fCCAC 1.30.0  (landing page)
Pedro Madrigal
git_last_commit: 8569981
git_last_commit_date: 2024-04-30 10:55:01 -0400
nebbiolo1Linux (Ubuntu 22.04.3 LTS) / x86_64  OK    OK    OK  UNNEEDED, same version is already published
lconwaymacOS 12.7.1 Monterey / x86_64  OK    OK    OK    OK  UNNEEDED, same version is already published
kjohnson3macOS 13.6.5 Ventura / arm64see weekly results here
Package 185/555HostnameOS / ArchINSTALLBUILDCHECKBUILD BIN
fcScan 1.18.0  (landing page)
Pierre Khoueiry Abdullah El-Kurdi
git_last_commit: 6179d26
git_last_commit_date: 2024-04-30 11:16:27 -0400
nebbiolo1Linux (Ubuntu 22.04.3 LTS) / x86_64  OK    OK    OK  UNNEEDED, same version is already published
lconwaymacOS 12.7.1 Monterey / x86_64  OK    OK    OK    OK  UNNEEDED, same version is already published
kjohnson3macOS 13.6.5 Ventura / arm64see weekly results here
Package 186/555HostnameOS / ArchINSTALLBUILDCHECKBUILD BIN
FilterFFPE 1.14.0  (landing page)
Lanying Wei
git_last_commit: 5ba1576
git_last_commit_date: 2024-04-30 11:27:02 -0400
nebbiolo1Linux (Ubuntu 22.04.3 LTS) / x86_64  OK    OK    OK  UNNEEDED, same version is already published
lconwaymacOS 12.7.1 Monterey / x86_64  OK    OK    OK    OK  UNNEEDED, same version is already published
kjohnson3macOS 13.6.5 Ventura / arm64see weekly results here
Package 187/555HostnameOS / ArchINSTALLBUILDCHECKBUILD BIN
FindIT2 1.10.0  (landing page)
Guandong Shang
git_last_commit: ca624b0
git_last_commit_date: 2024-04-30 11:35:36 -0400
nebbiolo1Linux (Ubuntu 22.04.3 LTS) / x86_64  OK    OK    OK  UNNEEDED, same version is already published
lconwaymacOS 12.7.1 Monterey / x86_64  OK    OK    OK    OK  UNNEEDED, same version is already published
kjohnson3macOS 13.6.5 Ventura / arm64see weekly results here
Package 188/555HostnameOS / ArchINSTALLBUILDCHECKBUILD BIN
fishpond 2.10.0  (landing page)
Michael Love
git_last_commit: fbf9a95
git_last_commit_date: 2024-04-30 11:12:37 -0400
nebbiolo1Linux (Ubuntu 22.04.3 LTS) / x86_64  OK    OK    OK  UNNEEDED, same version is already published
lconwaymacOS 12.7.1 Monterey / x86_64  OK    OK    OK    OK  UNNEEDED, same version is already published
kjohnson3macOS 13.6.5 Ventura / arm64see weekly results here
Package 189/555HostnameOS / ArchINSTALLBUILDCHECKBUILD BIN
FLAMES 1.10.0  (landing page)
Changqing Wang
git_last_commit: bd149f9
git_last_commit_date: 2024-04-30 11:35:54 -0400
nebbiolo1Linux (Ubuntu 22.04.3 LTS) / x86_64  OK    OK    OK  UNNEEDED, same version is already published
lconwaymacOS 12.7.1 Monterey / x86_64  OK    OK    OK    OK  UNNEEDED, same version is already published
kjohnson3macOS 13.6.5 Ventura / arm64see weekly results here
Package 190/555HostnameOS / ArchINSTALLBUILDCHECKBUILD BIN
FRASER 2.0.0  (landing page)
Christian Mertes
git_last_commit: 43578dd
git_last_commit_date: 2024-04-30 11:23:25 -0400
nebbiolo1Linux (Ubuntu 22.04.3 LTS) / x86_64  OK    ERROR  skipped
lconwaymacOS 12.7.1 Monterey / x86_64  OK    ERROR  skippedskipped
kjohnson3macOS 13.6.5 Ventura / arm64see weekly results here
Package 191/555HostnameOS / ArchINSTALLBUILDCHECKBUILD BIN
FunChIP 1.30.0  (landing page)
Alice Parodi
git_last_commit: 64da7f6
git_last_commit_date: 2024-04-30 10:51:26 -0400
nebbiolo1Linux (Ubuntu 22.04.3 LTS) / x86_64  OK    OK    ERROR  
lconwaymacOS 12.7.1 Monterey / x86_64  OK    OK    OK    OK  UNNEEDED, same version is already published
kjohnson3macOS 13.6.5 Ventura / arm64see weekly results here
Package 192/555HostnameOS / ArchINSTALLBUILDCHECKBUILD BIN
GA4GHclient 1.28.0  (landing page)
Welliton Souza
git_last_commit: 22c1fc9
git_last_commit_date: 2024-04-30 10:57:07 -0400
nebbiolo1Linux (Ubuntu 22.04.3 LTS) / x86_64  OK    OK    OK  UNNEEDED, same version is already published
lconwaymacOS 12.7.1 Monterey / x86_64  OK    OK    OK    OK  UNNEEDED, same version is already published
kjohnson3macOS 13.6.5 Ventura / arm64see weekly results here
Package 193/555HostnameOS / ArchINSTALLBUILDCHECKBUILD BIN
gcapc 1.28.0  (landing page)
Mingxiang Teng
git_last_commit: 2d6626a
git_last_commit_date: 2024-04-30 10:55:21 -0400
nebbiolo1Linux (Ubuntu 22.04.3 LTS) / x86_64  OK    OK    OK  UNNEEDED, same version is already published
lconwaymacOS 12.7.1 Monterey / x86_64  OK    OK    OK    OK  UNNEEDED, same version is already published
kjohnson3macOS 13.6.5 Ventura / arm64see weekly results here
Package 194/555HostnameOS / ArchINSTALLBUILDCHECKBUILD BIN
gDNAx 1.2.0  (landing page)
Robert Castelo
git_last_commit: c4c8d12
git_last_commit_date: 2024-04-30 11:51:12 -0400
nebbiolo1Linux (Ubuntu 22.04.3 LTS) / x86_64  OK    OK    OK  UNNEEDED, same version is already published
lconwaymacOS 12.7.1 Monterey / x86_64  OK    OK    OK    OK  UNNEEDED, same version is already published
kjohnson3macOS 13.6.5 Ventura / arm64see weekly results here
Package 195/555HostnameOS / ArchINSTALLBUILDCHECKBUILD BIN
geneAttribution 1.30.0  (landing page)
Arthur Wuster
git_last_commit: 48e6117
git_last_commit_date: 2024-04-30 10:53:20 -0400
nebbiolo1Linux (Ubuntu 22.04.3 LTS) / x86_64  OK    OK    OK  UNNEEDED, same version is already published
lconwaymacOS 12.7.1 Monterey / x86_64  OK    OK    OK    OK  UNNEEDED, same version is already published
kjohnson3macOS 13.6.5 Ventura / arm64see weekly results here
Package 196/555HostnameOS / ArchINSTALLBUILDCHECKBUILD BIN
GeneBreak 1.34.0  (landing page)
Evert van den Broek
git_last_commit: 61c5d6e
git_last_commit_date: 2024-04-30 10:46:19 -0400
nebbiolo1Linux (Ubuntu 22.04.3 LTS) / x86_64  OK    OK    OK  UNNEEDED, same version is already published
lconwaymacOS 12.7.1 Monterey / x86_64  OK    OK    OK    OK  UNNEEDED, same version is already published
kjohnson3macOS 13.6.5 Ventura / arm64see weekly results here
Package 197/555HostnameOS / ArchINSTALLBUILDCHECKBUILD BIN
GeneGeneInteR 1.30.0  (landing page)
Mathieu Emily
git_last_commit: f3a5d84
git_last_commit_date: 2024-04-30 10:52:33 -0400
nebbiolo1Linux (Ubuntu 22.04.3 LTS) / x86_64  OK    OK    OK  UNNEEDED, same version is already published
lconwaymacOS 12.7.1 Monterey / x86_64  OK    OK    OK    OK  UNNEEDED, same version is already published
kjohnson3macOS 13.6.5 Ventura / arm64see weekly results here
Package 198/555HostnameOS / ArchINSTALLBUILDCHECKBUILD BIN
geneRxCluster 1.40.0  (landing page)
Charles Berry
git_last_commit: 8700973
git_last_commit_date: 2024-04-30 10:34:42 -0400
nebbiolo1Linux (Ubuntu 22.04.3 LTS) / x86_64  OK    OK    OK  UNNEEDED, same version is already published
lconwaymacOS 12.7.1 Monterey / x86_64  OK    OK    OK    OK  UNNEEDED, same version is already published
kjohnson3macOS 13.6.5 Ventura / arm64see weekly results here
Package 199/555HostnameOS / ArchINSTALLBUILDCHECKBUILD BIN
GENESIS 2.34.0  (landing page)
Stephanie M. Gogarten
git_last_commit: dcbee2c
git_last_commit_date: 2024-04-30 10:42:24 -0400
nebbiolo1Linux (Ubuntu 22.04.3 LTS) / x86_64  OK    OK    OK  UNNEEDED, same version is already published
lconwaymacOS 12.7.1 Monterey / x86_64  OK    OK    OK    OK  UNNEEDED, same version is already published
kjohnson3macOS 13.6.5 Ventura / arm64see weekly results here
Package 200/555HostnameOS / ArchINSTALLBUILDCHECKBUILD BIN
GeneStructureTools 1.24.0  (landing page)
Beth Signal
git_last_commit: a5cf135
git_last_commit_date: 2024-04-30 11:04:32 -0400
nebbiolo1Linux (Ubuntu 22.04.3 LTS) / x86_64  OK    OK    OK  UNNEEDED, same version is already published
lconwaymacOS 12.7.1 Monterey / x86_64  OK    OK    OK    OK  UNNEEDED, same version is already published
kjohnson3macOS 13.6.5 Ventura / arm64see weekly results here
Package 201/555HostnameOS / ArchINSTALLBUILDCHECKBUILD BIN
genomation 1.36.0  (landing page)
Altuna Akalin , Vedran Franke
git_last_commit: 8a85f98
git_last_commit_date: 2024-04-30 10:40:43 -0400
nebbiolo1Linux (Ubuntu 22.04.3 LTS) / x86_64  OK    OK    WARNINGS  UNNEEDED, same version is already published
lconwaymacOS 12.7.1 Monterey / x86_64  OK    OK    WARNINGS    OK  UNNEEDED, same version is already published
kjohnson3macOS 13.6.5 Ventura / arm64see weekly results here
Package 202/555HostnameOS / ArchINSTALLBUILDCHECKBUILD BIN
GenomAutomorphism 1.6.0  (landing page)
Robersy Sanchez
git_last_commit: 22d7b7a
git_last_commit_date: 2024-04-30 11:43:53 -0400
nebbiolo1Linux (Ubuntu 22.04.3 LTS) / x86_64  OK    OK    WARNINGS  UNNEEDED, same version is already published
lconwaymacOS 12.7.1 Monterey / x86_64  OK    OK    WARNINGS    OK  UNNEEDED, same version is already published
kjohnson3macOS 13.6.5 Ventura / arm64see weekly results here
Package 203/555HostnameOS / ArchINSTALLBUILDCHECKBUILD BIN
genomeIntervals 1.60.0  (landing page)
Julien Gagneur
git_last_commit: 010f263
git_last_commit_date: 2024-04-30 10:19:37 -0400
nebbiolo1Linux (Ubuntu 22.04.3 LTS) / x86_64  OK    OK    WARNINGS  UNNEEDED, same version is already published
lconwaymacOS 12.7.1 Monterey / x86_64  OK    OK    WARNINGS    OK  UNNEEDED, same version is already published
kjohnson3macOS 13.6.5 Ventura / arm64see weekly results here
Package 204/555HostnameOS / ArchINSTALLBUILDCHECKBUILD BIN
GenomicAlignments 1.40.0  (landing page)
Hervé Pagès
git_last_commit: 4dbd745
git_last_commit_date: 2024-04-30 14:27:58 -0400
nebbiolo1Linux (Ubuntu 22.04.3 LTS) / x86_64  OK    OK    OK  UNNEEDED, same version is already published
lconwaymacOS 12.7.1 Monterey / x86_64  OK    OK    OK    OK  UNNEEDED, same version is already published
kjohnson3macOS 13.6.5 Ventura / arm64see weekly results here
Package 205/555HostnameOS / ArchINSTALLBUILDCHECKBUILD BIN
GenomicDataCommons 1.28.0  (landing page)
Sean Davis
git_last_commit: e386607
git_last_commit_date: 2024-04-30 10:57:23 -0400
nebbiolo1Linux (Ubuntu 22.04.3 LTS) / x86_64  OK    OK    OK  UNNEEDED, same version is already published
lconwaymacOS 12.7.1 Monterey / x86_64  OK    OK    OK    OK  UNNEEDED, same version is already published
kjohnson3macOS 13.6.5 Ventura / arm64see weekly results here
Package 206/555HostnameOS / ArchINSTALLBUILDCHECKBUILD BIN
GenomicDistributions 1.12.0  (landing page)
Kristyna Kupkova
git_last_commit: 05ffed2
git_last_commit_date: 2024-04-30 11:30:16 -0400
nebbiolo1Linux (Ubuntu 22.04.3 LTS) / x86_64  OK    OK    OK  UNNEEDED, same version is already published
lconwaymacOS 12.7.1 Monterey / x86_64  OK    OK    OK    OK  UNNEEDED, same version is already published
kjohnson3macOS 13.6.5 Ventura / arm64see weekly results here
Package 207/555HostnameOS / ArchINSTALLBUILDCHECKBUILD BIN
GenomicFeatures 1.56.0  (landing page)
H. Pagès
git_last_commit: e3c5136
git_last_commit_date: 2024-04-30 13:30:42 -0400
nebbiolo1Linux (Ubuntu 22.04.3 LTS) / x86_64  OK    OK    OK  UNNEEDED, same version is already published
lconwaymacOS 12.7.1 Monterey / x86_64  OK    OK    OK    OK  UNNEEDED, same version is already published
kjohnson3macOS 13.6.5 Ventura / arm64see weekly results here
Package 208/555HostnameOS / ArchINSTALLBUILDCHECKBUILD BIN
GenomicFiles 1.40.0  (landing page)
Bioconductor Package Maintainer
git_last_commit: 9799abf
git_last_commit_date: 2024-04-30 10:36:19 -0400
nebbiolo1Linux (Ubuntu 22.04.3 LTS) / x86_64  OK    OK    WARNINGS  UNNEEDED, same version is already published
lconwaymacOS 12.7.1 Monterey / x86_64  OK    OK    WARNINGS    OK  UNNEEDED, same version is already published
kjohnson3macOS 13.6.5 Ventura / arm64see weekly results here
Package 209/555HostnameOS / ArchINSTALLBUILDCHECKBUILD BIN
GenomicInteractionNodes 1.8.0  (landing page)
Jianhong Ou
git_last_commit: 33618c1
git_last_commit_date: 2024-04-30 11:41:59 -0400
nebbiolo1Linux (Ubuntu 22.04.3 LTS) / x86_64  OK    OK    OK  UNNEEDED, same version is already published
lconwaymacOS 12.7.1 Monterey / x86_64  OK    OK    OK    OK  UNNEEDED, same version is already published
kjohnson3macOS 13.6.5 Ventura / arm64see weekly results here
Package 210/555HostnameOS / ArchINSTALLBUILDCHECKBUILD BIN
GenomicInteractions 1.38.0  (landing page)
Liz Ing-Simmons
git_last_commit: 4002e48
git_last_commit_date: 2024-04-30 10:39:03 -0400
nebbiolo1Linux (Ubuntu 22.04.3 LTS) / x86_64  OK    OK    OK  UNNEEDED, same version is already published
lconwaymacOS 12.7.1 Monterey / x86_64  OK    OK    OK    OK  UNNEEDED, same version is already published
kjohnson3macOS 13.6.5 Ventura / arm64see weekly results here
Package 211/555HostnameOS / ArchINSTALLBUILDCHECKBUILD BIN
GenomicOZone 1.18.0  (landing page)
Hua Zhong, Mingzhou Song
git_last_commit: f592f0e
git_last_commit_date: 2024-04-30 11:16:30 -0400
nebbiolo1Linux (Ubuntu 22.04.3 LTS) / x86_64  OK    OK    OK  UNNEEDED, same version is already published
lconwaymacOS 12.7.1 Monterey / x86_64  OK    OK    OK    OK  UNNEEDED, same version is already published
kjohnson3macOS 13.6.5 Ventura / arm64see weekly results here
Package 212/555HostnameOS / ArchINSTALLBUILDCHECKBUILD BIN
GenomicPlot 1.2.1  (landing page)
Shuye Pu
git_last_commit: ce9c206
git_last_commit_date: 2024-05-13 13:11:21 -0400
nebbiolo1Linux (Ubuntu 22.04.3 LTS) / x86_64  OK    OK    OK  UNNEEDED, same version is already published
lconwaymacOS 12.7.1 Monterey / x86_64  OK    OK    OK    OK  UNNEEDED, same version is already published
kjohnson3macOS 13.6.5 Ventura / arm64see weekly results here
Package 213/555HostnameOS / ArchINSTALLBUILDCHECKBUILD BIN
GenomicScores 2.16.0  (landing page)
Robert Castelo
git_last_commit: 7e55935
git_last_commit_date: 2024-04-30 10:57:39 -0400
nebbiolo1Linux (Ubuntu 22.04.3 LTS) / x86_64  OK    OK    OK  UNNEEDED, same version is already published
lconwaymacOS 12.7.1 Monterey / x86_64  OK    OK    OK    OK  UNNEEDED, same version is already published
kjohnson3macOS 13.6.5 Ventura / arm64see weekly results here
Package 214/555HostnameOS / ArchINSTALLBUILDCHECKBUILD BIN
GenomicTuples 1.38.0  (landing page)
Peter Hickey
git_last_commit: 54bdd1f
git_last_commit_date: 2024-04-30 10:39:40 -0400
nebbiolo1Linux (Ubuntu 22.04.3 LTS) / x86_64  OK    OK    OK  UNNEEDED, same version is already published
lconwaymacOS 12.7.1 Monterey / x86_64  OK    OK    OK    OK  UNNEEDED, same version is already published
kjohnson3macOS 13.6.5 Ventura / arm64see weekly results here
Package 215/555HostnameOS / ArchINSTALLBUILDCHECKBUILD BIN
GenVisR 1.36.0  (landing page)
Zachary Skidmore
git_last_commit: c0768ff
git_last_commit_date: 2024-04-30 10:47:51 -0400
nebbiolo1Linux (Ubuntu 22.04.3 LTS) / x86_64  OK    OK    OK  UNNEEDED, same version is already published
lconwaymacOS 12.7.1 Monterey / x86_64  OK    OK    OK    OK  UNNEEDED, same version is already published
kjohnson3macOS 13.6.5 Ventura / arm64see weekly results here
Package 216/555HostnameOS / ArchINSTALLBUILDCHECKBUILD BIN
ggbio 1.52.0  (landing page)
Michael Lawrence
git_last_commit: 10b0089
git_last_commit_date: 2024-04-30 10:26:03 -0400
nebbiolo1Linux (Ubuntu 22.04.3 LTS) / x86_64  OK    ERROR  skipped
lconwaymacOS 12.7.1 Monterey / x86_64  OK    ERROR  skippedskipped
kjohnson3macOS 13.6.5 Ventura / arm64see weekly results here
Package 217/555HostnameOS / ArchINSTALLBUILDCHECKBUILD BIN
gINTomics 1.0.0  (landing page)
Angelo Velle
git_last_commit: 6525a11
git_last_commit_date: 2024-04-30 11:56:24 -0400
nebbiolo1Linux (Ubuntu 22.04.3 LTS) / x86_64  OK    OK    OK  UNNEEDED, same version is already published
lconwaymacOS 12.7.1 Monterey / x86_64  OK    OK    OK    OK  UNNEEDED, same version is already published
kjohnson3macOS 13.6.5 Ventura / arm64see weekly results here
Package 218/555HostnameOS / ArchINSTALLBUILDCHECKBUILD BIN
gmapR 1.46.0  (landing page)
Michael Lawrence
git_last_commit: dae0cea
git_last_commit_date: 2024-04-30 10:28:19 -0400
nebbiolo1Linux (Ubuntu 22.04.3 LTS) / x86_64  OK    OK    WARNINGS  UNNEEDED, same version is already published
lconwaymacOS 12.7.1 Monterey / x86_64  OK    OK    WARNINGS    OK  UNNEEDED, same version is already published
kjohnson3macOS 13.6.5 Ventura / arm64see weekly results here
Package 219/555HostnameOS / ArchINSTALLBUILDCHECKBUILD BIN
gmoviz 1.16.0  (landing page)
Kathleen Zeglinski
git_last_commit: dc26406
git_last_commit_date: 2024-04-30 11:22:08 -0400
nebbiolo1Linux (Ubuntu 22.04.3 LTS) / x86_64  OK    OK    OK  UNNEEDED, same version is already published
lconwaymacOS 12.7.1 Monterey / x86_64  OK    OK    OK    OK  UNNEEDED, same version is already published
kjohnson3macOS 13.6.5 Ventura / arm64see weekly results here
Package 220/555HostnameOS / ArchINSTALLBUILDCHECKBUILD BIN
GMRP 1.32.0  (landing page)
Yuan-De Tan
git_last_commit: f16d2bc
git_last_commit_date: 2024-04-30 11:07:22 -0400
nebbiolo1Linux (Ubuntu 22.04.3 LTS) / x86_64  OK    OK    OK  UNNEEDED, same version is already published
lconwaymacOS 12.7.1 Monterey / x86_64  OK    OK    OK    OK  UNNEEDED, same version is already published
kjohnson3macOS 13.6.5 Ventura / arm64see weekly results here
Package 221/555HostnameOS / ArchINSTALLBUILDCHECKBUILD BIN
GOfuncR 1.24.0  (landing page)
Steffi Grote
git_last_commit: 74e3c1a
git_last_commit_date: 2024-04-30 11:02:54 -0400
nebbiolo1Linux (Ubuntu 22.04.3 LTS) / x86_64  OK    OK    OK  UNNEEDED, same version is already published
lconwaymacOS 12.7.1 Monterey / x86_64  OK    OK    OK    OK  UNNEEDED, same version is already published
kjohnson3macOS 13.6.5 Ventura / arm64see weekly results here
Package 222/555HostnameOS / ArchINSTALLBUILDCHECKBUILD BIN
GOTHiC 1.40.0  (landing page)
Borbala Mifsud
git_last_commit: 6818add
git_last_commit_date: 2024-04-30 11:15:45 -0400
nebbiolo1Linux (Ubuntu 22.04.3 LTS) / x86_64  OK    OK    OK  UNNEEDED, same version is already published
lconwaymacOS 12.7.1 Monterey / x86_64  OK    OK    OK    OK  UNNEEDED, same version is already published
kjohnson3macOS 13.6.5 Ventura / arm64see weekly results here
Package 223/555HostnameOS / ArchINSTALLBUILDCHECKBUILD BIN
GrafGen 1.0.0  (landing page)
William Wheeler
git_last_commit: e020855
git_last_commit_date: 2024-04-30 11:55:05 -0400
nebbiolo1Linux (Ubuntu 22.04.3 LTS) / x86_64  OK    OK    OK  UNNEEDED, same version is already published
lconwaymacOS 12.7.1 Monterey / x86_64  OK    OK    OK    OK  UNNEEDED, same version is already published
kjohnson3macOS 13.6.5 Ventura / arm64see weekly results here
Package 224/555HostnameOS / ArchINSTALLBUILDCHECKBUILD BIN
GRaNIE 1.8.0  (landing page)
Christian Arnold
git_last_commit: 47f7e04
git_last_commit_date: 2024-04-30 11:42:38 -0400
nebbiolo1Linux (Ubuntu 22.04.3 LTS) / x86_64  OK    OK    WARNINGS  UNNEEDED, same version is already published
lconwaymacOS 12.7.1 Monterey / x86_64  OK    OK    WARNINGS    OK  UNNEEDED, same version is already published
kjohnson3macOS 13.6.5 Ventura / arm64see weekly results here
Package 225/555HostnameOS / ArchINSTALLBUILDCHECKBUILD BIN
GreyListChIP 1.36.0  (landing page)
Matt Eldridge
git_last_commit: 7d92ffe
git_last_commit_date: 2024-04-30 10:41:29 -0400
nebbiolo1Linux (Ubuntu 22.04.3 LTS) / x86_64  OK    OK    OK  UNNEEDED, same version is already published
lconwaymacOS 12.7.1 Monterey / x86_64  OK    OK    OK    OK  UNNEEDED, same version is already published
kjohnson3macOS 13.6.5 Ventura / arm64see weekly results here
Package 226/555HostnameOS / ArchINSTALLBUILDCHECKBUILD BIN
groHMM 1.38.0  (landing page)
Tulip Nandu , W. Lee Kraus
git_last_commit: bc510e7
git_last_commit_date: 2024-04-30 10:40:02 -0400
nebbiolo1Linux (Ubuntu 22.04.3 LTS) / x86_64  OK    OK    WARNINGS  UNNEEDED, same version is already published
lconwaymacOS 12.7.1 Monterey / x86_64  OK    OK    WARNINGS    OK  UNNEEDED, same version is already published
kjohnson3macOS 13.6.5 Ventura / arm64see weekly results here
Package 227/555HostnameOS / ArchINSTALLBUILDCHECKBUILD BIN
gtrellis 1.36.0  (landing page)
Zuguang Gu
git_last_commit: 2e1bf5f
git_last_commit_date: 2024-04-30 10:42:35 -0400
nebbiolo1Linux (Ubuntu 22.04.3 LTS) / x86_64  OK    OK    OK  UNNEEDED, same version is already published
lconwaymacOS 12.7.1 Monterey / x86_64  OK    OK    OK    OK  UNNEEDED, same version is already published
kjohnson3macOS 13.6.5 Ventura / arm64see weekly results here
Package 228/555HostnameOS / ArchINSTALLBUILDCHECKBUILD BIN
GUIDEseq 1.34.0  (landing page)
Lihua Julie Zhu
git_last_commit: 4560618
git_last_commit_date: 2024-04-30 10:46:17 -0400
nebbiolo1Linux (Ubuntu 22.04.3 LTS) / x86_64  OK    OK    OK  UNNEEDED, same version is already published
lconwaymacOS 12.7.1 Monterey / x86_64  OK    OK    OK    OK  UNNEEDED, same version is already published
kjohnson3macOS 13.6.5 Ventura / arm64see weekly results here
Package 229/555HostnameOS / ArchINSTALLBUILDCHECKBUILD BIN
Guitar 2.20.0  (landing page)
Jia Meng
git_last_commit: 6842fab
git_last_commit_date: 2024-04-30 10:45:55 -0400
nebbiolo1Linux (Ubuntu 22.04.3 LTS) / x86_64  OK    ERROR  skipped
lconwaymacOS 12.7.1 Monterey / x86_64  OK    ERROR  skippedskipped
kjohnson3macOS 13.6.5 Ventura / arm64see weekly results here
Package 230/555HostnameOS / ArchINSTALLBUILDCHECKBUILD BIN
Gviz 1.48.0  (landing page)
Robert Ivanek
git_last_commit: 2be307f
git_last_commit_date: 2024-04-30 10:26:57 -0400
nebbiolo1Linux (Ubuntu 22.04.3 LTS) / x86_64  OK    OK    OK  UNNEEDED, same version is already published
lconwaymacOS 12.7.1 Monterey / x86_64  OK    OK    OK    OK  UNNEEDED, same version is already published
kjohnson3macOS 13.6.5 Ventura / arm64see weekly results here
Package 231/555HostnameOS / ArchINSTALLBUILDCHECKBUILD BIN
gwascat 2.36.0  (landing page)
VJ Carey
git_last_commit: 2127a40
git_last_commit_date: 2024-04-30 10:27:03 -0400
nebbiolo1Linux (Ubuntu 22.04.3 LTS) / x86_64  OK    OK    OK  UNNEEDED, same version is already published
lconwaymacOS 12.7.1 Monterey / x86_64  OK    OK    OK    OK  UNNEEDED, same version is already published
kjohnson3macOS 13.6.5 Ventura / arm64see weekly results here
Package 232/555HostnameOS / ArchINSTALLBUILDCHECKBUILD BIN
h5vc 2.38.0  (landing page)
Paul Theodor Pyl
git_last_commit: 6b770a9
git_last_commit_date: 2024-04-30 10:34:17 -0400
nebbiolo1Linux (Ubuntu 22.04.3 LTS) / x86_64  OK    OK    WARNINGS  UNNEEDED, same version is already published
lconwaymacOS 12.7.1 Monterey / x86_64  OK    OK    WARNINGS    OK  UNNEEDED, same version is already published
kjohnson3macOS 13.6.5 Ventura / arm64see weekly results here
Package 233/555HostnameOS / ArchINSTALLBUILDCHECKBUILD BIN
heatmaps 1.28.0  (landing page)
Malcolm Perry
git_last_commit: a8fcea3
git_last_commit_date: 2024-04-30 10:58:04 -0400
nebbiolo1Linux (Ubuntu 22.04.3 LTS) / x86_64  OK    OK    OK  UNNEEDED, same version is already published
lconwaymacOS 12.7.1 Monterey / x86_64  OK    OK    OK    OK  UNNEEDED, same version is already published
kjohnson3macOS 13.6.5 Ventura / arm64see weekly results here
Package 234/555HostnameOS / ArchINSTALLBUILDCHECKBUILD BIN
HelloRanges 1.30.0  (landing page)
Michael Lawrence
git_last_commit: de2f215
git_last_commit_date: 2024-04-30 10:54:33 -0400
nebbiolo1Linux (Ubuntu 22.04.3 LTS) / x86_64  OK    OK    OK  UNNEEDED, same version is already published
lconwaymacOS 12.7.1 Monterey / x86_64  OK    OK    OK    OK  UNNEEDED, same version is already published
kjohnson3macOS 13.6.5 Ventura / arm64see weekly results here
Package 235/555HostnameOS / ArchINSTALLBUILDCHECKBUILD BIN
hermes 1.8.0  (landing page)
Daniel Sabanés Bové
git_last_commit: ac04ca2
git_last_commit_date: 2024-04-30 11:39:29 -0400
nebbiolo1Linux (Ubuntu 22.04.3 LTS) / x86_64  OK    OK    OK  UNNEEDED, same version is already published
lconwaymacOS 12.7.1 Monterey / x86_64  OK    OK    OK    OK  UNNEEDED, same version is already published
kjohnson3macOS 13.6.5 Ventura / arm64see weekly results here
Package 236/555HostnameOS / ArchINSTALLBUILDCHECKBUILD BIN
HERON 1.2.0  (landing page)
Sean McIlwain
git_last_commit: 47a525a
git_last_commit_date: 2024-04-30 11:50:48 -0400
nebbiolo1Linux (Ubuntu 22.04.3 LTS) / x86_64  OK    OK    OK  UNNEEDED, same version is already published
lconwaymacOS 12.7.1 Monterey / x86_64  OK    OK    OK    OK  UNNEEDED, same version is already published
kjohnson3macOS 13.6.5 Ventura / arm64see weekly results here
Package 237/555HostnameOS / ArchINSTALLBUILDCHECKBUILD BIN
hiAnnotator 1.38.0  (landing page)
Nirav V Malani
git_last_commit: 80df897
git_last_commit_date: 2024-04-30 10:36:38 -0400
nebbiolo1Linux (Ubuntu 22.04.3 LTS) / x86_64  OK    OK    OK  UNNEEDED, same version is already published
lconwaymacOS 12.7.1 Monterey / x86_64  OK    OK    OK    OK  UNNEEDED, same version is already published
kjohnson3macOS 13.6.5 Ventura / arm64see weekly results here
Package 238/555HostnameOS / ArchINSTALLBUILDCHECKBUILD BIN
HicAggR 1.0.2  (landing page)
Olivier Cuvier
git_last_commit: afb7b81
git_last_commit_date: 2024-05-10 14:11:09 -0400
nebbiolo1Linux (Ubuntu 22.04.3 LTS) / x86_64  OK    OK    WARNINGS  UNNEEDED, same version is already published
lconwaymacOS 12.7.1 Monterey / x86_64  OK    OK    WARNINGS    OK  UNNEEDED, same version is already published
kjohnson3macOS 13.6.5 Ventura / arm64see weekly results here
Package 239/555HostnameOS / ArchINSTALLBUILDCHECKBUILD BIN
HiCBricks 1.22.0  (landing page)
Koustav Pal
git_last_commit: dceb449
git_last_commit_date: 2024-04-30 11:10:16 -0400
nebbiolo1Linux (Ubuntu 22.04.3 LTS) / x86_64  OK    OK    OK  UNNEEDED, same version is already published
lconwaymacOS 12.7.1 Monterey / x86_64  OK    OK    OK    OK  UNNEEDED, same version is already published
kjohnson3macOS 13.6.5 Ventura / arm64see weekly results here
Package 240/555HostnameOS / ArchINSTALLBUILDCHECKBUILD BIN
HiCcompare 1.26.0  (landing page)
Mikhail Dozmorov
git_last_commit: bdcadd4
git_last_commit_date: 2024-04-30 10:59:23 -0400
nebbiolo1Linux (Ubuntu 22.04.3 LTS) / x86_64  OK    OK    OK  UNNEEDED, same version is already published
lconwaymacOS 12.7.1 Monterey / x86_64  OK    OK    OK    OK  UNNEEDED, same version is already published
kjohnson3macOS 13.6.5 Ventura / arm64see weekly results here
Package 241/555HostnameOS / ArchINSTALLBUILDCHECKBUILD BIN
HiCDCPlus 1.12.0  (landing page)
Merve Sahin
git_last_commit: 5cb9604
git_last_commit_date: 2024-04-30 11:31:16 -0400
nebbiolo1Linux (Ubuntu 22.04.3 LTS) / x86_64  OK    OK    OK  UNNEEDED, same version is already published
lconwaymacOS 12.7.1 Monterey / x86_64  OK    OK    OK    OK  UNNEEDED, same version is already published
kjohnson3macOS 13.6.5 Ventura / arm64see weekly results here
Package 242/555HostnameOS / ArchINSTALLBUILDCHECKBUILD BIN
HiCDOC 1.6.0  (landing page)
Maigné Élise
git_last_commit: cb7b0bf
git_last_commit_date: 2024-04-30 11:43:34 -0400
nebbiolo1Linux (Ubuntu 22.04.3 LTS) / x86_64  OK    OK    OK  UNNEEDED, same version is already published
lconwaymacOS 12.7.1 Monterey / x86_64  OK    OK    OK    OK  UNNEEDED, same version is already published
kjohnson3macOS 13.6.5 Ventura / arm64see weekly results here
Package 243/555HostnameOS / ArchINSTALLBUILDCHECKBUILD BIN
HiCExperiment 1.4.0  (landing page)
Jacques Serizay
git_last_commit: a9e0dde
git_last_commit_date: 2024-04-30 11:47:11 -0400
nebbiolo1Linux (Ubuntu 22.04.3 LTS) / x86_64  OK    OK    OK  UNNEEDED, same version is already published
lconwaymacOS 12.7.1 Monterey / x86_64  OK    OK    OK    OK  UNNEEDED, same version is already published
kjohnson3macOS 13.6.5 Ventura / arm64see weekly results here
Package 244/555HostnameOS / ArchINSTALLBUILDCHECKBUILD BIN
HiContacts 1.6.0  (landing page)
Jacques Serizay
git_last_commit: d0aea7d
git_last_commit_date: 2024-04-30 11:44:50 -0400
nebbiolo1Linux (Ubuntu 22.04.3 LTS) / x86_64  OK    OK    OK  UNNEEDED, same version is already published
lconwaymacOS 12.7.1 Monterey / x86_64  OK    OK    OK    OK  UNNEEDED, same version is already published
kjohnson3macOS 13.6.5 Ventura / arm64see weekly results here
Package 245/555HostnameOS / ArchINSTALLBUILDCHECKBUILD BIN
HiCool 1.4.0  (landing page)
Jacques Serizay
git_last_commit: 35c0bdb
git_last_commit_date: 2024-04-30 11:47:49 -0400
nebbiolo1Linux (Ubuntu 22.04.3 LTS) / x86_64  OK    OK    OK  UNNEEDED, same version is already published
lconwaymacOS 12.7.1 Monterey / x86_64  OK    OK    OK    OK  UNNEEDED, same version is already published
kjohnson3macOS 13.6.5 Ventura / arm64see weekly results here
Package 246/555HostnameOS / ArchINSTALLBUILDCHECKBUILD BIN
hicVennDiagram 1.2.0  (landing page)
Jianhong Ou
git_last_commit: cf5f1bc
git_last_commit_date: 2024-04-30 11:50:38 -0400
nebbiolo1Linux (Ubuntu 22.04.3 LTS) / x86_64  OK    OK    OK  UNNEEDED, same version is already published
lconwaymacOS 12.7.1 Monterey / x86_64  OK    OK    OK    OK  UNNEEDED, same version is already published
kjohnson3macOS 13.6.5 Ventura / arm64see weekly results here
Package 247/555HostnameOS / ArchINSTALLBUILDCHECKBUILD BIN
HilbertCurve 1.34.0  (landing page)
Zuguang Gu
git_last_commit: 7785a5e
git_last_commit_date: 2024-04-30 10:44:53 -0400
nebbiolo1Linux (Ubuntu 22.04.3 LTS) / x86_64  OK    OK    OK  UNNEEDED, same version is already published
lconwaymacOS 12.7.1 Monterey / x86_64  OK    OK    OK    OK  UNNEEDED, same version is already published
kjohnson3macOS 13.6.5 Ventura / arm64see weekly results here
Package 248/555HostnameOS / ArchINSTALLBUILDCHECKBUILD BIN
HiLDA 1.18.0  (landing page)
Zhi Yang
git_last_commit: e855eee
git_last_commit_date: 2024-04-30 11:16:03 -0400
nebbiolo1Linux (Ubuntu 22.04.3 LTS) / x86_64  OK    OK    OK  UNNEEDED, same version is already published
lconwaymacOS 12.7.1 Monterey / x86_64  OK    OK    OK    OK  UNNEEDED, same version is already published
kjohnson3macOS 13.6.5 Ventura / arm64see weekly results here
Package 249/555HostnameOS / ArchINSTALLBUILDCHECKBUILD BIN
hiReadsProcessor 1.40.0  (landing page)
Nirav V Malani
git_last_commit: ad28de1
git_last_commit_date: 2024-04-30 10:38:18 -0400
nebbiolo1Linux (Ubuntu 22.04.3 LTS) / x86_64  OK    OK    OK  UNNEEDED, same version is already published
lconwaymacOS 12.7.1 Monterey / x86_64  OK    OK    OK    OK  UNNEEDED, same version is already published
kjohnson3macOS 13.6.5 Ventura / arm64see weekly results here
Package 250/555HostnameOS / ArchINSTALLBUILDCHECKBUILD BIN
HiTC 1.48.0  (landing page)
Nicolas Servant
git_last_commit: 672d1ca
git_last_commit_date: 2024-04-30 10:27:29 -0400
nebbiolo1Linux (Ubuntu 22.04.3 LTS) / x86_64  OK    OK    WARNINGS  UNNEEDED, same version is already published
lconwaymacOS 12.7.1 Monterey / x86_64  OK    OK    WARNINGS    OK  UNNEEDED, same version is already published
kjohnson3macOS 13.6.5 Ventura / arm64see weekly results here
Package 251/555HostnameOS / ArchINSTALLBUILDCHECKBUILD BIN
HTSeqGenie 4.34.0  (landing page)
Jens Reeder
git_last_commit: e25c9ee
git_last_commit_date: 2024-04-30 10:29:18 -0400
nebbiolo1Linux (Ubuntu 22.04.3 LTS) / x86_64  OK    OK    OK  UNNEEDED, same version is already published
lconwaymacOS 12.7.1 Monterey / x86_64... NOT SUPPORTED ...
kjohnson3macOS 13.6.5 Ventura / arm64see weekly results here
Package 252/555HostnameOS / ArchINSTALLBUILDCHECKBUILD BIN
hummingbird 1.14.0  (landing page)
Eleni Adam
git_last_commit: a78fbf8
git_last_commit_date: 2024-04-30 11:25:54 -0400
nebbiolo1Linux (Ubuntu 22.04.3 LTS) / x86_64  OK    OK    OK  UNNEEDED, same version is already published
lconwaymacOS 12.7.1 Monterey / x86_64  OK    OK    OK    OK  UNNEEDED, same version is already published
kjohnson3macOS 13.6.5 Ventura / arm64see weekly results here
Package 253/555HostnameOS / ArchINSTALLBUILDCHECKBUILD BIN
icetea 1.22.0  (landing page)
Vivek Bhardwaj
git_last_commit: 4a36367
git_last_commit_date: 2024-04-30 11:07:20 -0400
nebbiolo1Linux (Ubuntu 22.04.3 LTS) / x86_64  OK    OK    WARNINGS  UNNEEDED, same version is already published
lconwaymacOS 12.7.1 Monterey / x86_64  OK    OK    WARNINGS    OK  UNNEEDED, same version is already published
kjohnson3macOS 13.6.5 Ventura / arm64see weekly results here
Package 254/555HostnameOS / ArchINSTALLBUILDCHECKBUILD BIN
ideal 1.28.0  (landing page)
Federico Marini
git_last_commit: b369208
git_last_commit_date: 2024-04-30 10:58:01 -0400
nebbiolo1Linux (Ubuntu 22.04.3 LTS) / x86_64  OK    OK    OK  NO, package depends on 'goseq' which is not available
lconwaymacOS 12.7.1 Monterey / x86_64  OK    OK    OK    OK  NO, package depends on 'goseq' which is not available
kjohnson3macOS 13.6.5 Ventura / arm64see weekly results here
Package 255/555HostnameOS / ArchINSTALLBUILDCHECKBUILD BIN
IdeoViz 1.40.0  (landing page)
Shraddha Pai
git_last_commit: 8dfb921
git_last_commit_date: 2024-04-30 10:39:24 -0400
nebbiolo1Linux (Ubuntu 22.04.3 LTS) / x86_64  OK    OK    WARNINGS  UNNEEDED, same version is already published
lconwaymacOS 12.7.1 Monterey / x86_64  OK    OK    WARNINGS    OK  UNNEEDED, same version is already published
kjohnson3macOS 13.6.5 Ventura / arm64see weekly results here
Package 256/555HostnameOS / ArchINSTALLBUILDCHECKBUILD BIN
idr2d 1.18.0  (landing page)
Konstantin Krismer
git_last_commit: 9f13d38
git_last_commit_date: 2024-04-30 11:17:06 -0400
nebbiolo1Linux (Ubuntu 22.04.3 LTS) / x86_64  OK    OK    OK  UNNEEDED, same version is already published
lconwaymacOS 12.7.1 Monterey / x86_64  OK    OK    OK    OK