Back to Multiple platform build/check report for BioC 3.17:   simplified   long
ABCDEFGHIJKLMNOPQRSTUVWX[Y]Z

This page was generated on 2023-09-29 11:37:56 -0400 (Fri, 29 Sep 2023).

HostnameOSArch (*)R versionInstalled pkgs
nebbiolo1Linux (Ubuntu 22.04.2 LTS)x86_644.3.1 (2023-06-16) -- "Beagle Scouts" 4626
palomino3Windows Server 2022 Datacenterx644.3.1 (2023-06-16 ucrt) -- "Beagle Scouts" 4379
merida1macOS 12.6.4 Montereyx86_644.3.1 (2023-06-16) -- "Beagle Scouts" 4395
Click on any hostname to see more info about the system (e.g. compilers)      (*) as reported by 'uname -p', except on Windows and Mac OS X

Package 2223/2230HostnameOS / ArchINSTALLBUILDCHECKBUILD BIN
YAPSA 1.26.8  (landing page)
Zuguang Gu
Snapshot Date: 2023-09-28 14:00:15 -0400 (Thu, 28 Sep 2023)
git_url: https://git.bioconductor.org/packages/YAPSA
git_branch: RELEASE_3_17
git_last_commit: 89c3669
git_last_commit_date: 2023-09-25 09:19:07 -0400 (Mon, 25 Sep 2023)
nebbiolo1Linux (Ubuntu 22.04.2 LTS) / x86_64  OK    OK    OK  UNNEEDED, same version is already published
palomino3Windows Server 2022 Datacenter / x64  OK    OK    OK    OK  UNNEEDED, same version is already published
merida1macOS 12.6.4 Monterey / x86_64  OK    OK    OK    OK  UNNEEDED, same version is already published

CHECK results for YAPSA on merida1


To the developers/maintainers of the YAPSA package:
- Allow up to 24 hours (and sometimes 48 hours) for your latest push to git@git.bioconductor.org:packages/YAPSA.git to reflect on this report. See Troubleshooting Build Report for more information.
- Use the following Renviron settings to reproduce errors and warnings.
- If 'R CMD check' started to fail recently on the Linux builder(s) over a missing dependency, add the missing dependency to 'Suggests:' in your DESCRIPTION file. See Renviron.bioc for more information.

raw results


Summary

Package: YAPSA
Version: 1.26.8
Command: /Library/Frameworks/R.framework/Resources/bin/R CMD check --install=check:YAPSA.install-out.txt --library=/Library/Frameworks/R.framework/Resources/library --no-vignettes --timings YAPSA_1.26.8.tar.gz
StartedAt: 2023-09-29 08:48:58 -0400 (Fri, 29 Sep 2023)
EndedAt: 2023-09-29 09:00:57 -0400 (Fri, 29 Sep 2023)
EllapsedTime: 718.9 seconds
RetCode: 0
Status:   OK  
CheckDir: YAPSA.Rcheck
Warnings: 0

Command output

##############################################################################
##############################################################################
###
### Running command:
###
###   /Library/Frameworks/R.framework/Resources/bin/R CMD check --install=check:YAPSA.install-out.txt --library=/Library/Frameworks/R.framework/Resources/library --no-vignettes --timings YAPSA_1.26.8.tar.gz
###
##############################################################################
##############################################################################


* using log directory ‘/Users/biocbuild/bbs-3.17-bioc/meat/YAPSA.Rcheck’
* using R version 4.3.1 (2023-06-16)
* using platform: x86_64-apple-darwin20 (64-bit)
* R was compiled by
    Apple clang version 14.0.3 (clang-1403.0.22.14.1)
    GNU Fortran (GCC) 12.2.0
* running under: macOS Monterey 12.6.4
* using session charset: UTF-8
* using option ‘--no-vignettes’
* checking for file ‘YAPSA/DESCRIPTION’ ... OK
* checking extension type ... Package
* this is package ‘YAPSA’ version ‘1.26.8’
* package encoding: UTF-8
* checking package namespace information ... OK
* checking package dependencies ... OK
* checking if this is a source package ... OK
* checking if there is a namespace ... OK
* checking for hidden files and directories ... OK
* checking for portable file names ... OK
* checking for sufficient/correct file permissions ... OK
* checking whether package ‘YAPSA’ can be installed ... OK
* checking installed package size ... OK
* checking package directory ... OK
* checking ‘build’ directory ... OK
* checking DESCRIPTION meta-information ... OK
* checking top-level files ... OK
* checking for left-over files ... OK
* checking index information ... OK
* checking package subdirectories ... OK
* checking R files for non-ASCII characters ... OK
* checking R files for syntax errors ... OK
* checking whether the package can be loaded ... OK
* checking whether the package can be loaded with stated dependencies ... OK
* checking whether the package can be unloaded cleanly ... OK
* checking whether the namespace can be loaded with stated dependencies ... OK
* checking whether the namespace can be unloaded cleanly ... OK
* checking dependencies in R code ... OK
* checking S3 generic/method consistency ... OK
* checking replacement functions ... OK
* checking foreign function calls ... OK
* checking R code for possible problems ... OK
* checking Rd files ... OK
* checking Rd metadata ... OK
* checking Rd cross-references ... OK
* checking for missing documentation entries ... OK
* checking for code/documentation mismatches ... OK
* checking Rd \usage sections ... OK
* checking Rd contents ... OK
* checking for unstated dependencies in examples ... OK
* checking contents of ‘data’ directory ... OK
* checking data for non-ASCII characters ... OK
* checking data for ASCII and uncompressed saves ... OK
* checking files in ‘vignettes’ ... OK
* checking examples ... OK
Examples with CPU (user + system) or elapsed time > 5s
                                          user system elapsed
confidence_indel_only_calulation        25.804  0.510  26.313
create_indel_mutation_catalogue_from_df 15.695  0.375  16.069
build_gene_list_for_pathway              6.561  0.172  22.886
run_SMC                                  5.467  0.248   5.736
* checking for unstated dependencies in ‘tests’ ... OK
* checking tests ...
  Running ‘testthat.R’
 OK
* checking for unstated dependencies in vignettes ... OK
* checking package vignettes in ‘inst/doc’ ... OK
* checking running R code from vignettes ... SKIPPED
* checking re-building of vignette outputs ... SKIPPED
* checking PDF version of manual ... OK
* DONE

Status: OK


Installation output

YAPSA.Rcheck/00install.out

##############################################################################
##############################################################################
###
### Running command:
###
###   /Library/Frameworks/R.framework/Resources/bin/R CMD INSTALL YAPSA
###
##############################################################################
##############################################################################


* installing to library ‘/Library/Frameworks/R.framework/Versions/4.3-x86_64/Resources/library’
* installing *source* package ‘YAPSA’ ...
** using staged installation
** R
** data
** inst
** byte-compile and prepare package for lazy loading
** help
*** installing help indices
** building package indices
** installing vignettes
** testing if installed package can be loaded from temporary location
** testing if installed package can be loaded from final location
** testing if installed package keeps a record of temporary installation path
* DONE (YAPSA)

Tests output

YAPSA.Rcheck/tests/testthat.Rout


R version 4.3.1 (2023-06-16) -- "Beagle Scouts"
Copyright (C) 2023 The R Foundation for Statistical Computing
Platform: x86_64-apple-darwin20 (64-bit)

R is free software and comes with ABSOLUTELY NO WARRANTY.
You are welcome to redistribute it under certain conditions.
Type 'license()' or 'licence()' for distribution details.

R is a collaborative project with many contributors.
Type 'contributors()' for more information and
'citation()' on how to cite R or R packages in publications.

Type 'demo()' for some demos, 'help()' for on-line help, or
'help.start()' for an HTML browser interface to help.
Type 'q()' to quit R.

> Sys.setenv(R_TESTS=" ")
> library(testthat)
> library(YAPSA)
Loading required package: GenomicRanges
Loading required package: stats4
Loading required package: BiocGenerics

Attaching package: 'BiocGenerics'

The following objects are masked from 'package:stats':

    IQR, mad, sd, var, xtabs

The following objects are masked from 'package:base':

    Filter, Find, Map, Position, Reduce, anyDuplicated, aperm, append,
    as.data.frame, basename, cbind, colnames, dirname, do.call,
    duplicated, eval, evalq, get, grep, grepl, intersect, is.unsorted,
    lapply, mapply, match, mget, order, paste, pmax, pmax.int, pmin,
    pmin.int, rank, rbind, rownames, sapply, setdiff, sort, table,
    tapply, union, unique, unsplit, which.max, which.min

Loading required package: S4Vectors

Attaching package: 'S4Vectors'

The following object is masked from 'package:utils':

    findMatches

The following objects are masked from 'package:base':

    I, expand.grid, unname

Loading required package: IRanges
Loading required package: GenomeInfoDb
Loading required package: ggplot2
Loading required package: grid
> 
> test_check("YAPSA")
YAPSA:::shapiro_if_possible::error: Non-numeric inputYAPSA:::makeVRangesFromDataFrame::warning:strand  information missing, set to "+".
YAPSA:::makeVRangesFromDataFrame::in_PID.field found.  Retrieving PID information.
YAPSA:::makeVRangesFromDataFrame::in_subgroup.field found.  Retrieving subgroup information.
[ FAIL 0 | WARN 1 | SKIP 0 | PASS 62 ]

[ FAIL 0 | WARN 1 | SKIP 0 | PASS 62 ]
> 
> proc.time()
   user  system elapsed 
 18.443   1.024  19.445 

Example timings

YAPSA.Rcheck/YAPSA-Ex.timings

nameusersystemelapsed
GenomeOfNl_raw0.0090.0030.012
LCD0.0090.0010.010
LCD_complex_cutoff0.0000.0010.000
MutCat_indel_df0.0050.0020.007
SMC0.0010.0000.000
SMC_perPID000
add_annotation000
add_as_fist_to_list0.0000.0010.001
aggregate_exposures_by_category0.0000.0000.001
annotate_intermut_dist_PID0.0230.0020.024
annotate_intermut_dist_cohort0.0280.0020.029
annotation_exposures_barplot000
annotation_exposures_list_barplot0.0000.0000.001
annotation_heatmap_exposures0.0010.0000.001
attribute_nucleotide_exchanges0.0030.0010.003
attribute_sequence_contex_indel0.6650.0570.721
attribution_of_indels0.6000.0940.693
build_gene_list_for_pathway 6.561 0.17222.886
classify_indels0.0010.0000.001
compare_SMCs000
compare_exposures000
compare_expousre_sets0.0040.0000.005
compare_sets0.0040.0010.004
compare_to_catalogues0.0000.0000.001
complex_heatmap_exposures1.1910.0251.223
computeLogLik000
compute_comparison_stat_df0.0010.0000.000
confIntExp1.6000.1351.736
confidence_indel_calulation0.0010.0020.003
confidence_indel_only_calulation25.804 0.51026.313
correct_rounded0.0000.0010.000
cosineDist0.0000.0000.001
cosineMatchDist0.0020.0000.002
create_indel_mut_cat_from_df0.5260.0140.540
create_indel_mutation_catalogue_from_df15.695 0.37516.069
create_mutation_catalogue_from_VR1.4350.1001.534
create_mutation_catalogue_from_df1.0140.0931.107
cut_breaks_as_intervals0.1560.0030.160
deriveSigInd_df000
disambiguateVector000
enrichSigs000
exampleYAPSA0.0790.0060.085
exome_mutCatRaw_df0.0130.0050.018
exposures_barplot3.4170.0113.429
extract_names_from_gene_list000
find_affected_PIDs000
getSequenceContext0.1340.0080.142
get_extreme_PIDs0.0100.0020.013
hclust_exposures0.0070.0020.008
logLikelihood1.0830.0981.181
lymphomaNature2013_mutCat_df0.0070.0030.010
makeVRangesFromDataFrame0.1340.0020.136
make_catalogue_strata_df0.0010.0000.000
make_comparison_matrix0.120.010.13
make_strata_df000
make_subgroups_df0.0350.0040.039
melt_exposures000
merge_exposures0.0000.0010.000
normalizeMotifs_otherRownames000
normalize_df_per_dim0.0100.0020.011
plotExchangeSpectra0.0000.0010.001
plotExchangeSpectra_indel1.7250.0101.736
plotExposuresConfidence000
plotExposuresConfidence_indel000
plot_SMC000
plot_exposures0.6880.0070.696
plot_strata0.0000.0010.001
read_entry000
relateSigs000
repeat_df0.0030.0010.003
round_precision0.0000.0000.001
run_SMC5.4670.2485.736
run_annotate_vcf_pl000
run_comparison_catalogues0.0000.0010.000
run_comparison_general0.0000.0000.001
run_kmer_frequency_correction000
run_kmer_frequency_normalization0.0000.0010.000
run_plot_strata_general0.0010.0000.001
shapiro_if_possible0.0010.0000.001
split_exposures_by_subgroups0.0000.0010.000
stat_plot_subgroups0.0000.0000.001
stat_test_SMC0.0000.0000.001
stat_test_subgroups0.0010.0010.000
stderrmean0.0000.0000.001
sum_over_list_of_df0.0020.0000.002
testSigs0.0000.0000.001
test_exposureAffected0.0000.0010.000
test_gene_list_in_exposures000
transform_rownames_R_to_MATLAB0.0000.0000.001
translate_to_hg190.0040.0010.006
trellis_rainfall_plot2.0330.0112.046
variateExp2.8970.1463.045
variateExpSingle1.0080.0891.097