Back to Multiple platform build/check report for BioC 3.12
ABCDEFGHIJKLMNOPQ[R]STUVWXYZ

Multiple platform build/check report for BioC 3.12

Results for RaggedExperiment

This page was generated on 2020-11-23 12:11:21 -0500 (Mon, 23 Nov 2020).

Package 1446/1974HostnameOS / ArchINSTALLBUILDCHECKBUILD BIN
RaggedExperiment 1.14.1
Martin Morgan
Snapshot Date: 2020-11-22 14:42:09 -0500 (Sun, 22 Nov 2020)
URL: https://git.bioconductor.org/packages/RaggedExperiment
Branch: RELEASE_3_12
Last Commit: b7a0326
Last Changed Date: 2020-11-17 12:31:21 -0500 (Tue, 17 Nov 2020)
malbec1 Linux (Ubuntu 18.04.4 LTS) / x86_64  OK  OK  OK UNNEEDED, same version exists in internal repository
nebbiolo1 Linux (Ubuntu 20.04.1 LTS) / x86_64  OK  OK  OK 
tokay1 Windows Server 2012 R2 Standard / x64  OK  OK  WARNINGS  OK UNNEEDED, same version exists in internal repository
merida1 macOS 10.14.6 Mojave / x86_64  OK  OK  OK  OK UNNEEDED, same version exists in internal repository