Back to Multiple platform build/check report for BioC 3.18:   simplified   long
ABC[D]EFGHIJKLMNOPQRSTUVWXYZ

This page was generated on 2024-03-29 11:35:00 -0400 (Fri, 29 Mar 2024).

HostnameOSArch (*)R versionInstalled pkgs
nebbiolo2Linux (Ubuntu 22.04.3 LTS)x86_644.3.3 (2024-02-29) -- "Angel Food Cake" 4669
palomino4Windows Server 2022 Datacenterx644.3.3 (2024-02-29 ucrt) -- "Angel Food Cake" 4404
merida1macOS 12.7.1 Montereyx86_644.3.3 (2024-02-29) -- "Angel Food Cake" 4427
Click on any hostname to see more info about the system (e.g. compilers)      (*) as reported by 'uname -p', except on Windows and Mac OS X

All results for package DESeq2


To the developers/maintainers of the DESeq2 package:
- Allow up to 24 hours (and sometimes 48 hours) for your latest push to git@git.bioconductor.org:packages/DESeq2.git to reflect on this report. See Troubleshooting Build Report for more information.
- Use the following Renviron settings to reproduce errors and warnings.
- If 'R CMD check' started to fail recently on the Linux builder(s) over a missing dependency, add the missing dependency to 'Suggests:' in your DESCRIPTION file. See Renviron.bioc for more information.

raw results

Package 548/2266HostnameOS / ArchINSTALLBUILDCHECKBUILD BIN
DESeq2 1.42.1  (landing page)
Michael Love
Snapshot Date: 2024-03-27 14:05:05 -0400 (Wed, 27 Mar 2024)
git_url: https://git.bioconductor.org/packages/DESeq2
git_branch: RELEASE_3_18
git_last_commit: 1c1c928
git_last_commit_date: 2024-03-06 10:49:39 -0400 (Wed, 06 Mar 2024)
nebbiolo2Linux (Ubuntu 22.04.3 LTS) / x86_64  OK    OK    OK  UNNEEDED, same version is already published
palomino4Windows Server 2022 Datacenter / x64  OK    OK    OK    OK  UNNEEDED, same version is already published
merida1macOS 12.7.1 Monterey / x86_64  OK    OK    OK    OK  UNNEEDED, same version is already published
kjohnson1macOS 13.6.1 Ventura / arm64see weekly results here

Results for Bioconductor software packages that depend directly on package DESeq2

QUICK STATSOS / ArchINSTALLBUILDCHECKBUILD BIN
nebbiolo2Linux (Ubuntu 22.04.3 LTS) / x86_64
0080
0179
04867
palomino4Windows Server 2022 Datacenter / x64
0080
0179
03769
0079
merida1macOS 12.7.1 Monterey / x86_64
0080
0179
02869
0079
Package 1/80HostnameOS / ArchINSTALLBUILDCHECKBUILD BIN
Anaquin 2.26.0  (landing page)
Ted Wong
git_last_commit: ca94944
git_last_commit_date: 2023-10-24 10:52:16 -0400
nebbiolo2Linux (Ubuntu 22.04.3 LTS) / x86_64  OK    OK    OK  UNNEEDED, same version is already published
palomino4Windows Server 2022 Datacenter / x64  OK    OK    OK    OK  UNNEEDED, same version is already published
merida1macOS 12.7.1 Monterey / x86_64  OK    OK    OK    OK  UNNEEDED, same version is already published
kjohnson1macOS 13.6.1 Ventura / arm64see weekly results here
Package 2/80HostnameOS / ArchINSTALLBUILDCHECKBUILD BIN
animalcules 1.18.3  (landing page)
Jessica McClintock
git_last_commit: 8e8e658
git_last_commit_date: 2024-02-02 16:30:32 -0400
nebbiolo2Linux (Ubuntu 22.04.3 LTS) / x86_64  OK    OK    OK  UNNEEDED, same version is already published
palomino4Windows Server 2022 Datacenter / x64  OK    OK    OK    OK  UNNEEDED, same version is already published
merida1macOS 12.7.1 Monterey / x86_64  OK    OK    OK    OK  UNNEEDED, same version is already published
kjohnson1macOS 13.6.1 Ventura / arm64see weekly results here
Package 3/80HostnameOS / ArchINSTALLBUILDCHECKBUILD BIN
anota2seq 1.24.0  (landing page)
Christian Oertlin , Ola Larsson
git_last_commit: aca5ad9
git_last_commit_date: 2023-10-24 11:00:23 -0400
nebbiolo2Linux (Ubuntu 22.04.3 LTS) / x86_64  OK    OK    WARNINGS  UNNEEDED, same version is already published
palomino4Windows Server 2022 Datacenter / x64  OK    OK    OK    OK  UNNEEDED, same version is already published
merida1macOS 12.7.1 Monterey / x86_64  OK    OK    OK    OK  UNNEEDED, same version is already published
kjohnson1macOS 13.6.1 Ventura / arm64see weekly results here
Package 4/80HostnameOS / ArchINSTALLBUILDCHECKBUILD BIN
APAlyzer 1.16.0  (landing page)
Ruijia Wang
git_last_commit: 9a02db1
git_last_commit_date: 2023-10-24 11:15:41 -0400
nebbiolo2Linux (Ubuntu 22.04.3 LTS) / x86_64  OK    OK    WARNINGS  UNNEEDED, same version is already published
palomino4Windows Server 2022 Datacenter / x64  OK    OK    WARNINGS    OK  UNNEEDED, same version is already published
merida1macOS 12.7.1 Monterey / x86_64  OK    OK    WARNINGS    OK  UNNEEDED, same version is already published
kjohnson1macOS 13.6.1 Ventura / arm64see weekly results here
Package 5/80HostnameOS / ArchINSTALLBUILDCHECKBUILD BIN
benchdamic 1.8.2  (landing page)
Matteo Calgaro
git_last_commit: c22b193
git_last_commit_date: 2024-03-06 05:03:42 -0400
nebbiolo2Linux (Ubuntu 22.04.3 LTS) / x86_64  OK    OK    OK  UNNEEDED, same version is already published
palomino4Windows Server 2022 Datacenter / x64  OK    OK    OK    OK  UNNEEDED, same version is already published
merida1macOS 12.7.1 Monterey / x86_64  OK    OK    OK    OK  UNNEEDED, same version is already published
kjohnson1macOS 13.6.1 Ventura / arm64see weekly results here
Package 6/80HostnameOS / ArchINSTALLBUILDCHECKBUILD BIN
BRGenomics 1.14.1  (landing page)
Mike DeBerardine
git_last_commit: bbd90bf
git_last_commit_date: 2024-02-29 16:27:31 -0400
nebbiolo2Linux (Ubuntu 22.04.3 LTS) / x86_64  OK    OK    OK  UNNEEDED, same version is already published
palomino4Windows Server 2022 Datacenter / x64  OK    OK    OK    OK  UNNEEDED, same version is already published
merida1macOS 12.7.1 Monterey / x86_64  OK    OK    OK    OK  UNNEEDED, same version is already published
kjohnson1macOS 13.6.1 Ventura / arm64see weekly results here
Package 7/80HostnameOS / ArchINSTALLBUILDCHECKBUILD BIN
CeTF 1.14.0  (landing page)
Carlos Alberto Oliveira de Biagi Junior
git_last_commit: a3be90f
git_last_commit_date: 2023-10-24 11:18:38 -0400
nebbiolo2Linux (Ubuntu 22.04.3 LTS) / x86_64  OK    OK    OK  UNNEEDED, same version is already published
palomino4Windows Server 2022 Datacenter / x64  OK    OK    OK    OK  UNNEEDED, same version is already published
merida1macOS 12.7.1 Monterey / x86_64  OK    OK    OK    OK  UNNEEDED, same version is already published
kjohnson1macOS 13.6.1 Ventura / arm64see weekly results here
Package 8/80HostnameOS / ArchINSTALLBUILDCHECKBUILD BIN
circRNAprofiler 1.16.0  (landing page)
Simona Aufiero
git_last_commit: 39fe35b
git_last_commit_date: 2023-10-24 11:15:12 -0400
nebbiolo2Linux (Ubuntu 22.04.3 LTS) / x86_64  OK    OK    OK  UNNEEDED, same version is already published
palomino4Windows Server 2022 Datacenter / x64  OK    OK    OK    OK  UNNEEDED, same version is already published
merida1macOS 12.7.1 Monterey / x86_64  OK    OK    OK    OK  UNNEEDED, same version is already published
kjohnson1macOS 13.6.1 Ventura / arm64see weekly results here
Package 9/80HostnameOS / ArchINSTALLBUILDCHECKBUILD BIN
consensusDE 1.20.0  (landing page)
Ashley J. Waardenberg
git_last_commit: 8cccaad
git_last_commit_date: 2023-10-24 11:09:05 -0400
nebbiolo2Linux (Ubuntu 22.04.3 LTS) / x86_64  OK    OK    OK  UNNEEDED, same version is already published
palomino4Windows Server 2022 Datacenter / x64  OK    OK    OK    OK  UNNEEDED, same version is already published
merida1macOS 12.7.1 Monterey / x86_64  OK    OK    OK    OK  UNNEEDED, same version is already published
kjohnson1macOS 13.6.1 Ventura / arm64see weekly results here
Package 10/80HostnameOS / ArchINSTALLBUILDCHECKBUILD BIN
coseq 1.26.0  (landing page)
Andrea Rau
git_last_commit: 985d20a
git_last_commit_date: 2023-10-24 10:54:56 -0400
nebbiolo2Linux (Ubuntu 22.04.3 LTS) / x86_64  OK    OK    OK  UNNEEDED, same version is already published
palomino4Windows Server 2022 Datacenter / x64  OK    OK    OK    OK  UNNEEDED, same version is already published
merida1macOS 12.7.1 Monterey / x86_64  OK    OK    OK    OK  UNNEEDED, same version is already published
kjohnson1macOS 13.6.1 Ventura / arm64see weekly results here
Package 11/80HostnameOS / ArchINSTALLBUILDCHECKBUILD BIN
countsimQC 1.20.0  (landing page)
Charlotte Soneson
git_last_commit: 7089dc0
git_last_commit_date: 2023-10-24 11:08:14 -0400
nebbiolo2Linux (Ubuntu 22.04.3 LTS) / x86_64  OK    OK    OK  UNNEEDED, same version is already published
palomino4Windows Server 2022 Datacenter / x64  OK    OK    OK    OK  UNNEEDED, same version is already published
merida1macOS 12.7.1 Monterey / x86_64  OK    OK    OK    OK  UNNEEDED, same version is already published
kjohnson1macOS 13.6.1 Ventura / arm64see weekly results here
Package 12/80HostnameOS / ArchINSTALLBUILDCHECKBUILD BIN
DaMiRseq 2.14.0  (landing page)
Mattia Chiesa
git_last_commit: 18c499a
git_last_commit_date: 2023-10-24 10:56:05 -0400
nebbiolo2Linux (Ubuntu 22.04.3 LTS) / x86_64  OK    OK    OK  UNNEEDED, same version is already published
palomino4Windows Server 2022 Datacenter / x64  OK    OK    OK    OK  UNNEEDED, same version is already published
merida1macOS 12.7.1 Monterey / x86_64  OK    OK    OK    OK  UNNEEDED, same version is already published
kjohnson1macOS 13.6.1 Ventura / arm64see weekly results here
Package 13/80HostnameOS / ArchINSTALLBUILDCHECKBUILD BIN
debrowser 1.30.2  (landing page)
Alper Kucukural
git_last_commit: edf9f4c
git_last_commit_date: 2024-02-05 11:10:13 -0400
nebbiolo2Linux (Ubuntu 22.04.3 LTS) / x86_64  OK    OK    OK  UNNEEDED, same version is already published
palomino4Windows Server 2022 Datacenter / x64  OK    OK    OK    OK  UNNEEDED, same version is already published
merida1macOS 12.7.1 Monterey / x86_64  OK    OK    OK    OK  UNNEEDED, same version is already published
kjohnson1macOS 13.6.1 Ventura / arm64see weekly results here
Package 14/80HostnameOS / ArchINSTALLBUILDCHECKBUILD BIN
DEFormats 1.30.0  (landing page)
Andrzej Oleś
git_last_commit: aeab5ae
git_last_commit_date: 2023-10-24 10:48:54 -0400
nebbiolo2Linux (Ubuntu 22.04.3 LTS) / x86_64  OK    OK    OK  UNNEEDED, same version is already published
palomino4Windows Server 2022 Datacenter / x64  OK    OK    OK    OK  UNNEEDED, same version is already published
merida1macOS 12.7.1 Monterey / x86_64  OK    OK    OK    OK  UNNEEDED, same version is already published
kjohnson1macOS 13.6.1 Ventura / arm64see weekly results here
Package 15/80HostnameOS / ArchINSTALLBUILDCHECKBUILD BIN
DEGreport 1.38.5  (landing page)
Lorena Pantano
git_last_commit: 672d8e5
git_last_commit_date: 2023-12-06 13:39:58 -0400
nebbiolo2Linux (Ubuntu 22.04.3 LTS) / x86_64  OK    OK    OK  UNNEEDED, same version is already published
palomino4Windows Server 2022 Datacenter / x64  OK    OK    OK    OK  UNNEEDED, same version is already published
merida1macOS 12.7.1 Monterey / x86_64  OK    OK    OK    OK  UNNEEDED, same version is already published
kjohnson1macOS 13.6.1 Ventura / arm64see weekly results here
Package 16/80HostnameOS / ArchINSTALLBUILDCHECKBUILD BIN
DELocal 1.2.1  (landing page)
Rishi Das Roy
git_last_commit: 063d523
git_last_commit_date: 2024-03-26 04:27:26 -0400
nebbiolo2Linux (Ubuntu 22.04.3 LTS) / x86_64  OK    OK    OK  YES
palomino4Windows Server 2022 Datacenter / x64  OK    OK    OK    OK  YES
merida1macOS 12.7.1 Monterey / x86_64  OK    OK    OK    OK  YES
kjohnson1macOS 13.6.1 Ventura / arm64see weekly results here
Package 17/80HostnameOS / ArchINSTALLBUILDCHECKBUILD BIN
deltaCaptureC 1.16.1  (landing page)
Michael Shapiro
git_last_commit: f7fe245
git_last_commit_date: 2024-03-21 07:33:24 -0400
nebbiolo2Linux (Ubuntu 22.04.3 LTS) / x86_64  OK    OK    OK  UNNEEDED, same version is already published
palomino4Windows Server 2022 Datacenter / x64  OK    OK    OK    OK  UNNEEDED, same version is already published
merida1macOS 12.7.1 Monterey / x86_64  OK    OK    OK    OK  UNNEEDED, same version is already published
kjohnson1macOS 13.6.1 Ventura / arm64see weekly results here
Package 18/80HostnameOS / ArchINSTALLBUILDCHECKBUILD BIN
DEsubs 1.28.0  (landing page)
Aristidis G. Vrahatis , Panos Balomenos
git_last_commit: a59b0e4
git_last_commit_date: 2023-10-24 10:53:05 -0400
nebbiolo2Linux (Ubuntu 22.04.3 LTS) / x86_64  OK    OK    WARNINGS  UNNEEDED, same version is already published
palomino4Windows Server 2022 Datacenter / x64  OK    OK    WARNINGS    OK  UNNEEDED, same version is already published
merida1macOS 12.7.1 Monterey / x86_64  OK    OK    WARNINGS    OK  UNNEEDED, same version is already published
kjohnson1macOS 13.6.1 Ventura / arm64see weekly results here
Package 19/80HostnameOS / ArchINSTALLBUILDCHECKBUILD BIN
DEWSeq 1.16.2  (landing page)
bioinformatics team Hentze
git_last_commit: 9459b13
git_last_commit_date: 2023-11-15 02:40:12 -0400
nebbiolo2Linux (Ubuntu 22.04.3 LTS) / x86_64  OK    OK    OK  UNNEEDED, same version is already published
palomino4Windows Server 2022 Datacenter / x64  OK    OK    OK    OK  UNNEEDED, same version is already published
merida1macOS 12.7.1 Monterey / x86_64  OK    OK    OK    OK  UNNEEDED, same version is already published
kjohnson1macOS 13.6.1 Ventura / arm64see weekly results here
Package 20/80HostnameOS / ArchINSTALLBUILDCHECKBUILD BIN
DEXSeq 1.48.0  (landing page)
Alejandro Reyes
git_last_commit: 40ec7ae
git_last_commit_date: 2023-10-24 09:47:02 -0400
nebbiolo2Linux (Ubuntu 22.04.3 LTS) / x86_64  OK    OK    OK  UNNEEDED, same version is already published
palomino4Windows Server 2022 Datacenter / x64  OK    OK    OK    OK  UNNEEDED, same version is already published
merida1macOS 12.7.1 Monterey / x86_64  OK    OK    OK    OK  UNNEEDED, same version is already published
kjohnson1macOS 13.6.1 Ventura / arm64see weekly results here
Package 21/80HostnameOS / ArchINSTALLBUILDCHECKBUILD BIN
DiffBind 3.12.0  (landing page)
Rory Stark
git_last_commit: 00284e8
git_last_commit_date: 2023-10-24 09:48:02 -0400
nebbiolo2Linux (Ubuntu 22.04.3 LTS) / x86_64  OK    OK    WARNINGS  UNNEEDED, same version is already published
palomino4Windows Server 2022 Datacenter / x64  OK    OK    OK    OK  UNNEEDED, same version is already published
merida1macOS 12.7.1 Monterey / x86_64  OK    OK    WARNINGS    OK  UNNEEDED, same version is already published
kjohnson1macOS 13.6.1 Ventura / arm64see weekly results here
Package 22/80HostnameOS / ArchINSTALLBUILDCHECKBUILD BIN
easier 1.8.0  (landing page)
Oscar Lapuente-Santana
git_last_commit: 04c06f2
git_last_commit_date: 2023-10-24 11:38:21 -0400
nebbiolo2Linux (Ubuntu 22.04.3 LTS) / x86_64  OK    OK    OK  UNNEEDED, same version is already published
palomino4Windows Server 2022 Datacenter / x64  OK    OK    OK    OK  UNNEEDED, same version is already published
merida1macOS 12.7.1 Monterey / x86_64  OK    OK    OK    OK  UNNEEDED, same version is already published
kjohnson1macOS 13.6.1 Ventura / arm64see weekly results here
Package 23/80HostnameOS / ArchINSTALLBUILDCHECKBUILD BIN
EBSEA 1.30.0  (landing page)
Arfa Mehmood
git_last_commit: 3f6476a
git_last_commit_date: 2023-10-24 10:49:11 -0400
nebbiolo2Linux (Ubuntu 22.04.3 LTS) / x86_64  OK    OK    OK  UNNEEDED, same version is already published
palomino4Windows Server 2022 Datacenter / x64  OK    OK    OK    OK  UNNEEDED, same version is already published
merida1macOS 12.7.1 Monterey / x86_64  OK    OK    OK    OK  UNNEEDED, same version is already published
kjohnson1macOS 13.6.1 Ventura / arm64see weekly results here
Package 24/80HostnameOS / ArchINSTALLBUILDCHECKBUILD BIN
eegc 1.28.0  (landing page)
Xiaoyuan Zhou
git_last_commit: 5fcfa13
git_last_commit_date: 2023-10-24 10:52:19 -0400
nebbiolo2Linux (Ubuntu 22.04.3 LTS) / x86_64  OK    OK    ERROR  
palomino4Windows Server 2022 Datacenter / x64  OK    OK    WARNINGS    OK  UNNEEDED, same version is already published
merida1macOS 12.7.1 Monterey / x86_64  OK    OK    WARNINGS    OK  UNNEEDED, same version is already published
kjohnson1macOS 13.6.1 Ventura / arm64see weekly results here
Package 25/80HostnameOS / ArchINSTALLBUILDCHECKBUILD BIN
ERSSA 1.20.0  (landing page)
Zixuan Shao
git_last_commit: c2aa6e1
git_last_commit_date: 2023-10-24 11:07:57 -0400
nebbiolo2Linux (Ubuntu 22.04.3 LTS) / x86_64  OK    OK    OK  UNNEEDED, same version is already published
palomino4Windows Server 2022 Datacenter / x64  OK    OK    OK    OK  UNNEEDED, same version is already published
merida1macOS 12.7.1 Monterey / x86_64  OK    OK    OK    OK  UNNEEDED, same version is already published
kjohnson1macOS 13.6.1 Ventura / arm64see weekly results here
Package 26/80HostnameOS / ArchINSTALLBUILDCHECKBUILD BIN
exomePeak2 1.14.3  (landing page)
Zhen Wei
git_last_commit: 8d265ea
git_last_commit_date: 2023-11-26 20:47:38 -0400
nebbiolo2Linux (Ubuntu 22.04.3 LTS) / x86_64  OK    OK    OK  UNNEEDED, same version is already published
palomino4Windows Server 2022 Datacenter / x64  OK    OK    OK    OK  UNNEEDED, same version is already published
merida1macOS 12.7.1 Monterey / x86_64  OK    OK    OK    OK  UNNEEDED, same version is already published
kjohnson1macOS 13.6.1 Ventura / arm64see weekly results here
Package 27/80HostnameOS / ArchINSTALLBUILDCHECKBUILD BIN
GDCRNATools 1.22.0  (landing page)
Ruidong Li
git_last_commit: 6d2fd31
git_last_commit_date: 2023-10-24 11:02:21 -0400
nebbiolo2Linux (Ubuntu 22.04.3 LTS) / x86_64  OK    OK    OK  UNNEEDED, same version is already published
palomino4Windows Server 2022 Datacenter / x64  OK    OK    OK    OK  UNNEEDED, same version is already published
merida1macOS 12.7.1 Monterey / x86_64  OK    OK    OK    OK  UNNEEDED, same version is already published
kjohnson1macOS 13.6.1 Ventura / arm64see weekly results here
Package 28/80HostnameOS / ArchINSTALLBUILDCHECKBUILD BIN
GeneTonic 2.6.0  (landing page)
Federico Marini
git_last_commit: c3f7778
git_last_commit_date: 2023-10-24 11:19:17 -0400
nebbiolo2Linux (Ubuntu 22.04.3 LTS) / x86_64  OK    OK    OK  UNNEEDED, same version is already published
palomino4Windows Server 2022 Datacenter / x64  OK    OK    OK    OK  UNNEEDED, same version is already published
merida1macOS 12.7.1 Monterey / x86_64  OK    OK    ERROR    OK  
kjohnson1macOS 13.6.1 Ventura / arm64see weekly results here
Package 29/80HostnameOS / ArchINSTALLBUILDCHECKBUILD BIN
gg4way 1.0.2  (landing page)
Benjamin I Laufer
git_last_commit: a882d4b
git_last_commit_date: 2024-01-31 12:34:53 -0400
nebbiolo2Linux (Ubuntu 22.04.3 LTS) / x86_64  OK    OK    OK  UNNEEDED, same version is already published
palomino4Windows Server 2022 Datacenter / x64  OK    OK    OK    OK  UNNEEDED, same version is already published
merida1macOS 12.7.1 Monterey / x86_64  OK    OK    OK    OK  UNNEEDED, same version is already published
kjohnson1macOS 13.6.1 Ventura / arm64see weekly results here
Package 30/80HostnameOS / ArchINSTALLBUILDCHECKBUILD BIN
Glimma 2.12.0  (landing page)
Shian Su
git_last_commit: 9ca869e
git_last_commit_date: 2023-10-24 10:49:23 -0400
nebbiolo2Linux (Ubuntu 22.04.3 LTS) / x86_64  OK    OK    OK  UNNEEDED, same version is already published
palomino4Windows Server 2022 Datacenter / x64  OK    OK    OK    OK  UNNEEDED, same version is already published
merida1macOS 12.7.1 Monterey / x86_64  OK    OK    OK    OK  UNNEEDED, same version is already published
kjohnson1macOS 13.6.1 Ventura / arm64see weekly results here
Package 31/80HostnameOS / ArchINSTALLBUILDCHECKBUILD BIN
GRaNIE 1.6.1  (landing page)
Christian Arnold
git_last_commit: 35f2aa9
git_last_commit_date: 2023-10-26 11:47:33 -0400
nebbiolo2Linux (Ubuntu 22.04.3 LTS) / x86_64  OK    ERROR  skipped
palomino4Windows Server 2022 Datacenter / x64  OK    ERROR  skippedskipped
merida1macOS 12.7.1 Monterey / x86_64  OK    ERROR  skippedskipped
kjohnson1macOS 13.6.1 Ventura / arm64see weekly results here
Package 32/80HostnameOS / ArchINSTALLBUILDCHECKBUILD BIN
hermes 1.6.1  (landing page)
Daniel Sabanés Bové
git_last_commit: c301424
git_last_commit_date: 2024-03-15 04:30:37 -0400
nebbiolo2Linux (Ubuntu 22.04.3 LTS) / x86_64  OK    OK    OK  UNNEEDED, same version is already published
palomino4Windows Server 2022 Datacenter / x64  OK    OK    OK    OK  UNNEEDED, same version is already published
merida1macOS 12.7.1 Monterey / x86_64  OK    OK    OK    OK  UNNEEDED, same version is already published
kjohnson1macOS 13.6.1 Ventura / arm64see weekly results here
Package 33/80HostnameOS / ArchINSTALLBUILDCHECKBUILD BIN
HTSFilter 1.42.0  (landing page)
Andrea Rau
git_last_commit: ca57c53
git_last_commit_date: 2023-10-24 09:52:42 -0400
nebbiolo2Linux (Ubuntu 22.04.3 LTS) / x86_64  OK    OK    OK  UNNEEDED, same version is already published
palomino4Windows Server 2022 Datacenter / x64  OK    OK    OK    OK  UNNEEDED, same version is already published
merida1macOS 12.7.1 Monterey / x86_64  OK    OK    OK    OK  UNNEEDED, same version is already published
kjohnson1macOS 13.6.1 Ventura / arm64see weekly results here
Package 34/80HostnameOS / ArchINSTALLBUILDCHECKBUILD BIN
icetea 1.20.0  (landing page)
Vivek Bhardwaj
git_last_commit: 7b58dbe
git_last_commit_date: 2023-10-24 11:06:09 -0400
nebbiolo2Linux (Ubuntu 22.04.3 LTS) / x86_64  OK    OK    WARNINGS  UNNEEDED, same version is already published
palomino4Windows Server 2022 Datacenter / x64  OK    OK    WARNINGS    OK  UNNEEDED, same version is already published
merida1macOS 12.7.1 Monterey / x86_64  OK    OK    WARNINGS    OK  UNNEEDED, same version is already published
kjohnson1macOS 13.6.1 Ventura / arm64see weekly results here
Package 35/80HostnameOS / ArchINSTALLBUILDCHECKBUILD BIN
ideal 1.26.0  (landing page)
Federico Marini
git_last_commit: d045512
git_last_commit_date: 2023-10-24 10:57:10 -0400
nebbiolo2Linux (Ubuntu 22.04.3 LTS) / x86_64  OK    OK    OK  UNNEEDED, same version is already published
palomino4Windows Server 2022 Datacenter / x64  OK    OK    OK    OK  UNNEEDED, same version is already published
merida1macOS 12.7.1 Monterey / x86_64  OK    OK    OK    OK  UNNEEDED, same version is already published
kjohnson1macOS 13.6.1 Ventura / arm64see weekly results here
Package 36/80HostnameOS / ArchINSTALLBUILDCHECKBUILD BIN
INSPEcT 1.32.1  (landing page)
Stefano de Pretis
git_last_commit: fa69597
git_last_commit_date: 2024-01-04 05:44:49 -0400
nebbiolo2Linux (Ubuntu 22.04.3 LTS) / x86_64  OK    OK    OK  UNNEEDED, same version is already published
palomino4Windows Server 2022 Datacenter / x64  OK    OK    OK    OK  UNNEEDED, same version is already published
merida1macOS 12.7.1 Monterey / x86_64  OK    OK    OK    OK  UNNEEDED, same version is already published
kjohnson1macOS 13.6.1 Ventura / arm64see weekly results here
Package 37/80HostnameOS / ArchINSTALLBUILDCHECKBUILD BIN
IntEREst 1.26.0  (landing page)
Ali Oghabian , Mikko Frilander
git_last_commit: 759bac6
git_last_commit_date: 2023-10-24 10:55:57 -0400
nebbiolo2Linux (Ubuntu 22.04.3 LTS) / x86_64  OK    OK    OK  UNNEEDED, same version is already published
palomino4Windows Server 2022 Datacenter / x64  OK    OK    OK    OK  UNNEEDED, same version is already published
merida1macOS 12.7.1 Monterey / x86_64  OK    OK    OK    OK  UNNEEDED, same version is already published
kjohnson1macOS 13.6.1 Ventura / arm64see weekly results here
Package 38/80HostnameOS / ArchINSTALLBUILDCHECKBUILD BIN
iSEEde 1.0.0  (landing page)
Kevin Rue-Albrecht
git_last_commit: bfb3b22
git_last_commit_date: 2023-10-24 11:50:41 -0400
nebbiolo2Linux (Ubuntu 22.04.3 LTS) / x86_64  OK    OK    OK  UNNEEDED, same version is already published
palomino4Windows Server 2022 Datacenter / x64  OK    OK    OK    OK  UNNEEDED, same version is already published
merida1macOS 12.7.1 Monterey / x86_64  OK    OK    OK    OK  UNNEEDED, same version is already published
kjohnson1macOS 13.6.1 Ventura / arm64see weekly results here
Package 39/80HostnameOS / ArchINSTALLBUILDCHECKBUILD BIN
isomiRs 1.30.0  (landing page)
Lorena Pantano
git_last_commit: ac97130
git_last_commit_date: 2023-10-24 10:49:03 -0400
nebbiolo2Linux (Ubuntu 22.04.3 LTS) / x86_64  OK    OK    OK  UNNEEDED, same version is already published
palomino4Windows Server 2022 Datacenter / x64  OK    OK    OK    OK  UNNEEDED, same version is already published
merida1macOS 12.7.1 Monterey / x86_64  OK    OK    OK    OK  UNNEEDED, same version is already published
kjohnson1macOS 13.6.1 Ventura / arm64see weekly results here
Package 40/80HostnameOS / ArchINSTALLBUILDCHECKBUILD BIN
kissDE 1.22.0  (landing page)
Aurélie Siberchicot
git_last_commit: 66334dc
git_last_commit_date: 2023-10-24 11:02:47 -0400
nebbiolo2Linux (Ubuntu 22.04.3 LTS) / x86_64  OK    OK    OK  UNNEEDED, same version is already published
palomino4Windows Server 2022 Datacenter / x64  OK    OK    OK    OK  UNNEEDED, same version is already published
merida1macOS 12.7.1 Monterey / x86_64  OK    OK    OK    OK  UNNEEDED, same version is already published
kjohnson1macOS 13.6.1 Ventura / arm64see weekly results here
Package 41/80HostnameOS / ArchINSTALLBUILDCHECKBUILD BIN
magpie 1.2.0  (landing page)
Daoyu Duan
git_last_commit: ae6eb0e
git_last_commit_date: 2023-10-24 11:47:32 -0400
nebbiolo2Linux (Ubuntu 22.04.3 LTS) / x86_64  OK    OK    OK  UNNEEDED, same version is already published
palomino4Windows Server 2022 Datacenter / x64  OK    OK    OK    OK  UNNEEDED, same version is already published
merida1macOS 12.7.1 Monterey / x86_64  OK    OK    OK    OK  UNNEEDED, same version is already published
kjohnson1macOS 13.6.1 Ventura / arm64see weekly results here
Package 42/80HostnameOS / ArchINSTALLBUILDCHECKBUILD BIN
metaseqR2 1.14.0  (landing page)
Panagiotis Moulos
git_last_commit: c5496b0
git_last_commit_date: 2023-10-24 11:22:10 -0400
nebbiolo2Linux (Ubuntu 22.04.3 LTS) / x86_64  OK    OK    OK  UNNEEDED, same version is already published
palomino4Windows Server 2022 Datacenter / x64  OK    OK    OK    OK  UNNEEDED, same version is already published
merida1macOS 12.7.1 Monterey / x86_64  OK    OK    OK    OK  UNNEEDED, same version is already published
kjohnson1macOS 13.6.1 Ventura / arm64see weekly results here
Package 43/80HostnameOS / ArchINSTALLBUILDCHECKBUILD BIN
microbiomeExplorer 1.12.0  (landing page)
Janina Reeder
git_last_commit: 83cb131
git_last_commit_date: 2023-10-24 11:26:35 -0400
nebbiolo2Linux (Ubuntu 22.04.3 LTS) / x86_64  OK    OK    OK  UNNEEDED, same version is already published
palomino4Windows Server 2022 Datacenter / x64  OK    OK    OK    OK  UNNEEDED, same version is already published
merida1macOS 12.7.1 Monterey / x86_64  OK    OK    OK    OK  UNNEEDED, same version is already published
kjohnson1macOS 13.6.1 Ventura / arm64see weekly results here
Package 44/80HostnameOS / ArchINSTALLBUILDCHECKBUILD BIN
microbiomeMarker 1.8.0  (landing page)
Yang Cao
git_last_commit: 577f9da
git_last_commit_date: 2023-11-04 04:39:30 -0400
nebbiolo2Linux (Ubuntu 22.04.3 LTS) / x86_64  OK    OK    OK  UNNEEDED, same version is already published
palomino4Windows Server 2022 Datacenter / x64  OK    OK    OK    OK  UNNEEDED, same version is already published
merida1macOS 12.7.1 Monterey / x86_64  OK    OK    OK    OK  UNNEEDED, same version is already published
kjohnson1macOS 13.6.1 Ventura / arm64see weekly results here
Package 45/80HostnameOS / ArchINSTALLBUILDCHECKBUILD BIN
MLSeq 2.20.0  (landing page)
Gokmen Zararsiz
git_last_commit: d41d6a4
git_last_commit_date: 2023-10-24 09:57:54 -0400
nebbiolo2Linux (Ubuntu 22.04.3 LTS) / x86_64  OK    OK    OK  UNNEEDED, same version is already published
palomino4Windows Server 2022 Datacenter / x64  OK    OK    OK    OK  UNNEEDED, same version is already published
merida1macOS 12.7.1 Monterey / x86_64  OK    OK    OK    OK  UNNEEDED, same version is already published
kjohnson1macOS 13.6.1 Ventura / arm64see weekly results here
Package 46/80HostnameOS / ArchINSTALLBUILDCHECKBUILD BIN
MultiRNAflow 1.0.0  (landing page)
Rodolphe Loubaton
git_last_commit: c8ce17d
git_last_commit_date: 2023-10-24 11:50:52 -0400
nebbiolo2Linux (Ubuntu 22.04.3 LTS) / x86_64  OK    OK    OK  UNNEEDED, same version is already published
palomino4Windows Server 2022 Datacenter / x64  OK    OK    OK    OK  UNNEEDED, same version is already published
merida1macOS 12.7.1 Monterey / x86_64  OK    OK    OK    OK  UNNEEDED, same version is already published
kjohnson1macOS 13.6.1 Ventura / arm64see weekly results here
Package 47/80HostnameOS / ArchINSTALLBUILDCHECKBUILD BIN
multiSight 1.10.0  (landing page)
Florian Jeanneret
git_last_commit: b9ae929
git_last_commit_date: 2023-10-24 11:32:57 -0400
nebbiolo2Linux (Ubuntu 22.04.3 LTS) / x86_64  OK    OK    ERROR  
palomino4Windows Server 2022 Datacenter / x64  OK    OK    ERROR    OK  
merida1macOS 12.7.1 Monterey / x86_64  OK    OK    ERROR    OK  
kjohnson1macOS 13.6.1 Ventura / arm64see weekly results here
Package 48/80HostnameOS / ArchINSTALLBUILDCHECKBUILD BIN
muscat 1.16.0  (landing page)
Helena L. Crowell
git_last_commit: 448b1e8
git_last_commit_date: 2023-10-24 11:16:01 -0400
nebbiolo2Linux (Ubuntu 22.04.3 LTS) / x86_64  OK    OK    OK  UNNEEDED, same version is already published
palomino4Windows Server 2022 Datacenter / x64  OK    OK    OK    OK  UNNEEDED, same version is already published
merida1macOS 12.7.1 Monterey / x86_64  OK    OK    OK    OK  UNNEEDED, same version is already published
kjohnson1macOS 13.6.1 Ventura / arm64see weekly results here
Package 49/80HostnameOS / ArchINSTALLBUILDCHECKBUILD BIN
NBAMSeq 1.18.0  (landing page)
Xu Ren
git_last_commit: 56721c1
git_last_commit_date: 2023-10-24 11:12:47 -0400
nebbiolo2Linux (Ubuntu 22.04.3 LTS) / x86_64  OK    OK    OK  UNNEEDED, same version is already published
palomino4Windows Server 2022 Datacenter / x64  OK    OK    OK    OK  UNNEEDED, same version is already published
merida1macOS 12.7.1 Monterey / x86_64  OK    OK    OK    OK  UNNEEDED, same version is already published
kjohnson1macOS 13.6.1 Ventura / arm64see weekly results here
Package 50/80HostnameOS / ArchINSTALLBUILDCHECKBUILD BIN
NetActivity 1.4.0  (landing page)
Carlos Ruiz-Arenas
git_last_commit: 9439204
git_last_commit_date: 2023-10-24 11:45:17 -0400
nebbiolo2Linux (Ubuntu 22.04.3 LTS) / x86_64  OK    OK    OK  UNNEEDED, same version is already published
palomino4Windows Server 2022 Datacenter / x64  OK    OK    ERROR    OK  
merida1macOS 12.7.1 Monterey / x86_64  OK    OK    OK    OK  UNNEEDED, same version is already published
kjohnson1macOS 13.6.1 Ventura / arm64see weekly results here
Package 51/80HostnameOS / ArchINSTALLBUILDCHECKBUILD BIN
octad 1.4.0  (landing page)
E. Chekalin
git_last_commit: 4fe9b79
git_last_commit_date: 2023-10-24 11:45:19 -0400
nebbiolo2Linux (Ubuntu 22.04.3 LTS) / x86_64  OK    OK    OK  UNNEEDED, same version is already published
palomino4Windows Server 2022 Datacenter / x64  OK    OK    OK    OK  UNNEEDED, same version is already published
merida1macOS 12.7.1 Monterey / x86_64  OK    OK    OK    OK  UNNEEDED, same version is already published
kjohnson1macOS 13.6.1 Ventura / arm64see weekly results here
Package 52/80HostnameOS / ArchINSTALLBUILDCHECKBUILD BIN
ORFik 1.22.2  (landing page)
Haakon Tjeldnes
git_last_commit: 38d4748
git_last_commit_date: 2024-02-20 09:22:49 -0400
nebbiolo2Linux (Ubuntu 22.04.3 LTS) / x86_64  OK    OK    OK  UNNEEDED, same version is already published
palomino4Windows Server 2022 Datacenter / x64  OK    OK    ERROR    OK  
merida1macOS 12.7.1 Monterey / x86_64  OK    OK    OK    OK  UNNEEDED, same version is already published
kjohnson1macOS 13.6.1 Ventura / arm64see weekly results here
Package 53/80HostnameOS / ArchINSTALLBUILDCHECKBUILD BIN
OUTRIDER 1.20.0  (landing page)
Christian Mertes
git_last_commit: 0528b44
git_last_commit_date: 2023-10-24 11:06:34 -0400
nebbiolo2Linux (Ubuntu 22.04.3 LTS) / x86_64  OK    OK    OK  UNNEEDED, same version is already published
palomino4Windows Server 2022 Datacenter / x64  OK    OK    OK    OK  UNNEEDED, same version is already published
merida1macOS 12.7.1 Monterey / x86_64  OK    OK    OK    OK  UNNEEDED, same version is already published
kjohnson1macOS 13.6.1 Ventura / arm64see weekly results here
Package 54/80HostnameOS / ArchINSTALLBUILDCHECKBUILD BIN
pairedGSEA 1.2.0  (landing page)
Søren Helweg Dam
git_last_commit: f15ecbd
git_last_commit_date: 2023-10-24 11:48:40 -0400
nebbiolo2Linux (Ubuntu 22.04.3 LTS) / x86_64  OK    OK    OK  UNNEEDED, same version is already published
palomino4Windows Server 2022 Datacenter / x64  OK    OK    OK    OK  UNNEEDED, same version is already published
merida1macOS 12.7.1 Monterey / x86_64  OK    OK    OK    OK  UNNEEDED, same version is already published
kjohnson1macOS 13.6.1 Ventura / arm64see weekly results here
Package 55/80HostnameOS / ArchINSTALLBUILDCHECKBUILD BIN
PathoStat 1.28.0  (landing page)
Solaiappan Manimaran
git_last_commit: e517c5e
git_last_commit_date: 2023-10-24 10:53:23 -0400
nebbiolo2Linux (Ubuntu 22.04.3 LTS) / x86_64  OK    OK    OK  UNNEEDED, same version is already published
palomino4Windows Server 2022 Datacenter / x64  OK    OK    OK    OK  UNNEEDED, same version is already published
merida1macOS 12.7.1 Monterey / x86_64  OK    OK    OK    OK  UNNEEDED, same version is already published
kjohnson1macOS 13.6.1 Ventura / arm64see weekly results here
Package 56/80HostnameOS / ArchINSTALLBUILDCHECKBUILD BIN
pcaExplorer 2.28.0  (landing page)
Federico Marini
git_last_commit: bc5fa86
git_last_commit_date: 2023-10-24 10:49:32 -0400
nebbiolo2Linux (Ubuntu 22.04.3 LTS) / x86_64  OK    OK    OK  UNNEEDED, same version is already published
palomino4Windows Server 2022 Datacenter / x64  OK    OK    OK    OK  UNNEEDED, same version is already published
merida1macOS 12.7.1 Monterey / x86_64  OK    OK    OK    OK  UNNEEDED, same version is already published
kjohnson1macOS 13.6.1 Ventura / arm64see weekly results here
Package 57/80HostnameOS / ArchINSTALLBUILDCHECKBUILD BIN
phantasus 1.22.2  (landing page)
Alexey Sergushichev
git_last_commit: 64188e7
git_last_commit_date: 2023-11-15 12:34:18 -0400
nebbiolo2Linux (Ubuntu 22.04.3 LTS) / x86_64  OK    OK    ERROR  
palomino4Windows Server 2022 Datacenter / x64  OK    OK    OK    OK  UNNEEDED, same version is already published
merida1macOS 12.7.1 Monterey / x86_64  OK    OK    OK    OK  UNNEEDED, same version is already published
kjohnson1macOS 13.6.1 Ventura / arm64see weekly results here
Package 58/80HostnameOS / ArchINSTALLBUILDCHECKBUILD BIN
POMA 1.12.0  (landing page)
Pol Castellano-Escuder
git_last_commit: 6e2f5bc
git_last_commit_date: 2024-02-10 21:44:51 -0400
nebbiolo2Linux (Ubuntu 22.04.3 LTS) / x86_64  OK    OK    OK  UNNEEDED, same version is already published
palomino4Windows Server 2022 Datacenter / x64  OK    OK    OK    OK  UNNEEDED, same version is already published
merida1macOS 12.7.1 Monterey / x86_64  OK    OK    OK    OK  UNNEEDED, same version is already published
kjohnson1macOS 13.6.1 Ventura / arm64see weekly results here
Package 59/80HostnameOS / ArchINSTALLBUILDCHECKBUILD BIN
proActiv 1.12.0  (landing page)
Joseph Lee
git_last_commit: a55e732
git_last_commit_date: 2023-10-24 11:25:31 -0400
nebbiolo2Linux (Ubuntu 22.04.3 LTS) / x86_64  OK    OK    OK  UNNEEDED, same version is already published
palomino4Windows Server 2022 Datacenter / x64  OK    OK    OK    OK  UNNEEDED, same version is already published
merida1macOS 12.7.1 Monterey / x86_64  OK    OK    OK    OK  UNNEEDED, same version is already published
kjohnson1macOS 13.6.1 Ventura / arm64see weekly results here
Package 60/80HostnameOS / ArchINSTALLBUILDCHECKBUILD BIN
RegEnrich 1.12.0  (landing page)
Weiyang Tao
git_last_commit: 0524ae6
git_last_commit_date: 2023-10-24 11:23:04 -0400
nebbiolo2Linux (Ubuntu 22.04.3 LTS) / x86_64  OK    OK    ERROR  
palomino4Windows Server 2022 Datacenter / x64  OK    OK    OK    OK  UNNEEDED, same version is already published
merida1macOS 12.7.1 Monterey / x86_64  OK    OK    OK    OK  UNNEEDED, same version is already published
kjohnson1macOS 13.6.1 Ventura / arm64see weekly results here
Package 61/80HostnameOS / ArchINSTALLBUILDCHECKBUILD BIN
regionReport 1.36.0  (landing page)
Leonardo Collado-Torres
git_last_commit: 33d1df7
git_last_commit_date: 2023-10-24 10:39:04 -0400
nebbiolo2Linux (Ubuntu 22.04.3 LTS) / x86_64  OK    OK    OK  UNNEEDED, same version is already published
palomino4Windows Server 2022 Datacenter / x64  OK    OK    OK    OK  UNNEEDED, same version is already published
merida1macOS 12.7.1 Monterey / x86_64  OK    OK    OK    OK  UNNEEDED, same version is already published
kjohnson1macOS 13.6.1 Ventura / arm64see weekly results here
Package 62/80HostnameOS / ArchINSTALLBUILDCHECKBUILD BIN
ReportingTools 2.42.3  (landing page)
Jason A. Hackney , Gabriel Becker
git_last_commit: fcaebd4
git_last_commit_date: 2023-12-07 14:55:10 -0400
nebbiolo2Linux (Ubuntu 22.04.3 LTS) / x86_64  OK    OK    OK  UNNEEDED, same version is already published
palomino4Windows Server 2022 Datacenter / x64  OK    OK    OK    OK  UNNEEDED, same version is already published
merida1macOS 12.7.1 Monterey / x86_64  OK    OK    OK    OK  UNNEEDED, same version is already published
kjohnson1macOS 13.6.1 Ventura / arm64see weekly results here
Package 63/80HostnameOS / ArchINSTALLBUILDCHECKBUILD BIN
rgsepd 1.34.0  (landing page)
Karl Stamm
git_last_commit: e227887
git_last_commit_date: 2023-10-24 10:40:48 -0400
nebbiolo2Linux (Ubuntu 22.04.3 LTS) / x86_64  OK    OK    OK  UNNEEDED, same version is already published
palomino4Windows Server 2022 Datacenter / x64  OK    OK    OK    OK  UNNEEDED, same version is already published
merida1macOS 12.7.1 Monterey / x86_64  OK    OK    OK    OK  UNNEEDED, same version is already published
kjohnson1macOS 13.6.1 Ventura / arm64see weekly results here
Package 64/80HostnameOS / ArchINSTALLBUILDCHECKBUILD BIN
RiboDiPA 1.10.0  (landing page)
Ji-Ping Wang
git_last_commit: bb0b2d9
git_last_commit_date: 2023-10-24 11:29:22 -0400
nebbiolo2Linux (Ubuntu 22.04.3 LTS) / x86_64  OK    OK    OK  UNNEEDED, same version is already published
palomino4Windows Server 2022 Datacenter / x64  OK    OK    OK    OK  UNNEEDED, same version is already published
merida1macOS 12.7.1 Monterey / x86_64  OK    OK    OK    OK  UNNEEDED, same version is already published
kjohnson1macOS 13.6.1 Ventura / arm64see weekly results here
Package 65/80HostnameOS / ArchINSTALLBUILDCHECKBUILD BIN
Rmmquant 1.20.0  (landing page)
Zytnicki Matthias
git_last_commit: 89552c3
git_last_commit_date: 2023-10-24 11:06:00 -0400
nebbiolo2Linux (Ubuntu 22.04.3 LTS) / x86_64  OK    OK    OK  UNNEEDED, same version is already published
palomino4Windows Server 2022 Datacenter / x64  OK    OK    OK    OK  UNNEEDED, same version is already published
merida1macOS 12.7.1 Monterey / x86_64  OK    OK    OK    OK  UNNEEDED, same version is already published
kjohnson1macOS 13.6.1 Ventura / arm64see weekly results here
Package 66/80HostnameOS / ArchINSTALLBUILDCHECKBUILD BIN
scBFA 1.16.0  (landing page)
Ruoxin Li
git_last_commit: fe10960
git_last_commit_date: 2023-10-24 11:15:31 -0400
nebbiolo2Linux (Ubuntu 22.04.3 LTS) / x86_64  OK    OK    OK  UNNEEDED, same version is already published
palomino4Windows Server 2022 Datacenter / x64  OK    OK    OK    OK  UNNEEDED, same version is already published
merida1macOS 12.7.1 Monterey / x86_64  OK    OK    OK    OK  UNNEEDED, same version is already published
kjohnson1macOS 13.6.1 Ventura / arm64see weekly results here
Package 67/80HostnameOS / ArchINSTALLBUILDCHECKBUILD BIN
scGPS 1.16.0  (landing page)
Quan Nguyen
git_last_commit: a8db94b
git_last_commit_date: 2023-10-24 11:15:17 -0400
nebbiolo2Linux (Ubuntu 22.04.3 LTS) / x86_64  OK    OK    OK  UNNEEDED, same version is already published
palomino4Windows Server 2022 Datacenter / x64  OK    OK    OK    OK  UNNEEDED, same version is already published
merida1macOS 12.7.1 Monterey / x86_64  OK    OK    OK    OK  UNNEEDED, same version is already published
kjohnson1macOS 13.6.1 Ventura / arm64see weekly results here
Package 68/80HostnameOS / ArchINSTALLBUILDCHECKBUILD BIN
SeqGSEA 1.42.0  (landing page)
Xi Wang
git_last_commit: 09222b3
git_last_commit_date: 2023-10-24 09:53:39 -0400
nebbiolo2Linux (Ubuntu 22.04.3 LTS) / x86_64  OK    OK    OK  UNNEEDED, same version is already published
palomino4Windows Server 2022 Datacenter / x64  OK    OK    OK    OK  UNNEEDED, same version is already published
merida1macOS 12.7.1 Monterey / x86_64  OK    OK    OK    OK  UNNEEDED, same version is already published
kjohnson1macOS 13.6.1 Ventura / arm64see weekly results here
Package 69/80HostnameOS / ArchINSTALLBUILDCHECKBUILD BIN
SEtools 1.16.0  (landing page)
Pierre-Luc Germain
git_last_commit: e4c1465
git_last_commit_date: 2023-10-24 11:16:19 -0400
nebbiolo2Linux (Ubuntu 22.04.3 LTS) / x86_64  OK    OK    OK  UNNEEDED, same version is already published
palomino4Windows Server 2022 Datacenter / x64  OK    OK    OK    OK  UNNEEDED, same version is already published
merida1macOS 12.7.1 Monterey / x86_64  OK    OK    OK    OK  UNNEEDED, same version is already published
kjohnson1macOS 13.6.1 Ventura / arm64see weekly results here
Package 70/80HostnameOS / ArchINSTALLBUILDCHECKBUILD BIN
singleCellTK 2.12.2  (landing page)
Joshua David Campbell
git_last_commit: 14c92130
git_last_commit_date: 2024-02-05 14:45:10 -0400
nebbiolo2Linux (Ubuntu 22.04.3 LTS) / x86_64  OK    OK    OK  UNNEEDED, same version is already published
palomino4Windows Server 2022 Datacenter / x64  OK    OK    OK    OK  UNNEEDED, same version is already published
merida1macOS 12.7.1 Monterey / x86_64  OK    OK    OK    OK  UNNEEDED, same version is already published
kjohnson1macOS 13.6.1 Ventura / arm64see weekly results here
Package 71/80HostnameOS / ArchINSTALLBUILDCHECKBUILD BIN
SNPhood 1.32.0  (landing page)
Christian Arnold
git_last_commit: 4985db5
git_last_commit_date: 2023-10-24 10:45:59 -0400
nebbiolo2Linux (Ubuntu 22.04.3 LTS) / x86_64  OK    OK    OK  UNNEEDED, same version is already published
palomino4Windows Server 2022 Datacenter / x64  OK    OK    OK    OK  UNNEEDED, same version is already published
merida1macOS 12.7.1 Monterey / x86_64  OK    OK    OK    OK  UNNEEDED, same version is already published
kjohnson1macOS 13.6.1 Ventura / arm64see weekly results here
Package 72/80HostnameOS / ArchINSTALLBUILDCHECKBUILD BIN
srnadiff 1.22.2  (landing page)
Zytnicki Matthias
git_last_commit: 7ddd95f
git_last_commit_date: 2024-03-07 15:02:50 -0400
nebbiolo2Linux (Ubuntu 22.04.3 LTS) / x86_64  OK    OK    WARNINGS  UNNEEDED, same version is already published
palomino4Windows Server 2022 Datacenter / x64  OK    OK    WARNINGS    OK  UNNEEDED, same version is already published
merida1macOS 12.7.1 Monterey / x86_64  OK    OK    WARNINGS    OK  UNNEEDED, same version is already published
kjohnson1macOS 13.6.1 Ventura / arm64see weekly results here
Package 73/80HostnameOS / ArchINSTALLBUILDCHECKBUILD BIN
systemPipeTools 1.10.0  (landing page)
Daniela Cassol
git_last_commit: 41d021a
git_last_commit_date: 2023-10-24 11:34:09 -0400
nebbiolo2Linux (Ubuntu 22.04.3 LTS) / x86_64  OK    OK    WARNINGS  UNNEEDED, same version is already published
palomino4Windows Server 2022 Datacenter / x64  OK    OK    WARNINGS    OK  UNNEEDED, same version is already published
merida1macOS 12.7.1 Monterey / x86_64  OK    OK    WARNINGS    OK  UNNEEDED, same version is already published
kjohnson1macOS 13.6.1 Ventura / arm64see weekly results here
Package 74/80HostnameOS / ArchINSTALLBUILDCHECKBUILD BIN
TBSignatureProfiler 1.14.0  (landing page)
Aubrey R. Odom
git_last_commit: 373e8f1
git_last_commit_date: 2023-10-24 11:21:49 -0400
nebbiolo2Linux (Ubuntu 22.04.3 LTS) / x86_64  OK    OK    OK  UNNEEDED, same version is already published
palomino4Windows Server 2022 Datacenter / x64  OK    OK    OK    OK  UNNEEDED, same version is already published
merida1macOS 12.7.1 Monterey / x86_64  OK    OK    OK    OK  UNNEEDED, same version is already published
kjohnson1macOS 13.6.1 Ventura / arm64see weekly results here
Package 75/80HostnameOS / ArchINSTALLBUILDCHECKBUILD BIN
TCC 1.42.0  (landing page)
Jianqiang Sun
git_last_commit: b2650a4
git_last_commit_date: 2023-10-24 09:55:38 -0400
nebbiolo2Linux (Ubuntu 22.04.3 LTS) / x86_64  OK    OK    WARNINGS  UNNEEDED, same version is already published
palomino4Windows Server 2022 Datacenter / x64  OK    OK    WARNINGS    OK  UNNEEDED, same version is already published
merida1macOS 12.7.1 Monterey / x86_64  OK    OK    WARNINGS    OK  UNNEEDED, same version is already published
kjohnson1macOS 13.6.1 Ventura / arm64see weekly results here
Package 76/80HostnameOS / ArchINSTALLBUILDCHECKBUILD BIN
TEKRABber 1.6.0  (landing page)
Yao-Chung Chen
git_last_commit: af5587c
git_last_commit_date: 2023-10-24 11:39:35 -0400
nebbiolo2Linux (Ubuntu 22.04.3 LTS) / x86_64  OK    OK    OK  UNNEEDED, same version is already published
palomino4Windows Server 2022 Datacenter / x64  OK    OK    OK    OK  UNNEEDED, same version is already published
merida1macOS 12.7.1 Monterey / x86_64  OK    OK    OK    OK  UNNEEDED, same version is already published
kjohnson1macOS 13.6.1 Ventura / arm64see weekly results here
Package 77/80HostnameOS / ArchINSTALLBUILDCHECKBUILD BIN
tRanslatome 1.40.0  (landing page)
Toma Tebaldi , Erik Dassi
git_last_commit: cc9f72e
git_last_commit_date: 2023-10-24 09:54:10 -0400
nebbiolo2Linux (Ubuntu 22.04.3 LTS) / x86_64  OK    OK    OK  UNNEEDED, same version is already published
palomino4Windows Server 2022 Datacenter / x64  OK    OK    OK    OK  UNNEEDED, same version is already published
merida1macOS 12.7.1 Monterey / x86_64  OK    OK    OK    OK  UNNEEDED, same version is already published
kjohnson1macOS 13.6.1 Ventura / arm64see weekly results here
Package 78/80HostnameOS / ArchINSTALLBUILDCHECKBUILD BIN
UMI4Cats 1.12.0  (landing page)
Mireia Ramos-Rodriguez
git_last_commit: e9eed0e
git_last_commit_date: 2024-03-22 08:01:25 -0400
nebbiolo2Linux (Ubuntu 22.04.3 LTS) / x86_64  OK    OK    OK  UNNEEDED, same version is already published
palomino4Windows Server 2022 Datacenter / x64  OK    OK    OK    OK  UNNEEDED, same version is already published
merida1macOS 12.7.1 Monterey / x86_64  OK    OK    OK    OK  UNNEEDED, same version is already published
kjohnson1macOS 13.6.1 Ventura / arm64see weekly results here
Package 79/80HostnameOS / ArchINSTALLBUILDCHECKBUILD BIN
vidger 1.22.0  (landing page)
Brandon Monier
git_last_commit: c0d4628
git_last_commit_date: 2023-10-24 11:03:10 -0400
nebbiolo2Linux (Ubuntu 22.04.3 LTS) / x86_64  OK    OK    OK  UNNEEDED, same version is already published
palomino4Windows Server 2022 Datacenter / x64  OK    OK    OK    OK  UNNEEDED, same version is already published
merida1macOS 12.7.1 Monterey / x86_64  OK    OK    OK    OK  UNNEEDED, same version is already published
kjohnson1macOS 13.6.1 Ventura / arm64see weekly results here
Package 80/80HostnameOS / ArchINSTALLBUILDCHECKBUILD BIN
vulcan 1.24.0  (landing page)
Federico M. Giorgi
git_last_commit: d5a737d
git_last_commit_date: 2023-10-24 11:00:06 -0400
nebbiolo2Linux (Ubuntu 22.04.3 LTS) / x86_64  OK    OK    OK  UNNEEDED, same version is already published
palomino4Windows Server 2022 Datacenter / x64  OK    OK    OK    OK  UNNEEDED, same version is already published
merida1macOS 12.7.1 Monterey / x86_64  OK    OK    OK    OK  UNNEEDED, same version is already published
kjohnson1macOS 13.6.1 Ventura / arm64see weekly results here