Back to Multiple platform build/check report for BioC 3.12
ABCDEF[G]HIJKLMNOPQRSTUVWXYZ

BUILD report for gcapc on merida1

This page was generated on 2021-01-19 11:57:25 -0500 (Tue, 19 Jan 2021).

TO THE DEVELOPERS/MAINTAINERS OF THE gcapc PACKAGE: Please make sure to use the following settings in order to reproduce any error or warning you see on this page.
Package 667/1974HostnameOS / ArchINSTALLBUILDCHECKBUILD BIN
gcapc 1.14.0
Mingxiang Teng
Snapshot Date: 2021-01-18 14:42:24 -0500 (Mon, 18 Jan 2021)
URL: https://git.bioconductor.org/packages/gcapc
Branch: RELEASE_3_12
Last Commit: 6c7d83d
Last Changed Date: 2020-10-27 11:20:02 -0500 (Tue, 27 Oct 2020)
malbec1 Linux (Ubuntu 18.04.5 LTS) / x86_64  OK  OK  OK UNNEEDED, same version exists in internal repository
nebbiolo1 Linux (Ubuntu 20.04.1 LTS) / x86_64  OK  OK  OK 
tokay1 Windows Server 2012 R2 Standard / x64  OK  OK  WARNINGS  OK UNNEEDED, same version exists in internal repository
merida1 macOS 10.14.6 Mojave / x86_64  OK [ OK ] OK  OK UNNEEDED, same version exists in internal repository

Summary

Package: gcapc
Version: 1.14.0
Command: /Library/Frameworks/R.framework/Versions/Current/Resources/bin/R CMD build --keep-empty-dirs --no-resave-data gcapc
StartedAt: 2021-01-18 19:40:32 -0500 (Mon, 18 Jan 2021)
EndedAt: 2021-01-18 19:44:19 -0500 (Mon, 18 Jan 2021)
EllapsedTime: 226.7 seconds
RetCode: 0
Status:  OK 
PackageFile: gcapc_1.14.0.tar.gz
PackageFileSize: 3.59 MiB

Command output

##############################################################################
##############################################################################
###
### Running command:
###
###   /Library/Frameworks/R.framework/Versions/Current/Resources/bin/R CMD build --keep-empty-dirs --no-resave-data gcapc
###
##############################################################################
##############################################################################


* checking for file ‘gcapc/DESCRIPTION’ ... OK
* preparing ‘gcapc’:
* checking DESCRIPTION meta-information ... OK
* installing the package to build vignettes
* creating vignettes ... OK
* checking for LF line-endings in source and make files and shell scripts
* checking for empty or unneeded directories
* building ‘gcapc_1.14.0.tar.gz’