Back to Multiple platform build/check report for BioC 3.19:   simplified   long
ABCDEF[G]HIJKLMNOPQRSTUVWXYZ

This page was generated on 2024-07-19 17:36 -0400 (Fri, 19 Jul 2024).

HostnameOSArch (*)R versionInstalled pkgs
nebbiolo1Linux (Ubuntu 22.04.3 LTS)x86_644.4.1 (2024-06-14) -- "Race for Your Life" 4742
palomino7Windows Server 2022 Datacenterx644.4.1 (2024-06-14 ucrt) -- "Race for Your Life" 4484
merida1macOS 12.7.5 Montereyx86_644.4.1 (2024-06-14) -- "Race for Your Life" 4513
kjohnson1macOS 13.6.6 Venturaarm644.4.1 (2024-06-14) -- "Race for Your Life" 4462
Click on any hostname to see more info about the system (e.g. compilers)      (*) as reported by 'uname -p', except on Windows and Mac OS X

All results for package GenomicFeatures


To the developers/maintainers of the GenomicFeatures package:
- Allow up to 24 hours (and sometimes 48 hours) for your latest push to git@git.bioconductor.org:packages/GenomicFeatures.git to reflect on this report. See Troubleshooting Build Report for more information.
- Use the following Renviron settings to reproduce errors and warnings.
- If 'R CMD check' started to fail recently on the Linux builder(s) over a missing dependency, add the missing dependency to 'Suggests:' in your DESCRIPTION file. See Renviron.bioc for more information.

raw results

Package 832/2300HostnameOS / ArchINSTALLBUILDCHECKBUILD BIN
GenomicFeatures 1.56.0  (landing page)
H. Pagès
Snapshot Date: 2024-07-17 14:00 -0400 (Wed, 17 Jul 2024)
git_url: https://git.bioconductor.org/packages/GenomicFeatures
git_branch: RELEASE_3_19
git_last_commit: e3c5136
git_last_commit_date: 2024-04-30 13:30:42 -0400 (Tue, 30 Apr 2024)
nebbiolo1Linux (Ubuntu 22.04.3 LTS) / x86_64  OK    OK    OK  UNNEEDED, same version is already published
palomino7Windows Server 2022 Datacenter / x64  OK    OK    OK    OK  
merida1macOS 12.7.5 Monterey / x86_64  OK    OK    OK    OK  UNNEEDED, same version is already published
kjohnson1macOS 13.6.6 Ventura / arm64  OK    OK    OK    OK  UNNEEDED, same version is already published



Results for Bioconductor software packages that depend directly on package GenomicFeatures

QUICK STATSOS / ArchINSTALLBUILDCHECKBUILD BIN
nebbiolo1Linux (Ubuntu 22.04.3 LTS) / x86_64
01141
04138
1526106
palomino7Windows Server 2022 Datacenter / x64
03136
06133
1228102
00133
merida1macOS 12.7.5 Monterey / x86_64
01140
14136
5225104
00136
kjohnson1macOS 13.6.6 Ventura / arm64
02139
16134
1327103
0078
Package 1/142HostnameOS / ArchINSTALLBUILDCHECKBUILD BIN
AllelicImbalance 1.42.0  (landing page)
Jesper R Gadin
git_last_commit: 4dc686c
git_last_commit_date: 2024-04-30 10:33:42 -0400
nebbiolo1Linux (Ubuntu 22.04.3 LTS) / x86_64  OK    OK    OK  UNNEEDED, same version is already published
palomino7Windows Server 2022 Datacenter / x64  OK    OK    OK    OK  
merida1macOS 12.7.5 Monterey / x86_64  OK    OK    OK    OK  UNNEEDED, same version is already published
kjohnson1macOS 13.6.6 Ventura / arm64  OK    OK    OK    OK  UNNEEDED, same version is already published
Package 2/142HostnameOS / ArchINSTALLBUILDCHECKBUILD BIN
AnnotationHubData 1.34.0  (landing page)
Bioconductor Package Maintainer
git_last_commit: f7d9109
git_last_commit_date: 2024-04-30 10:45:30 -0400
nebbiolo1Linux (Ubuntu 22.04.3 LTS) / x86_64  OK    OK    WARNINGS  UNNEEDED, same version is already published
palomino7Windows Server 2022 Datacenter / x64  OK    OK    WARNINGS    OK  
merida1macOS 12.7.5 Monterey / x86_64  OK    OK    WARNINGS    OK  UNNEEDED, same version is already published
kjohnson1macOS 13.6.6 Ventura / arm64  OK    OK    WARNINGS    OK  UNNEEDED, same version is already published
Package 3/142HostnameOS / ArchINSTALLBUILDCHECKBUILD BIN
annotatr 1.30.0  (landing page)
Raymond G. Cavalcante
git_last_commit: aa1c8ba
git_last_commit_date: 2024-04-30 10:54:39 -0400
nebbiolo1Linux (Ubuntu 22.04.3 LTS) / x86_64  OK    ERROR  skipped
palomino7Windows Server 2022 Datacenter / x64  OK    ERROR  skippedskipped
merida1macOS 12.7.5 Monterey / x86_64  OK    OK    OK    OK  UNNEEDED, same version is already published
kjohnson1macOS 13.6.6 Ventura / arm64  OK    OK    OK    OK  UNNEEDED, same version is already published
Package 4/142HostnameOS / ArchINSTALLBUILDCHECKBUILD BIN
APAlyzer 1.18.0  (landing page)
Ruijia Wang
git_last_commit: 2f81d23
git_last_commit_date: 2024-04-30 11:16:25 -0400
nebbiolo1Linux (Ubuntu 22.04.3 LTS) / x86_64  OK    OK    WARNINGS  UNNEEDED, same version is already published
palomino7Windows Server 2022 Datacenter / x64  OK    OK    WARNINGS    OK  
merida1macOS 12.7.5 Monterey / x86_64  OK    OK    WARNINGS    OK  UNNEEDED, same version is already published
kjohnson1macOS 13.6.6 Ventura / arm64  OK    OK    WARNINGS    OK  UNNEEDED, same version is already published
Package 5/142HostnameOS / ArchINSTALLBUILDCHECKBUILD BIN
appreci8R 1.22.0  (landing page)
Sarah Sandmann
git_last_commit: 0629a87
git_last_commit_date: 2024-04-30 11:07:43 -0400
nebbiolo1Linux (Ubuntu 22.04.3 LTS) / x86_64  OK    OK    OK  UNNEEDED, same version is already published
palomino7Windows Server 2022 Datacenter / x64  OK    OK    OK    OK  
merida1macOS 12.7.5 Monterey / x86_64  OK    OK    OK    OK  UNNEEDED, same version is already published
kjohnson1macOS 13.6.6 Ventura / arm64  OK    OK    OK    OK  UNNEEDED, same version is already published
Package 6/142HostnameOS / ArchINSTALLBUILDCHECKBUILD BIN
ASpli 2.14.0  (landing page)
Ariel Chernomoretz
git_last_commit: 11a1f6e
git_last_commit_date: 2024-04-30 10:52:43 -0400
nebbiolo1Linux (Ubuntu 22.04.3 LTS) / x86_64  OK    OK    WARNINGS  UNNEEDED, same version is already published
palomino7Windows Server 2022 Datacenter / x64  OK    OK    WARNINGS    OK  
merida1macOS 12.7.5 Monterey / x86_64  OK    OK    WARNINGS    OK  UNNEEDED, same version is already published
kjohnson1macOS 13.6.6 Ventura / arm64  OK    OK    WARNINGS    OK  UNNEEDED, same version is already published
Package 7/142HostnameOS / ArchINSTALLBUILDCHECKBUILD BIN
ATACCoGAPS 1.6.0  (landing page)
Rossin Erbe
git_last_commit: d9555fb
git_last_commit_date: 2024-04-30 11:43:31 -0400
nebbiolo1Linux (Ubuntu 22.04.3 LTS) / x86_64  OK    OK    OK  UNNEEDED, same version is already published
palomino7Windows Server 2022 Datacenter / x64  OK    OK    OK    OK  
merida1macOS 12.7.5 Monterey / x86_64  OK    OK    OK    OK  UNNEEDED, same version is already published
kjohnson1macOS 13.6.6 Ventura / arm64  OK    OK    OK    OK  NO, package depends on 'TFBSTools' which is only available as a source package that needs compilation
Package 8/142HostnameOS / ArchINSTALLBUILDCHECKBUILD BIN
atena 1.10.0  (landing page)
Robert Castelo
git_last_commit: 7e1c59e
git_last_commit_date: 2024-04-30 11:37:21 -0400
nebbiolo1Linux (Ubuntu 22.04.3 LTS) / x86_64  OK    OK    OK  UNNEEDED, same version is already published
palomino7Windows Server 2022 Datacenter / x64  OK    OK    OK    OK  
merida1macOS 12.7.5 Monterey / x86_64  OK    OK    OK    OK  UNNEEDED, same version is already published
kjohnson1macOS 13.6.6 Ventura / arm64  OK    OK    OK    OK  UNNEEDED, same version is already published
Package 9/142HostnameOS / ArchINSTALLBUILDCHECKBUILD BIN
bambu 3.6.0  (landing page)
Ying Chen
git_last_commit: f32777f
git_last_commit_date: 2024-04-30 11:28:33 -0400
nebbiolo1Linux (Ubuntu 22.04.3 LTS) / x86_64  OK    OK    OK  UNNEEDED, same version is already published
palomino7Windows Server 2022 Datacenter / x64  OK    OK    OK    OK  
merida1macOS 12.7.5 Monterey / x86_64  OK    OK    OK    OK  UNNEEDED, same version is already published
kjohnson1macOS 13.6.6 Ventura / arm64  OK    OK    OK    OK  UNNEEDED, same version is already published
Package 10/142HostnameOS / ArchINSTALLBUILDCHECKBUILD BIN
BgeeCall 1.20.1  (landing page)
Julien Wollbrett
git_last_commit: 77e8402
git_last_commit_date: 2024-07-12 06:53:37 -0400
nebbiolo1Linux (Ubuntu 22.04.3 LTS) / x86_64  OK    ERROR  skipped
palomino7Windows Server 2022 Datacenter / x64  OK    OK    OK    OK  
merida1macOS 12.7.5 Monterey / x86_64  OK    OK    OK    OK  UNNEEDED, same version is already published
kjohnson1macOS 13.6.6 Ventura / arm64  OK    OK    OK    OK  UNNEEDED, same version is already published
Package 11/142HostnameOS / ArchINSTALLBUILDCHECKBUILD BIN
BindingSiteFinder 2.2.0  (landing page)
Mirko Brüggemann
git_last_commit: 1e3a377
git_last_commit_date: 2024-04-30 11:36:02 -0400
nebbiolo1Linux (Ubuntu 22.04.3 LTS) / x86_64  OK    OK    OK  UNNEEDED, same version is already published
palomino7Windows Server 2022 Datacenter / x64  OK    OK    OK    OK  
merida1macOS 12.7.5 Monterey / x86_64  OK    OK    OK    OK  UNNEEDED, same version is already published
kjohnson1macOS 13.6.6 Ventura / arm64  OK    OK    OK    OK  UNNEEDED, same version is already published
Package 12/142HostnameOS / ArchINSTALLBUILDCHECKBUILD BIN
BiocOncoTK 1.24.0  (landing page)
VJ Carey
git_last_commit: 73631bd
git_last_commit_date: 2024-04-30 11:06:23 -0400
nebbiolo1Linux (Ubuntu 22.04.3 LTS) / x86_64  OK    OK    OK  UNNEEDED, same version is already published
palomino7Windows Server 2022 Datacenter / x64  OK    ERROR  skippedskipped
merida1macOS 12.7.5 Monterey / x86_64  OK    OK    OK    OK  UNNEEDED, same version is already published
kjohnson1macOS 13.6.6 Ventura / arm64  OK    OK    OK    OK  UNNEEDED, same version is already published
Package 13/142HostnameOS / ArchINSTALLBUILDCHECKBUILD BIN
biovizBase 1.52.0  (landing page)
Michael Lawrence
git_last_commit: 1cfd8c1
git_last_commit_date: 2024-04-30 10:25:43 -0400
nebbiolo1Linux (Ubuntu 22.04.3 LTS) / x86_64  OK    OK    WARNINGS  UNNEEDED, same version is already published
palomino7Windows Server 2022 Datacenter / x64  OK    OK    WARNINGS    OK  
merida1macOS 12.7.5 Monterey / x86_64  OK    OK    WARNINGS    OK  UNNEEDED, same version is already published
kjohnson1macOS 13.6.6 Ventura / arm64  OK    OK    WARNINGS    OK  UNNEEDED, same version is already published
Package 14/142HostnameOS / ArchINSTALLBUILDCHECKBUILD BIN
bumphunter 1.46.0  (landing page)
Tamilselvi Guharaj
git_last_commit: 5a10300
git_last_commit_date: 2024-04-30 10:29:50 -0400
nebbiolo1Linux (Ubuntu 22.04.3 LTS) / x86_64  OK    OK    OK  UNNEEDED, same version is already published
palomino7Windows Server 2022 Datacenter / x64  OK    OK    OK    OK  
merida1macOS 12.7.5 Monterey / x86_64  OK    OK    OK    OK  UNNEEDED, same version is already published
kjohnson1macOS 13.6.6 Ventura / arm64  OK    OK    OK    OK  UNNEEDED, same version is already published
Package 15/142HostnameOS / ArchINSTALLBUILDCHECKBUILD BIN
BUSpaRse 1.18.0  (landing page)
Lambda Moses
git_last_commit: 3d24c55
git_last_commit_date: 2024-04-30 11:16:44 -0400
nebbiolo1Linux (Ubuntu 22.04.3 LTS) / x86_64  OK    OK    ERROR  
palomino7Windows Server 2022 Datacenter / x64  OK    OK    ERROR    OK  
merida1macOS 12.7.5 Monterey / x86_64  OK    OK    ERROR    OK  
kjohnson1macOS 13.6.6 Ventura / arm64  OK    OK    ERROR    OK  
Package 16/142HostnameOS / ArchINSTALLBUILDCHECKBUILD BIN
CAGEfightR 1.24.0  (landing page)
Malte Thodberg
git_last_commit: e83345a
git_last_commit_date: 2024-04-30 11:06:32 -0400
nebbiolo1Linux (Ubuntu 22.04.3 LTS) / x86_64  OK    OK    OK  UNNEEDED, same version is already published
palomino7Windows Server 2022 Datacenter / x64  OK    OK    OK    OK  
merida1macOS 12.7.5 Monterey / x86_64  OK    OK    OK    OK  UNNEEDED, same version is already published
kjohnson1macOS 13.6.6 Ventura / arm64  OK    OK    OK    OK  UNNEEDED, same version is already published
Package 17/142HostnameOS / ArchINSTALLBUILDCHECKBUILD BIN
casper 2.38.0  (landing page)
David Rossell
git_last_commit: fc6ff88
git_last_commit_date: 2024-04-30 10:30:14 -0400
nebbiolo1Linux (Ubuntu 22.04.3 LTS) / x86_64  OK    OK    OK  UNNEEDED, same version is already published
palomino7Windows Server 2022 Datacenter / x64  OK    OK    WARNINGS    OK  
merida1macOS 12.7.5 Monterey / x86_64  OK    ERROR  skippedskipped
kjohnson1macOS 13.6.6 Ventura / arm64  OK    ERROR  skippedskipped
Package 18/142HostnameOS / ArchINSTALLBUILDCHECKBUILD BIN
ChIPpeakAnno 3.38.1  (landing page)
Jianhong Ou
git_last_commit: 6b07376
git_last_commit_date: 2024-07-03 13:41:54 -0400
nebbiolo1Linux (Ubuntu 22.04.3 LTS) / x86_64  OK    OK    OK  UNNEEDED, same version is already published
palomino7Windows Server 2022 Datacenter / x64  OK    OK    OK    OK  
merida1macOS 12.7.5 Monterey / x86_64  OK    TIMEOUT  skippedskipped
kjohnson1macOS 13.6.6 Ventura / arm64  OK    OK    OK    OK  UNNEEDED, same version is already published
Package 19/142HostnameOS / ArchINSTALLBUILDCHECKBUILD BIN
ChIPQC 1.40.0  (landing page)
Tom Carroll , Rory Stark
git_last_commit: b105a43
git_last_commit_date: 2024-04-30 10:35:54 -0400
nebbiolo1Linux (Ubuntu 22.04.3 LTS) / x86_64  OK    OK    WARNINGS  UNNEEDED, same version is already published
palomino7Windows Server 2022 Datacenter / x64  OK    OK    WARNINGS    OK  
merida1macOS 12.7.5 Monterey / x86_64  OK    OK    WARNINGS    OK  UNNEEDED, same version is already published
kjohnson1macOS 13.6.6 Ventura / arm64  OK    OK    WARNINGS    OK  UNNEEDED, same version is already published
Package 20/142HostnameOS / ArchINSTALLBUILDCHECKBUILD BIN
ChIPseeker 1.40.0  (landing page)
Guangchuang Yu
git_last_commit: 8063d66
git_last_commit_date: 2024-04-30 10:36:31 -0400
nebbiolo1Linux (Ubuntu 22.04.3 LTS) / x86_64  OK    OK    OK  UNNEEDED, same version is already published
palomino7Windows Server 2022 Datacenter / x64  OK    OK    OK    OK  
merida1macOS 12.7.5 Monterey / x86_64  OK    OK    TIMEOUT    OK  
kjohnson1macOS 13.6.6 Ventura / arm64  OK    OK    OK    OK  UNNEEDED, same version is already published
Package 21/142HostnameOS / ArchINSTALLBUILDCHECKBUILD BIN
Cogito 1.10.0  (landing page)
Annika Bürger
git_last_commit: f64c84b
git_last_commit_date: 2024-04-30 11:38:11 -0400
nebbiolo1Linux (Ubuntu 22.04.3 LTS) / x86_64  OK    OK    OK  UNNEEDED, same version is already published
palomino7Windows Server 2022 Datacenter / x64  OK    OK    OK    OK  
merida1macOS 12.7.5 Monterey / x86_64  OK    OK    OK    OK  UNNEEDED, same version is already published
kjohnson1macOS 13.6.6 Ventura / arm64  OK    OK    OK    OK  UNNEEDED, same version is already published
Package 22/142HostnameOS / ArchINSTALLBUILDCHECKBUILD BIN
compEpiTools 1.38.0  (landing page)
Mattia Furlan
git_last_commit: b4f7b92
git_last_commit_date: 2024-04-30 10:38:11 -0400
nebbiolo1Linux (Ubuntu 22.04.3 LTS) / x86_64  OK    OK    OK  UNNEEDED, same version is already published
palomino7Windows Server 2022 Datacenter / x64  OK    OK    OK    OK  
merida1macOS 12.7.5 Monterey / x86_64  OK    OK    OK    OK  UNNEEDED, same version is already published
kjohnson1macOS 13.6.6 Ventura / arm64  OK    OK    OK    OK  UNNEEDED, same version is already published
Package 23/142HostnameOS / ArchINSTALLBUILDCHECKBUILD BIN
consensusDE 1.22.0  (landing page)
Ashley J. Waardenberg
git_last_commit: 3077d7a
git_last_commit_date: 2024-04-30 11:10:39 -0400
nebbiolo1Linux (Ubuntu 22.04.3 LTS) / x86_64  OK    OK    OK  UNNEEDED, same version is already published
palomino7Windows Server 2022 Datacenter / x64  OK    OK    OK    OK  
merida1macOS 12.7.5 Monterey / x86_64  OK    OK    OK    OK  UNNEEDED, same version is already published
kjohnson1macOS 13.6.6 Ventura / arm64  OK    OK    OK    OK  UNNEEDED, same version is already published
Package 24/142HostnameOS / ArchINSTALLBUILDCHECKBUILD BIN
cpvSNP 1.36.0  (landing page)
Caitlin McHugh
git_last_commit: 0e7cf24
git_last_commit_date: 2024-04-30 10:40:48 -0400
nebbiolo1Linux (Ubuntu 22.04.3 LTS) / x86_64  OK    OK    OK  UNNEEDED, same version is already published
palomino7Windows Server 2022 Datacenter / x64  OK    OK    OK    OK  
merida1macOS 12.7.5 Monterey / x86_64  OK    OK    OK    OK  UNNEEDED, same version is already published
kjohnson1macOS 13.6.6 Ventura / arm64  OK    OK    OK    OK  UNNEEDED, same version is already published
Package 25/142HostnameOS / ArchINSTALLBUILDCHECKBUILD BIN
crisprDesign 1.6.0  (landing page)
Jean-Philippe Fortin
git_last_commit: 9c8b631
git_last_commit_date: 2024-04-30 11:43:47 -0400
nebbiolo1Linux (Ubuntu 22.04.3 LTS) / x86_64  OK    OK    OK  UNNEEDED, same version is already published
palomino7Windows Server 2022 Datacenter / x64  OK    OK    OK    OK  
merida1macOS 12.7.5 Monterey / x86_64  OK    OK    OK    OK  UNNEEDED, same version is already published
kjohnson1macOS 13.6.6 Ventura / arm64  OK    OK    OK    OK  UNNEEDED, same version is already published
Package 26/142HostnameOS / ArchINSTALLBUILDCHECKBUILD BIN
crisprseekplus 1.30.0  (landing page)
Alper Kucukural
git_last_commit: 543b7be
git_last_commit_date: 2024-04-30 10:54:36 -0400
nebbiolo1Linux (Ubuntu 22.04.3 LTS) / x86_64  OK    OK    ERROR  
palomino7Windows Server 2022 Datacenter / x64  OK    OK    OK    OK  
merida1macOS 12.7.5 Monterey / x86_64  OK    OK    OK    OK  UNNEEDED, same version is already published
kjohnson1macOS 13.6.6 Ventura / arm64  OK    OK    OK    OK  UNNEEDED, same version is already published
Package 27/142HostnameOS / ArchINSTALLBUILDCHECKBUILD BIN
crisprViz 1.6.0  (landing page)
Jean-Philippe Fortin
git_last_commit: 11641c3
git_last_commit_date: 2024-04-30 11:44:44 -0400
nebbiolo1Linux (Ubuntu 22.04.3 LTS) / x86_64  OK    OK    OK  UNNEEDED, same version is already published
palomino7Windows Server 2022 Datacenter / x64  OK    OK    OK    OK  
merida1macOS 12.7.5 Monterey / x86_64  OK    OK    OK    OK  UNNEEDED, same version is already published
kjohnson1macOS 13.6.6 Ventura / arm64  OK    OK    OK    OK  UNNEEDED, same version is already published
Package 28/142HostnameOS / ArchINSTALLBUILDCHECKBUILD BIN
CSSQ 1.16.0  (landing page)
Fan Lab at Georgia Institute of Technology
git_last_commit: c1a83d2
git_last_commit_date: 2024-04-30 11:19:38 -0400
nebbiolo1Linux (Ubuntu 22.04.3 LTS) / x86_64  OK    OK    OK  UNNEEDED, same version is already published
palomino7Windows Server 2022 Datacenter / x64  OK    OK    OK    OK  
merida1macOS 12.7.5 Monterey / x86_64  OK    OK    OK    OK  UNNEEDED, same version is already published
kjohnson1macOS 13.6.6 Ventura / arm64  OK    OK    OK    OK  UNNEEDED, same version is already published
Package 29/142HostnameOS / ArchINSTALLBUILDCHECKBUILD BIN
customProDB 1.44.0  (landing page)
Xiaojing Wang
git_last_commit: 4cc0d41
git_last_commit_date: 2024-04-30 10:32:13 -0400
nebbiolo1Linux (Ubuntu 22.04.3 LTS) / x86_64  OK    OK    WARNINGS  UNNEEDED, same version is already published
palomino7Windows Server 2022 Datacenter / x64  OK    OK    WARNINGS    OK  
merida1macOS 12.7.5 Monterey / x86_64  OK    OK    WARNINGS    OK  UNNEEDED, same version is already published
kjohnson1macOS 13.6.6 Ventura / arm64  OK    OK    WARNINGS    OK  UNNEEDED, same version is already published
Package 30/142HostnameOS / ArchINSTALLBUILDCHECKBUILD BIN
Damsel 1.0.0  (landing page)
Caitlin Page
git_last_commit: f617ae8
git_last_commit_date: 2024-04-30 11:56:05 -0400
nebbiolo1Linux (Ubuntu 22.04.3 LTS) / x86_64  OK    OK    OK  UNNEEDED, same version is already published
palomino7Windows Server 2022 Datacenter / x64  OK    OK    OK    OK  
merida1macOS 12.7.5 Monterey / x86_64  OK    OK    OK    OK  UNNEEDED, same version is already published
kjohnson1macOS 13.6.6 Ventura / arm64  OK    OK    OK    OK  UNNEEDED, same version is already published
Package 31/142HostnameOS / ArchINSTALLBUILDCHECKBUILD BIN
decompTumor2Sig 2.20.0  (landing page)
Rosario M. Piro
git_last_commit: 7c2b408
git_last_commit_date: 2024-04-30 11:11:25 -0400
nebbiolo1Linux (Ubuntu 22.04.3 LTS) / x86_64  OK    OK    OK  UNNEEDED, same version is already published
palomino7Windows Server 2022 Datacenter / x64  OK    OK    OK    OK  
merida1macOS 12.7.5 Monterey / x86_64  OK    OK    OK    OK  UNNEEDED, same version is already published
kjohnson1macOS 13.6.6 Ventura / arm64  OK    TIMEOUT  skippedskipped
Package 32/142HostnameOS / ArchINSTALLBUILDCHECKBUILD BIN
DegNorm 1.14.0  (landing page)
Ji-Ping Wang
git_last_commit: 0e96e09
git_last_commit_date: 2024-04-30 11:24:33 -0400
nebbiolo1Linux (Ubuntu 22.04.3 LTS) / x86_64  OK    OK    OK  UNNEEDED, same version is already published
palomino7Windows Server 2022 Datacenter / x64  OK    OK    OK    OK  
merida1macOS 12.7.5 Monterey / x86_64  OK    OK    OK    OK  UNNEEDED, same version is already published
kjohnson1macOS 13.6.6 Ventura / arm64  OK    OK    OK    OK  UNNEEDED, same version is already published
Package 33/142HostnameOS / ArchINSTALLBUILDCHECKBUILD BIN
derfinder 1.38.0  (landing page)
Leonardo Collado-Torres
git_last_commit: e2fef91
git_last_commit_date: 2024-04-30 10:39:14 -0400
nebbiolo1Linux (Ubuntu 22.04.3 LTS) / x86_64  OK    OK    OK  UNNEEDED, same version is already published
palomino7Windows Server 2022 Datacenter / x64  OK    OK    OK    OK  
merida1macOS 12.7.5 Monterey / x86_64  OK    OK    OK    OK  UNNEEDED, same version is already published
kjohnson1macOS 13.6.6 Ventura / arm64  OK    OK    OK    OK  UNNEEDED, same version is already published
Package 34/142HostnameOS / ArchINSTALLBUILDCHECKBUILD BIN
derfinderPlot 1.38.0  (landing page)
Leonardo Collado-Torres
git_last_commit: db6304d
git_last_commit_date: 2024-04-30 10:39:16 -0400
nebbiolo1Linux (Ubuntu 22.04.3 LTS) / x86_64  OK    OK    OK  UNNEEDED, same version is already published
palomino7Windows Server 2022 Datacenter / x64  OK    OK    OK    OK  
merida1macOS 12.7.5 Monterey / x86_64  OK    OK    OK    OK  UNNEEDED, same version is already published
kjohnson1macOS 13.6.6 Ventura / arm64  OK    OK    OK    OK  UNNEEDED, same version is already published
Package 35/142HostnameOS / ArchINSTALLBUILDCHECKBUILD BIN
DNAfusion 1.6.0  (landing page)
Christoffer Trier Maansson
git_last_commit: 4ba0c6d
git_last_commit_date: 2024-04-30 11:45:47 -0400
nebbiolo1Linux (Ubuntu 22.04.3 LTS) / x86_64  OK    OK    OK  UNNEEDED, same version is already published
palomino7Windows Server 2022 Datacenter / x64  OK    OK    OK    OK  
merida1macOS 12.7.5 Monterey / x86_64  OK    OK    OK    OK  UNNEEDED, same version is already published
kjohnson1macOS 13.6.6 Ventura / arm64  OK    OK    OK    OK  UNNEEDED, same version is already published
Package 36/142HostnameOS / ArchINSTALLBUILDCHECKBUILD BIN
doubletrouble 1.4.0  (landing page)
Fabrício Almeida-Silva
git_last_commit: 365426b
git_last_commit_date: 2024-04-30 11:46:09 -0400
nebbiolo1Linux (Ubuntu 22.04.3 LTS) / x86_64  OK    OK    OK  UNNEEDED, same version is already published
palomino7Windows Server 2022 Datacenter / x64  OK    OK    OK    OK  
merida1macOS 12.7.5 Monterey / x86_64  OK    OK    OK    OK  UNNEEDED, same version is already published
kjohnson1macOS 13.6.6 Ventura / arm64  OK    OK    OK    OK  UNNEEDED, same version is already published
Package 37/142HostnameOS / ArchINSTALLBUILDCHECKBUILD BIN
EDASeq 2.38.0  (landing page)
Davide Risso
git_last_commit: aab2daa
git_last_commit_date: 2024-04-30 10:25:33 -0400
nebbiolo1Linux (Ubuntu 22.04.3 LTS) / x86_64  OK    OK    OK  UNNEEDED, same version is already published
palomino7Windows Server 2022 Datacenter / x64  OK    OK    OK    OK  
merida1macOS 12.7.5 Monterey / x86_64  OK    OK    OK    OK  UNNEEDED, same version is already published
kjohnson1macOS 13.6.6 Ventura / arm64  OK    OK    OK    OK  UNNEEDED, same version is already published
Package 38/142HostnameOS / ArchINSTALLBUILDCHECKBUILD BIN
ELMER 2.28.0  (landing page)
Tiago Chedraoui Silva
git_last_commit: dd7f626
git_last_commit_date: 2024-04-30 10:44:07 -0400
nebbiolo1Linux (Ubuntu 22.04.3 LTS) / x86_64  OK    OK    OK  UNNEEDED, same version is already published
palomino7Windows Server 2022 Datacenter / x64  OK    OK    OK    OK  
merida1macOS 12.7.5 Monterey / x86_64  OK    OK    OK    OK  UNNEEDED, same version is already published
kjohnson1macOS 13.6.6 Ventura / arm64  OK    OK    OK    OK  UNNEEDED, same version is already published
Package 39/142HostnameOS / ArchINSTALLBUILDCHECKBUILD BIN
ensembldb 2.28.0  (landing page)
Johannes Rainer
git_last_commit: b5cbbd5
git_last_commit_date: 2024-04-30 10:42:33 -0400
nebbiolo1Linux (Ubuntu 22.04.3 LTS) / x86_64  OK    OK    OK  UNNEEDED, same version is already published
palomino7Windows Server 2022 Datacenter / x64  OK    OK    OK    OK  
merida1macOS 12.7.5 Monterey / x86_64  OK    OK    TIMEOUT    OK  
kjohnson1macOS 13.6.6 Ventura / arm64  OK    OK    OK    OK  UNNEEDED, same version is already published
Package 40/142HostnameOS / ArchINSTALLBUILDCHECKBUILD BIN
EpiMix 1.6.1  (landing page)
Yuanning Zheng
git_last_commit: 0e85cbb
git_last_commit_date: 2024-05-01 12:48:30 -0400
nebbiolo1Linux (Ubuntu 22.04.3 LTS) / x86_64  OK    OK    OK  UNNEEDED, same version is already published
palomino7Windows Server 2022 Datacenter / x64  OK    OK    OK    OK  
merida1macOS 12.7.5 Monterey / x86_64  OK    OK    OK    OK  UNNEEDED, same version is already published
kjohnson1macOS 13.6.6 Ventura / arm64  OK    OK    OK    OK  UNNEEDED, same version is already published
Package 41/142HostnameOS / ArchINSTALLBUILDCHECKBUILD BIN
epimutacions 1.8.0  (landing page)
Dolors Pelegri-Siso
git_last_commit: 26ee4ca
git_last_commit_date: 2024-04-30 11:41:56 -0400
nebbiolo1Linux (Ubuntu 22.04.3 LTS) / x86_64  OK    OK    OK  UNNEEDED, same version is already published
palomino7Windows Server 2022 Datacenter / x64  OK    OK    OK    OK  
merida1macOS 12.7.5 Monterey / x86_64  OK    OK    OK    OK  UNNEEDED, same version is already published
kjohnson1macOS 13.6.6 Ventura / arm64  OK    OK    OK    OK  UNNEEDED, same version is already published
Package 42/142HostnameOS / ArchINSTALLBUILDCHECKBUILD BIN
EpiTxDb 1.16.0  (landing page)
Felix G.M. Ernst
git_last_commit: c33475a
git_last_commit_date: 2024-04-30 11:21:48 -0400
nebbiolo1Linux (Ubuntu 22.04.3 LTS) / x86_64  OK    OK    WARNINGS  UNNEEDED, same version is already published
palomino7Windows Server 2022 Datacenter / x64  OK    OK    WARNINGS    OK  
merida1macOS 12.7.5 Monterey / x86_64  OK    OK    WARNINGS    OK  UNNEEDED, same version is already published
kjohnson1macOS 13.6.6 Ventura / arm64  OK    OK    WARNINGS    OK  UNNEEDED, same version is already published
Package 43/142HostnameOS / ArchINSTALLBUILDCHECKBUILD BIN
epivizrData 1.32.0  (landing page)
Hector Corrada Bravo
git_last_commit: e66e63d
git_last_commit_date: 2024-04-30 10:50:49 -0400
nebbiolo1Linux (Ubuntu 22.04.3 LTS) / x86_64  OK    OK    OK  UNNEEDED, same version is already published
palomino7Windows Server 2022 Datacenter / x64  OK    OK    OK    OK  
merida1macOS 12.7.5 Monterey / x86_64  OK    OK    OK    OK  UNNEEDED, same version is already published
kjohnson1macOS 13.6.6 Ventura / arm64  OK    OK    OK    OK  UNNEEDED, same version is already published
Package 44/142HostnameOS / ArchINSTALLBUILDCHECKBUILD BIN
epivizrStandalone 1.32.0  (landing page)
Hector Corrada Bravo
git_last_commit: d278f10
git_last_commit_date: 2024-04-30 10:51:07 -0400
nebbiolo1Linux (Ubuntu 22.04.3 LTS) / x86_64  OK    OK    WARNINGS  UNNEEDED, same version is already published
palomino7Windows Server 2022 Datacenter / x64  OK    OK    WARNINGS    OK  
merida1macOS 12.7.5 Monterey / x86_64  OK    OK    WARNINGS    OK  UNNEEDED, same version is already published
kjohnson1macOS 13.6.6 Ventura / arm64  OK    OK    WARNINGS    OK  UNNEEDED, same version is already published
Package 45/142HostnameOS / ArchINSTALLBUILDCHECKBUILD BIN
esATAC 1.26.0  (landing page)
Zheng Wei
git_last_commit: 222623c
git_last_commit_date: 2024-04-30 11:02:36 -0400
nebbiolo1Linux (Ubuntu 22.04.3 LTS) / x86_64  OK    OK    OK  UNNEEDED, same version is already published
palomino7Windows Server 2022 Datacenter / x64  ERROR    ERROR  skippedskipped
merida1macOS 12.7.5 Monterey / x86_64  OK    OK    OK    OK  UNNEEDED, same version is already published
kjohnson1macOS 13.6.6 Ventura / arm64  OK    OK    OK    OK  NO, package depends on 'TFBSTools' which is only available as a source package that needs compilation
Package 46/142HostnameOS / ArchINSTALLBUILDCHECKBUILD BIN
EventPointer 3.12.0  (landing page)
Juan A. Ferrer-Bonsoms
git_last_commit: 93a9ebf
git_last_commit_date: 2024-04-30 10:56:34 -0400
nebbiolo1Linux (Ubuntu 22.04.3 LTS) / x86_64  OK    OK    OK  UNNEEDED, same version is already published
palomino7Windows Server 2022 Datacenter / x64  OK    OK    OK    OK  
merida1macOS 12.7.5 Monterey / x86_64  OK    OK    OK    OK  UNNEEDED, same version is already published
kjohnson1macOS 13.6.6 Ventura / arm64  OK    OK    OK    OK  UNNEEDED, same version is already published
Package 47/142HostnameOS / ArchINSTALLBUILDCHECKBUILD BIN
exomePeak2 1.16.0  (landing page)
Zhen Wei
git_last_commit: dac530f
git_last_commit_date: 2024-04-30 11:21:17 -0400
nebbiolo1Linux (Ubuntu 22.04.3 LTS) / x86_64  OK    OK    ERROR  
palomino7Windows Server 2022 Datacenter / x64  OK    OK    OK    OK  
merida1macOS 12.7.5 Monterey / x86_64  OK    OK    OK    OK  UNNEEDED, same version is already published
kjohnson1macOS 13.6.6 Ventura / arm64  OK    OK    OK    OK  UNNEEDED, same version is already published
Package 48/142HostnameOS / ArchINSTALLBUILDCHECKBUILD BIN
factR 1.6.0  (landing page)
Fursham Hamid
git_last_commit: f704331
git_last_commit_date: 2024-04-30 11:43:20 -0400
nebbiolo1Linux (Ubuntu 22.04.3 LTS) / x86_64  OK    OK    OK  UNNEEDED, same version is already published
palomino7Windows Server 2022 Datacenter / x64  OK    OK    OK    OK  
merida1macOS 12.7.5 Monterey / x86_64  OK    OK    OK    OK  UNNEEDED, same version is already published
kjohnson1macOS 13.6.6 Ventura / arm64  OK    OK    OK    OK  UNNEEDED, same version is already published
Package 49/142HostnameOS / ArchINSTALLBUILDCHECKBUILD BIN
FindIT2 1.10.0  (landing page)
Guandong Shang
git_last_commit: ca624b0
git_last_commit_date: 2024-04-30 11:35:36 -0400
nebbiolo1Linux (Ubuntu 22.04.3 LTS) / x86_64  OK    OK    OK  UNNEEDED, same version is already published
palomino7Windows Server 2022 Datacenter / x64  OK    OK    OK    OK  
merida1macOS 12.7.5 Monterey / x86_64  OK    OK    OK    OK  UNNEEDED, same version is already published
kjohnson1macOS 13.6.6 Ventura / arm64  OK    OK    OK    OK  UNNEEDED, same version is already published
Package 50/142HostnameOS / ArchINSTALLBUILDCHECKBUILD BIN
FLAMES 1.10.0  (landing page)
Changqing Wang
git_last_commit: bd149f9
git_last_commit_date: 2024-04-30 11:35:54 -0400
nebbiolo1Linux (Ubuntu 22.04.3 LTS) / x86_64  OK    OK    OK  UNNEEDED, same version is already published
palomino7Windows Server 2022 Datacenter / x64... NOT SUPPORTED ...
merida1macOS 12.7.5 Monterey / x86_64  OK    OK    OK    OK  UNNEEDED, same version is already published
kjohnson1macOS 13.6.6 Ventura / arm64  ERROR    ERROR  skippedskipped
Package 51/142HostnameOS / ArchINSTALLBUILDCHECKBUILD BIN
FRASER 2.0.0  (landing page)
Christian Mertes
git_last_commit: 43578dd
git_last_commit_date: 2024-04-30 11:23:25 -0400
nebbiolo1Linux (Ubuntu 22.04.3 LTS) / x86_64  OK    OK    OK  UNNEEDED, same version is already published
palomino7Windows Server 2022 Datacenter / x64  OK    OK    OK    OK  
merida1macOS 12.7.5 Monterey / x86_64  OK    OK    TIMEOUT    OK  
kjohnson1macOS 13.6.6 Ventura / arm64  OK    OK    OK    OK  UNNEEDED, same version is already published
Package 52/142HostnameOS / ArchINSTALLBUILDCHECKBUILD BIN
GA4GHshiny 1.26.0  (landing page)
Welliton Souza
git_last_commit: 81afb26
git_last_commit_date: 2024-04-30 10:58:17 -0400
nebbiolo1Linux (Ubuntu 22.04.3 LTS) / x86_64  OK    OK    OK  UNNEEDED, same version is already published
palomino7Windows Server 2022 Datacenter / x64  OK    OK    OK    OK  
merida1macOS 12.7.5 Monterey / x86_64  OK    OK    OK    OK  UNNEEDED, same version is already published
kjohnson1macOS 13.6.6 Ventura / arm64  OK    OK    OK    OK  UNNEEDED, same version is already published
Package 53/142HostnameOS / ArchINSTALLBUILDCHECKBUILD BIN
gDNAx 1.2.0  (landing page)
Robert Castelo
git_last_commit: c4c8d12
git_last_commit_date: 2024-04-30 11:51:12 -0400
nebbiolo1Linux (Ubuntu 22.04.3 LTS) / x86_64  OK    OK    OK  UNNEEDED, same version is already published
palomino7Windows Server 2022 Datacenter / x64  OK    OK    OK    OK  
merida1macOS 12.7.5 Monterey / x86_64  OK    OK    OK    OK  UNNEEDED, same version is already published
kjohnson1macOS 13.6.6 Ventura / arm64  OK    OK    OK    OK  UNNEEDED, same version is already published
Package 54/142HostnameOS / ArchINSTALLBUILDCHECKBUILD BIN
geneAttribution 1.30.0  (landing page)
Arthur Wuster
git_last_commit: 48e6117
git_last_commit_date: 2024-04-30 10:53:20 -0400
nebbiolo1Linux (Ubuntu 22.04.3 LTS) / x86_64  OK    OK    OK  UNNEEDED, same version is already published
palomino7Windows Server 2022 Datacenter / x64  OK    OK    OK    OK  
merida1macOS 12.7.5 Monterey / x86_64  OK    OK    OK    OK  UNNEEDED, same version is already published
kjohnson1macOS 13.6.6 Ventura / arm64  OK    OK    OK    OK  UNNEEDED, same version is already published
Package 55/142HostnameOS / ArchINSTALLBUILDCHECKBUILD BIN
GenomicInteractionNodes 1.8.0  (landing page)
Jianhong Ou
git_last_commit: 33618c1
git_last_commit_date: 2024-04-30 11:41:59 -0400
nebbiolo1Linux (Ubuntu 22.04.3 LTS) / x86_64  OK    OK    OK  UNNEEDED, same version is already published
palomino7Windows Server 2022 Datacenter / x64  OK    OK    OK    OK  
merida1macOS 12.7.5 Monterey / x86_64  OK    OK    OK    OK  UNNEEDED, same version is already published
kjohnson1macOS 13.6.6 Ventura / arm64  OK    OK    OK    OK  UNNEEDED, same version is already published
Package 56/142HostnameOS / ArchINSTALLBUILDCHECKBUILD BIN
GenomicPlot 1.2.3  (landing page)
Shuye Pu
git_last_commit: 8023bee
git_last_commit_date: 2024-07-02 18:53:06 -0400
nebbiolo1Linux (Ubuntu 22.04.3 LTS) / x86_64  OK    OK    OK  UNNEEDED, same version is already published
palomino7Windows Server 2022 Datacenter / x64  OK    OK    OK    OK  
merida1macOS 12.7.5 Monterey / x86_64  OK    OK    OK    OK  UNNEEDED, same version is already published
kjohnson1macOS 13.6.6 Ventura / arm64  OK    OK    OK    OK  UNNEEDED, same version is already published
Package 57/142HostnameOS / ArchINSTALLBUILDCHECKBUILD BIN
GenVisR 1.36.0  (landing page)
Zachary Skidmore
git_last_commit: c0768ff
git_last_commit_date: 2024-04-30 10:47:51 -0400
nebbiolo1Linux (Ubuntu 22.04.3 LTS) / x86_64  OK    OK    OK  UNNEEDED, same version is already published
palomino7Windows Server 2022 Datacenter / x64  OK    OK    OK    OK  
merida1macOS 12.7.5 Monterey / x86_64  OK    OK    OK    OK  UNNEEDED, same version is already published
kjohnson1macOS 13.6.6 Ventura / arm64  OK    OK    OK    OK  UNNEEDED, same version is already published
Package 58/142HostnameOS / ArchINSTALLBUILDCHECKBUILD BIN
ggbio 1.52.0  (landing page)
Michael Lawrence
git_last_commit: 10b0089
git_last_commit_date: 2024-04-30 10:26:03 -0400
nebbiolo1Linux (Ubuntu 22.04.3 LTS) / x86_64  OK    OK    WARNINGS  UNNEEDED, same version is already published
palomino7Windows Server 2022 Datacenter / x64  OK    OK    WARNINGS    OK  
merida1macOS 12.7.5 Monterey / x86_64  OK    OK    WARNINGS    OK  UNNEEDED, same version is already published
kjohnson1macOS 13.6.6 Ventura / arm64  OK    OK    WARNINGS    OK  UNNEEDED, same version is already published
Package 59/142HostnameOS / ArchINSTALLBUILDCHECKBUILD BIN
gINTomics 1.0.0  (landing page)
Angelo Velle
git_last_commit: 6525a11
git_last_commit_date: 2024-04-30 11:56:24 -0400
nebbiolo1Linux (Ubuntu 22.04.3 LTS) / x86_64  OK    OK    OK  UNNEEDED, same version is already published
palomino7Windows Server 2022 Datacenter / x64  OK    OK    OK    OK  
merida1macOS 12.7.5 Monterey / x86_64  OK    OK    OK    OK  UNNEEDED, same version is already published
kjohnson1macOS 13.6.6 Ventura / arm64  OK    OK    OK    OK  UNNEEDED, same version is already published
Package 60/142HostnameOS / ArchINSTALLBUILDCHECKBUILD BIN
gmapR 1.46.0  (landing page)
Michael Lawrence
git_last_commit: dae0cea
git_last_commit_date: 2024-04-30 10:28:19 -0400
nebbiolo1Linux (Ubuntu 22.04.3 LTS) / x86_64  OK    OK    WARNINGS  UNNEEDED, same version is already published
palomino7Windows Server 2022 Datacenter / x64... NOT SUPPORTED ...
merida1macOS 12.7.5 Monterey / x86_64  OK    OK    WARNINGS    OK  UNNEEDED, same version is already published
kjohnson1macOS 13.6.6 Ventura / arm64  OK    OK    WARNINGS    OK  UNNEEDED, same version is already published
Package 61/142HostnameOS / ArchINSTALLBUILDCHECKBUILD BIN
gmoviz 1.16.0  (landing page)
Kathleen Zeglinski
git_last_commit: dc26406
git_last_commit_date: 2024-04-30 11:22:08 -0400
nebbiolo1Linux (Ubuntu 22.04.3 LTS) / x86_64  OK    OK    OK  UNNEEDED, same version is already published
palomino7Windows Server 2022 Datacenter / x64  OK    OK    OK    OK  
merida1macOS 12.7.5 Monterey / x86_64  OK    OK    OK    OK  UNNEEDED, same version is already published
kjohnson1macOS 13.6.6 Ventura / arm64  OK    OK    OK    OK  UNNEEDED, same version is already published
Package 62/142HostnameOS / ArchINSTALLBUILDCHECKBUILD BIN
GSReg 1.38.0  (landing page)
Bahman Afsari , Elana J. Fertig
git_last_commit: 20e3c92
git_last_commit_date: 2024-04-30 10:37:28 -0400
nebbiolo1Linux (Ubuntu 22.04.3 LTS) / x86_64  OK    OK    WARNINGS  UNNEEDED, same version is already published
palomino7Windows Server 2022 Datacenter / x64  OK    OK    WARNINGS    OK  
merida1macOS 12.7.5 Monterey / x86_64  OK    OK    WARNINGS    OK  UNNEEDED, same version is already published
kjohnson1macOS 13.6.6 Ventura / arm64  OK    OK    WARNINGS    OK  UNNEEDED, same version is already published
Package 63/142HostnameOS / ArchINSTALLBUILDCHECKBUILD BIN
GUIDEseq 1.34.0  (landing page)
Lihua Julie Zhu
git_last_commit: 4560618
git_last_commit_date: 2024-04-30 10:46:17 -0400
nebbiolo1Linux (Ubuntu 22.04.3 LTS) / x86_64  OK    OK    OK  UNNEEDED, same version is already published
palomino7Windows Server 2022 Datacenter / x64  OK    OK    OK    OK  
merida1macOS 12.7.5 Monterey / x86_64  OK    OK    OK    OK  UNNEEDED, same version is already published
kjohnson1macOS 13.6.6 Ventura / arm64  OK    OK    OK    OK  UNNEEDED, same version is already published
Package 64/142HostnameOS / ArchINSTALLBUILDCHECKBUILD BIN
Guitar 2.20.0  (landing page)
Jia Meng
git_last_commit: 6842fab
git_last_commit_date: 2024-04-30 10:45:55 -0400
nebbiolo1Linux (Ubuntu 22.04.3 LTS) / x86_64  OK    OK    OK  UNNEEDED, same version is already published
palomino7Windows Server 2022 Datacenter / x64  OK    OK    OK    OK  
merida1macOS 12.7.5 Monterey / x86_64  OK    OK    OK    OK  UNNEEDED, same version is already published
kjohnson1macOS 13.6.6 Ventura / arm64  OK    OK    OK    OK  UNNEEDED, same version is already published
Package 65/142HostnameOS / ArchINSTALLBUILDCHECKBUILD BIN
Gviz 1.48.0  (landing page)
Robert Ivanek
git_last_commit: 2be307f
git_last_commit_date: 2024-04-30 10:26:57 -0400
nebbiolo1Linux (Ubuntu 22.04.3 LTS) / x86_64  OK    OK    OK  UNNEEDED, same version is already published
palomino7Windows Server 2022 Datacenter / x64  OK    OK    OK    OK  
merida1macOS 12.7.5 Monterey / x86_64  OK    OK    OK    OK  UNNEEDED, same version is already published
kjohnson1macOS 13.6.6 Ventura / arm64  OK    OK    OK    OK  UNNEEDED, same version is already published
Package 66/142HostnameOS / ArchINSTALLBUILDCHECKBUILD BIN
gwascat 2.36.0  (landing page)
VJ Carey
git_last_commit: 2127a40
git_last_commit_date: 2024-04-30 10:27:03 -0400
nebbiolo1Linux (Ubuntu 22.04.3 LTS) / x86_64  OK    OK    OK  UNNEEDED, same version is already published
palomino7Windows Server 2022 Datacenter / x64  OK    OK    OK    OK  
merida1macOS 12.7.5 Monterey / x86_64  OK    OK    OK    OK  UNNEEDED, same version is already published
kjohnson1macOS 13.6.6 Ventura / arm64  OK    OK    ERROR    OK  
Package 67/142HostnameOS / ArchINSTALLBUILDCHECKBUILD BIN
HelloRanges 1.30.0  (landing page)
Michael Lawrence
git_last_commit: de2f215
git_last_commit_date: 2024-04-30 10:54:33 -0400
nebbiolo1Linux (Ubuntu 22.04.3 LTS) / x86_64  OK    OK    OK  UNNEEDED, same version is already published
palomino7Windows Server 2022 Datacenter / x64  OK    OK    OK    OK  
merida1macOS 12.7.5 Monterey / x86_64  OK    OK    OK    OK  UNNEEDED, same version is already published
kjohnson1macOS 13.6.6 Ventura / arm64  OK    OK    OK    OK  UNNEEDED, same version is already published
Package 68/142HostnameOS / ArchINSTALLBUILDCHECKBUILD BIN
HiLDA 1.18.0  (landing page)
Zhi Yang
git_last_commit: e855eee
git_last_commit_date: 2024-04-30 11:16:03 -0400
nebbiolo1Linux (Ubuntu 22.04.3 LTS) / x86_64  OK    OK    OK  UNNEEDED, same version is already published
palomino7Windows Server 2022 Datacenter / x64  OK    OK    OK    OK  
merida1macOS 12.7.5 Monterey / x86_64  OK    OK    OK    OK  UNNEEDED, same version is already published
kjohnson1macOS 13.6.6 Ventura / arm64  OK    OK    OK    OK  UNNEEDED, same version is already published
Package 69/142HostnameOS / ArchINSTALLBUILDCHECKBUILD BIN
HTSeqGenie 4.34.0  (landing page)
Jens Reeder
git_last_commit: e25c9ee
git_last_commit_date: 2024-04-30 10:29:18 -0400
nebbiolo1Linux (Ubuntu 22.04.3 LTS) / x86_64  OK    OK    OK  UNNEEDED, same version is already published
palomino7Windows Server 2022 Datacenter / x64... NOT SUPPORTED ...
merida1macOS 12.7.5 Monterey / x86_64... NOT SUPPORTED ...
kjohnson1macOS 13.6.6 Ventura / arm64... NOT SUPPORTED ...
Package 70/142HostnameOS / ArchINSTALLBUILDCHECKBUILD BIN
icetea 1.22.0  (landing page)
Vivek Bhardwaj
git_last_commit: 4a36367
git_last_commit_date: 2024-04-30 11:07:20 -0400
nebbiolo1Linux (Ubuntu 22.04.3 LTS) / x86_64  OK    OK    WARNINGS  UNNEEDED, same version is already published
palomino7Windows Server 2022 Datacenter / x64  OK    OK    WARNINGS    OK  
merida1macOS 12.7.5 Monterey / x86_64  OK    OK    WARNINGS    OK  UNNEEDED, same version is already published
kjohnson1macOS 13.6.6 Ventura / arm64  OK    OK    WARNINGS    OK  UNNEEDED, same version is already published
Package 71/142HostnameOS / ArchINSTALLBUILDCHECKBUILD BIN
IMAS 1.28.0  (landing page)
Seonggyun Han
git_last_commit: b031129
git_last_commit_date: 2024-04-30 10:57:42 -0400
nebbiolo1Linux (Ubuntu 22.04.3 LTS) / x86_64  OK    OK    OK  UNNEEDED, same version is already published
palomino7Windows Server 2022 Datacenter / x64  OK    OK    OK    OK  
merida1macOS 12.7.5 Monterey / x86_64  OK    OK    OK    OK  UNNEEDED, same version is already published
kjohnson1macOS 13.6.6 Ventura / arm64  OK    OK    OK    OK  UNNEEDED, same version is already published
Package 72/142HostnameOS / ArchINSTALLBUILDCHECKBUILD BIN
InPAS 2.12.0  (landing page)
Jianhong Ou
git_last_commit: 0debae2
git_last_commit_date: 2024-04-30 10:42:27 -0400
nebbiolo1Linux (Ubuntu 22.04.3 LTS) / x86_64  OK    OK    WARNINGS  UNNEEDED, same version is already published
palomino7Windows Server 2022 Datacenter / x64  OK    OK    WARNINGS    OK  
merida1macOS 12.7.5 Monterey / x86_64  OK    OK    WARNINGS    OK  UNNEEDED, same version is already published
kjohnson1macOS 13.6.6 Ventura / arm64  OK    OK    WARNINGS    OK  UNNEEDED, same version is already published
Package 73/142HostnameOS / ArchINSTALLBUILDCHECKBUILD BIN
INSPEcT 1.34.0  (landing page)
Stefano de Pretis
git_last_commit: 455938d
git_last_commit_date: 2024-04-30 10:44:32 -0400
nebbiolo1Linux (Ubuntu 22.04.3 LTS) / x86_64  OK    OK    OK  UNNEEDED, same version is already published
palomino7Windows Server 2022 Datacenter / x64  OK    OK    OK    OK  
merida1macOS 12.7.5 Monterey / x86_64  OK    OK    OK    OK  UNNEEDED, same version is already published
kjohnson1macOS 13.6.6 Ventura / arm64  OK    OK    OK    OK  UNNEEDED, same version is already published
Package 74/142HostnameOS / ArchINSTALLBUILDCHECKBUILD BIN
IntEREst 1.28.0  (landing page)
Ali Oghabian , Mikko Frilander
git_last_commit: 9b139fc
git_last_commit_date: 2024-04-30 10:56:44 -0400
nebbiolo1Linux (Ubuntu 22.04.3 LTS) / x86_64  OK    OK    OK  UNNEEDED, same version is already published
palomino7Windows Server 2022 Datacenter / x64  OK    OK    OK    OK  
merida1macOS 12.7.5 Monterey / x86_64  OK    OK    OK    OK  UNNEEDED, same version is already published
kjohnson1macOS 13.6.6 Ventura / arm64  OK    OK    OK    OK  UNNEEDED, same version is already published
Package 75/142HostnameOS / ArchINSTALLBUILDCHECKBUILD BIN
IVAS 2.24.0  (landing page)
Seonggyun Han
git_last_commit: 9312880
git_last_commit_date: 2024-04-30 10:41:26 -0400
nebbiolo1Linux (Ubuntu 22.04.3 LTS) / x86_64  OK    OK    WARNINGS  UNNEEDED, same version is already published
palomino7Windows Server 2022 Datacenter / x64  OK    OK    WARNINGS    OK  
merida1macOS 12.7.5 Monterey / x86_64  OK    OK    WARNINGS    OK  UNNEEDED, same version is already published
kjohnson1macOS 13.6.6 Ventura / arm64  OK    OK    WARNINGS    OK  UNNEEDED, same version is already published
Package 76/142HostnameOS / ArchINSTALLBUILDCHECKBUILD BIN
karyoploteR 1.30.0  (landing page)
Bernat Gel
git_last_commit: 064c446
git_last_commit_date: 2024-04-30 10:56:05 -0400
nebbiolo1Linux (Ubuntu 22.04.3 LTS) / x86_64  OK    OK    OK  UNNEEDED, same version is already published
palomino7Windows Server 2022 Datacenter / x64  OK    OK    OK    OK  
merida1macOS 12.7.5 Monterey / x86_64  OK    OK    OK    OK  UNNEEDED, same version is already published
kjohnson1macOS 13.6.6 Ventura / arm64  OK    OK    OK    OK  UNNEEDED, same version is already published
Package 77/142HostnameOS / ArchINSTALLBUILDCHECKBUILD BIN
lumi 2.56.0  (landing page)
Lei Huang
git_last_commit: 2405c66
git_last_commit_date: 2024-04-30 10:16:17 -0400
nebbiolo1Linux (Ubuntu 22.04.3 LTS) / x86_64  OK    OK    WARNINGS  UNNEEDED, same version is already published
palomino7Windows Server 2022 Datacenter / x64  OK    OK    WARNINGS    OK  
merida1macOS 12.7.5 Monterey / x86_64  OK    OK    WARNINGS    OK  UNNEEDED, same version is already published
kjohnson1macOS 13.6.6 Ventura / arm64  OK    OK    WARNINGS    OK  UNNEEDED, same version is already published
Package 78/142HostnameOS / ArchINSTALLBUILDCHECKBUILD BIN
magpie 1.4.0  (landing page)
Daoyu Duan
git_last_commit: 2c931f1
git_last_commit_date: 2024-04-30 11:47:56 -0400
nebbiolo1Linux (Ubuntu 22.04.3 LTS) / x86_64  OK    OK    WARNINGS  UNNEEDED, same version is already published
palomino7Windows Server 2022 Datacenter / x64  OK    OK    WARNINGS    OK  
merida1macOS 12.7.5 Monterey / x86_64  OK    OK    WARNINGS    OK  UNNEEDED, same version is already published
kjohnson1macOS 13.6.6 Ventura / arm64  OK    OK    WARNINGS    OK  UNNEEDED, same version is already published
Package 79/142HostnameOS / ArchINSTALLBUILDCHECKBUILD BIN
mCSEA 1.24.0  (landing page)
Jordi Martorell-Marugán
git_last_commit: 419e949
git_last_commit_date: 2024-04-30 11:03:23 -0400
nebbiolo1Linux (Ubuntu 22.04.3 LTS) / x86_64  OK    OK    OK  UNNEEDED, same version is already published
palomino7Windows Server 2022 Datacenter / x64  OK    OK    OK    OK  
merida1macOS 12.7.5 Monterey / x86_64  OK    OK    OK    OK  UNNEEDED, same version is already published
kjohnson1macOS 13.6.6 Ventura / arm64  OK    OK    OK    OK  UNNEEDED, same version is already published
Package 80/142HostnameOS / ArchINSTALLBUILDCHECKBUILD BIN
metagene 2.36.0  (landing page)
Charles Joly Beauparlant
git_last_commit: 9ead778
git_last_commit_date: 2024-04-30 10:37:46 -0400
nebbiolo1Linux (Ubuntu 22.04.3 LTS) / x86_64  OK    OK    ERROR  
palomino7Windows Server 2022 Datacenter / x64  OK    OK    WARNINGS    OK  
merida1macOS 12.7.5 Monterey / x86_64  OK    OK    ERROR    OK  
kjohnson1macOS 13.6.6 Ventura / arm64  OK    OK    ERROR    OK  
Package 81/142HostnameOS / ArchINSTALLBUILDCHECKBUILD BIN
metaseqR2 1.16.0  (landing page)
Panagiotis Moulos
git_last_commit: 355b403
git_last_commit_date: 2024-04-30 11:23:52 -0400
nebbiolo1Linux (Ubuntu 22.04.3 LTS) / x86_64  OK    OK    OK  UNNEEDED, same version is already published
palomino7Windows Server 2022 Datacenter / x64  OK    OK    OK    OK  
merida1macOS 12.7.5 Monterey / x86_64  OK    OK    OK    OK  UNNEEDED, same version is already published
kjohnson1macOS 13.6.6 Ventura / arm64  OK    OK    OK    OK  UNNEEDED, same version is already published
Package 82/142HostnameOS / ArchINSTALLBUILDCHECKBUILD BIN
methylumi 2.50.0  (landing page)
Sean Davis
git_last_commit: 2691fa4
git_last_commit_date: 2024-04-30 10:20:01 -0400
nebbiolo1Linux (Ubuntu 22.04.3 LTS) / x86_64  OK    OK    OK  UNNEEDED, same version is already published
palomino7Windows Server 2022 Datacenter / x64  OK    OK    OK    OK  
merida1macOS 12.7.5 Monterey / x86_64  OK    OK    OK    OK  UNNEEDED, same version is already published
kjohnson1macOS 13.6.6 Ventura / arm64  OK    OK    OK    OK  UNNEEDED, same version is already published
Package 83/142HostnameOS / ArchINSTALLBUILDCHECKBUILD BIN
msgbsR 1.28.0  (landing page)
Benjamin Mayne
git_last_commit: a908a0f
git_last_commit_date: 2024-04-30 10:58:14 -0400
nebbiolo1Linux (Ubuntu 22.04.3 LTS) / x86_64  ERROR    ERROR  skipped
palomino7Windows Server 2022 Datacenter / x64  ERROR    ERROR  skippedskipped
merida1macOS 12.7.5 Monterey / x86_64  ERROR    ERROR  skippedskipped
kjohnson1macOS 13.6.6 Ventura / arm64  ERROR    ERROR  skippedskipped
Package 84/142HostnameOS / ArchINSTALLBUILDCHECKBUILD BIN
multicrispr 1.14.0  (landing page)
Aditya Bhagwat
git_last_commit: a7f7aef
git_last_commit_date: 2024-04-30 11:24:36 -0400
nebbiolo1Linux (Ubuntu 22.04.3 LTS) / x86_64  OK    OK    OK  UNNEEDED, same version is already published
palomino7Windows Server 2022 Datacenter / x64  OK    OK    OK    OK  
merida1macOS 12.7.5 Monterey / x86_64  OK    OK    OK    OK  UNNEEDED, same version is already published
kjohnson1macOS 13.6.6 Ventura / arm64  OK    OK    OK    NA  
Package 85/142HostnameOS / ArchINSTALLBUILDCHECKBUILD BIN
musicatk 1.14.1  (landing page)
Joshua D. Campbell
git_last_commit: 95bec29
git_last_commit_date: 2024-07-13 12:47:12 -0400
nebbiolo1Linux (Ubuntu 22.04.3 LTS) / x86_64  OK    OK    OK  UNNEEDED, same version is already published
palomino7Windows Server 2022 Datacenter / x64  OK    OK    OK    OK  
merida1macOS 12.7.5 Monterey / x86_64  OK    OK    OK    OK  UNNEEDED, same version is already published
kjohnson1macOS 13.6.6 Ventura / arm64  OK    OK    OK    NA  
Package 86/142HostnameOS / ArchINSTALLBUILDCHECKBUILD BIN
mygene 1.40.0  (landing page)
Adam Mark, Cyrus Afrasiabi, Chunlei Wu
git_last_commit: 2c59532
git_last_commit_date: 2024-04-30 10:40:32 -0400
nebbiolo1Linux (Ubuntu 22.04.3 LTS) / x86_64  OK    OK    OK  UNNEEDED, same version is already published
palomino7Windows Server 2022 Datacenter / x64  OK    OK    OK    OK  
merida1macOS 12.7.5 Monterey / x86_64  OK    OK    OK    OK  UNNEEDED, same version is already published
kjohnson1macOS 13.6.6 Ventura / arm64  OK    OK    OK    NA  
Package 87/142HostnameOS / ArchINSTALLBUILDCHECKBUILD BIN
NoRCE 1.16.0  (landing page)
Gulden Olgun
git_last_commit: 9e07bb2
git_last_commit_date: 2024-04-30 11:21:52 -0400
nebbiolo1Linux (Ubuntu 22.04.3 LTS) / x86_64  OK    OK    OK  UNNEEDED, same version is already published
palomino7Windows Server 2022 Datacenter / x64  OK    OK    OK    OK  
merida1macOS 12.7.5 Monterey / x86_64  OK    OK    OK    OK  UNNEEDED, same version is already published
kjohnson1macOS 13.6.6 Ventura / arm64  OK    OK    OK    NA  
Package 88/142HostnameOS / ArchINSTALLBUILDCHECKBUILD BIN
ORFik 1.24.0  (landing page)
Haakon Tjeldnes
git_last_commit: d2ff2c0
git_last_commit_date: 2024-04-30 11:06:37 -0400
nebbiolo1Linux (Ubuntu 22.04.3 LTS) / x86_64  OK    OK    OK  UNNEEDED, same version is already published
palomino7Windows Server 2022 Datacenter / x64  OK    OK    OK    OK  
merida1macOS 12.7.5 Monterey / x86_64  OK    OK    OK    OK  UNNEEDED, same version is already published
kjohnson1macOS 13.6.6 Ventura / arm64  OK    OK    OK    NA  
Package 89/142HostnameOS / ArchINSTALLBUILDCHECKBUILD BIN
Organism.dplyr 1.32.0  (landing page)
Martin Morgan
git_last_commit: 0ac9982
git_last_commit_date: 2024-04-30 10:56:36 -0400
nebbiolo1Linux (Ubuntu 22.04.3 LTS) / x86_64  OK    OK    OK  UNNEEDED, same version is already published
palomino7Windows Server 2022 Datacenter / x64  OK    OK    OK    OK  
merida1macOS 12.7.5 Monterey / x86_64  OK    OK    OK    OK  UNNEEDED, same version is already published
kjohnson1macOS 13.6.6 Ventura / arm64  OK    OK    OK    NA  
Package 90/142HostnameOS / ArchINSTALLBUILDCHECKBUILD BIN
OrganismDbi 1.46.0  (landing page)
Bioconductor Package Maintainer
git_last_commit: ece135b
git_last_commit_date: 2024-04-30 10:28:45 -0400
nebbiolo1Linux (Ubuntu 22.04.3 LTS) / x86_64  OK    OK    ERROR  
palomino7Windows Server 2022 Datacenter / x64  OK    OK    OK    OK  
merida1macOS 12.7.5 Monterey / x86_64  OK    OK    OK    OK  UNNEEDED, same version is already published
kjohnson1macOS 13.6.6 Ventura / arm64  OK    OK    OK    NA  
Package 91/142HostnameOS / ArchINSTALLBUILDCHECKBUILD BIN
OUTRIDER 1.22.0  (landing page)
Christian Mertes
git_last_commit: 7b58f60
git_last_commit_date: 2024-04-30 11:07:46 -0400
nebbiolo1Linux (Ubuntu 22.04.3 LTS) / x86_64  OK    OK    OK  UNNEEDED, same version is already published
palomino7Windows Server 2022 Datacenter / x64  OK    OK    OK    OK  
merida1macOS 12.7.5 Monterey / x86_64  OK    OK    OK    OK  UNNEEDED, same version is already published
kjohnson1macOS 13.6.6 Ventura / arm64  OK    OK    OK    NA  
Package 92/142HostnameOS / ArchINSTALLBUILDCHECKBUILD BIN
OutSplice 1.4.0  (landing page)
Theresa Guo
git_last_commit: 311bef9
git_last_commit_date: 2024-04-30 11:49:13 -0400
nebbiolo1Linux (Ubuntu 22.04.3 LTS) / x86_64  OK    OK    OK  UNNEEDED, same version is already published
palomino7Windows Server 2022 Datacenter / x64  OK    OK    OK    OK  
merida1macOS 12.7.5 Monterey / x86_64  OK    OK    OK    OK  UNNEEDED, same version is already published
kjohnson1macOS 13.6.6 Ventura / arm64  OK    OK    OK    NA  
Package 93/142HostnameOS / ArchINSTALLBUILDCHECKBUILD BIN
proActiv 1.14.0  (landing page)
Joseph Lee
git_last_commit: 90ee7ae
git_last_commit_date: 2024-04-30 11:26:59 -0400
nebbiolo1Linux (Ubuntu 22.04.3 LTS) / x86_64  OK    OK    OK  UNNEEDED, same version is already published
palomino7Windows Server 2022 Datacenter / x64  OK    OK    OK    OK  
merida1macOS 12.7.5 Monterey / x86_64  OK    OK    OK    OK  UNNEEDED, same version is already published
kjohnson1macOS 13.6.6 Ventura / arm64  OK    OK    OK    NA  
Package 94/142HostnameOS / ArchINSTALLBUILDCHECKBUILD BIN
proBAMr 1.38.0  (landing page)
Xiaojing Wang
git_last_commit: aea4fee
git_last_commit_date: 2024-04-30 10:39:27 -0400
nebbiolo1Linux (Ubuntu 22.04.3 LTS) / x86_64  OK    OK    OK  UNNEEDED, same version is already published
palomino7Windows Server 2022 Datacenter / x64  OK    OK    OK    OK  
merida1macOS 12.7.5 Monterey / x86_64  OK    OK    OK    OK  UNNEEDED, same version is already published
kjohnson1macOS 13.6.6 Ventura / arm64  OK    OK    OK    NA  
Package 95/142HostnameOS / ArchINSTALLBUILDCHECKBUILD BIN
profileplyr 1.20.0  (landing page)
Tom Carroll , Doug Barrows
git_last_commit: 1f72ff7
git_last_commit_date: 2024-04-30 11:13:57 -0400
nebbiolo1Linux (Ubuntu 22.04.3 LTS) / x86_64  OK    OK    OK  UNNEEDED, same version is already published
palomino7Windows Server 2022 Datacenter / x64  OK    OK    OK    OK  
merida1macOS 12.7.5 Monterey / x86_64  OK    OK    OK    OK  UNNEEDED, same version is already published
kjohnson1macOS 13.6.6 Ventura / arm64  OK    OK    OK    NA  
Package 96/142HostnameOS / ArchINSTALLBUILDCHECKBUILD BIN
ProteoDisco 1.10.0  (landing page)
Job van Riet
git_last_commit: e7dc7fb
git_last_commit_date: 2024-04-30 11:36:56 -0400
nebbiolo1Linux (Ubuntu 22.04.3 LTS) / x86_64  OK    OK    WARNINGS  UNNEEDED, same version is already published
palomino7Windows Server 2022 Datacenter / x64  OK    OK    WARNINGS    OK  
merida1macOS 12.7.5 Monterey / x86_64  OK    OK    WARNINGS    OK  UNNEEDED, same version is already published
kjohnson1macOS 13.6.6 Ventura / arm64  OK    OK    WARNINGS    NA  
Package 97/142HostnameOS / ArchINSTALLBUILDCHECKBUILD BIN
PureCN 2.10.0  (landing page)
Markus Riester
git_last_commit: 7048a48
git_last_commit_date: 2024-04-30 10:50:39 -0400
nebbiolo1Linux (Ubuntu 22.04.3 LTS) / x86_64  OK    OK    OK  UNNEEDED, same version is already published
palomino7Windows Server 2022 Datacenter / x64  OK    OK    OK    OK  
merida1macOS 12.7.5 Monterey / x86_64  OK    OK    TIMEOUT    OK  
kjohnson1macOS 13.6.6 Ventura / arm64  OK    OK    OK    NA  
Package 98/142HostnameOS / ArchINSTALLBUILDCHECKBUILD BIN
qpgraph 2.38.0  (landing page)
Robert Castelo
git_last_commit: e551606
git_last_commit_date: 2024-04-30 10:19:23 -0400
nebbiolo1Linux (Ubuntu 22.04.3 LTS) / x86_64  OK    OK    OK  UNNEEDED, same version is already published
palomino7Windows Server 2022 Datacenter / x64  OK    OK    OK    OK  
merida1macOS 12.7.5 Monterey / x86_64  OK    OK    OK    OK  UNNEEDED, same version is already published
kjohnson1macOS 13.6.6 Ventura / arm64  OK    OK    WARNINGS    NA  
Package 99/142HostnameOS / ArchINSTALLBUILDCHECKBUILD BIN
QuasR 1.44.0  (landing page)
Michael Stadler
git_last_commit: 7508987
git_last_commit_date: 2024-04-30 10:30:09 -0400
nebbiolo1Linux (Ubuntu 22.04.3 LTS) / x86_64  OK    OK    WARNINGS  UNNEEDED, same version is already published
palomino7Windows Server 2022 Datacenter / x64  OK    OK    WARNINGS    OK  
merida1macOS 12.7.5 Monterey / x86_64  OK    OK    WARNINGS    OK  UNNEEDED, same version is already published
kjohnson1macOS 13.6.6 Ventura / arm64  OK    OK    WARNINGS    NA  
Package 100/142HostnameOS / ArchINSTALLBUILDCHECKBUILD BIN
raer 1.2.0  (landing page)
Kent Riemondy
git_last_commit: c2ce20e
git_last_commit_date: 2024-04-30 11:52:24 -0400
nebbiolo1Linux (Ubuntu 22.04.3 LTS) / x86_64  OK    OK    OK  UNNEEDED, same version is already published
palomino7Windows Server 2022 Datacenter / x64  OK    ERROR  skippedskipped
merida1macOS 12.7.5 Monterey / x86_64  OK    OK    OK    OK  UNNEEDED, same version is already published
kjohnson1macOS 13.6.6 Ventura / arm64  OK    ERROR  skippedskipped
Package 101/142HostnameOS / ArchINSTALLBUILDCHECKBUILD BIN
RareVariantVis 2.32.0  (landing page)
Tomasz Stokowy
git_last_commit: f7dd347
git_last_commit_date: 2024-04-30 10:44:10 -0400
nebbiolo1Linux (Ubuntu 22.04.3 LTS) / x86_64  OK    OK    OK  UNNEEDED, same version is already published
palomino7Windows Server 2022 Datacenter / x64  OK    OK    OK    OK  
merida1macOS 12.7.5 Monterey / x86_64  OK    OK    OK    OK  UNNEEDED, same version is already published
kjohnson1macOS 13.6.6 Ventura / arm64  OK    OK    OK    NA  
Package 102/142HostnameOS / ArchINSTALLBUILDCHECKBUILD BIN
RCAS 1.30.0  (landing page)
Bora Uyar
git_last_commit: 6c7eab5
git_last_commit_date: 2024-04-30 10:52:30 -0400
nebbiolo1Linux (Ubuntu 22.04.3 LTS) / x86_64  OK    OK    OK  UNNEEDED, same version is already published
palomino7Windows Server 2022 Datacenter / x64  OK    OK    OK    OK  
merida1macOS 12.7.5 Monterey / x86_64  OK    OK    OK    OK  UNNEEDED, same version is already published
kjohnson1macOS 13.6.6 Ventura / arm64  OK    OK    OK    NA  
Package 103/142HostnameOS / ArchINSTALLBUILDCHECKBUILD BIN
rCGH 1.34.0  (landing page)
Frederic Commo
git_last_commit: 2d56ebd
git_last_commit_date: 2024-04-30 10:44:40 -0400
nebbiolo1Linux (Ubuntu 22.04.3 LTS) / x86_64  OK    OK    OK  UNNEEDED, same version is already published
palomino7Windows Server 2022 Datacenter / x64  OK    OK    OK    OK  
merida1macOS 12.7.5 Monterey / x86_64  OK    OK    OK    OK  UNNEEDED, same version is already published
kjohnson1macOS 13.6.6 Ventura / arm64  OK    OK    OK    NA  
Package 104/142HostnameOS / ArchINSTALLBUILDCHECKBUILD BIN
recoup 1.32.0  (landing page)
Panagiotis Moulos
git_last_commit: 8bb440b
git_last_commit_date: 2024-04-30 10:49:38 -0400
nebbiolo1Linux (Ubuntu 22.04.3 LTS) / x86_64  OK    OK    OK  UNNEEDED, same version is already published
palomino7Windows Server 2022 Datacenter / x64  OK    OK    OK    OK  
merida1macOS 12.7.5 Monterey / x86_64  OK    OK    OK    OK  UNNEEDED, same version is already published
kjohnson1macOS 13.6.6 Ventura / arm64  OK    OK    OK    NA  
Package 105/142HostnameOS / ArchINSTALLBUILDCHECKBUILD BIN
RgnTX 1.6.0  (landing page)
Yue Wang
git_last_commit: b54e1c6
git_last_commit_date: 2024-04-30 11:43:01 -0400
nebbiolo1Linux (Ubuntu 22.04.3 LTS) / x86_64  OK    OK    OK  UNNEEDED, same version is already published
palomino7Windows Server 2022 Datacenter / x64  OK    OK    OK    OK  
merida1macOS 12.7.5 Monterey / x86_64  OK    OK    OK    OK  UNNEEDED, same version is already published
kjohnson1macOS 13.6.6 Ventura / arm64  OK    OK    OK    NA  
Package 106/142HostnameOS / ArchINSTALLBUILDCHECKBUILD BIN
rGREAT 2.6.0  (landing page)
Zuguang Gu
git_last_commit: d43a1e0
git_last_commit_date: 2024-04-30 10:41:39 -0400
nebbiolo1Linux (Ubuntu 22.04.3 LTS) / x86_64  OK    OK    OK  UNNEEDED, same version is already published
palomino7Windows Server 2022 Datacenter / x64  OK    OK    OK    OK  
merida1macOS 12.7.5 Monterey / x86_64  OK    OK    OK    OK  UNNEEDED, same version is already published
kjohnson1macOS 13.6.6 Ventura / arm64  OK    OK    OK    NA  
Package 107/142HostnameOS / ArchINSTALLBUILDCHECKBUILD BIN
RiboCrypt 1.10.0  (landing page)
Michal Swirski
git_last_commit: c85539a
git_last_commit_date: 2024-04-30 11:38:54 -0400
nebbiolo1Linux (Ubuntu 22.04.3 LTS) / x86_64  OK    OK    OK  UNNEEDED, same version is already published
palomino7Windows Server 2022 Datacenter / x64  OK    OK    OK    OK  
merida1macOS 12.7.5 Monterey / x86_64  OK    OK    OK    OK  UNNEEDED, same version is already published
kjohnson1macOS 13.6.6 Ventura / arm64  OK    OK    OK    NA  
Package 108/142HostnameOS / ArchINSTALLBUILDCHECKBUILD BIN
RiboDiPA 1.12.0  (landing page)
Ji-Ping Wang
git_last_commit: db5aca7
git_last_commit_date: 2024-04-30 11:30:42 -0400
nebbiolo1Linux (Ubuntu 22.04.3 LTS) / x86_64  OK    OK    OK  UNNEEDED, same version is already published
palomino7Windows Server 2022 Datacenter / x64  OK    OK    OK    OK  
merida1macOS 12.7.5 Monterey / x86_64  OK    OK    OK    OK  UNNEEDED, same version is already published
kjohnson1macOS 13.6.6 Ventura / arm64  OK    OK    OK    NA  
Package 109/142HostnameOS / ArchINSTALLBUILDCHECKBUILD BIN
RiboProfiling 1.34.0  (landing page)
A. Popa
git_last_commit: 324d233
git_last_commit_date: 2024-04-30 10:46:22 -0400
nebbiolo1Linux (Ubuntu 22.04.3 LTS) / x86_64  OK    OK    WARNINGS  UNNEEDED, same version is already published
palomino7Windows Server 2022 Datacenter / x64  OK    OK    WARNINGS    OK  
merida1macOS 12.7.5 Monterey / x86_64  OK    OK    WARNINGS    OK  UNNEEDED, same version is already published
kjohnson1macOS 13.6.6 Ventura / arm64  OK    OK    WARNINGS    NA  
Package 110/142HostnameOS / ArchINSTALLBUILDCHECKBUILD BIN
ribosomeProfilingQC 1.16.0  (landing page)
Jianhong Ou
git_last_commit: 17cef85
git_last_commit_date: 2024-04-30 11:21:08 -0400
nebbiolo1Linux (Ubuntu 22.04.3 LTS) / x86_64  OK    OK    OK  UNNEEDED, same version is already published
palomino7Windows Server 2022 Datacenter / x64  OK    OK    OK    OK  
merida1macOS 12.7.5 Monterey / x86_64  OK    OK    OK    OK  UNNEEDED, same version is already published
kjohnson1macOS 13.6.6 Ventura / arm64  OK    OK    OK    NA  
Package 111/142HostnameOS / ArchINSTALLBUILDCHECKBUILD BIN
RITAN 1.28.0  (landing page)
Michael Zimmermann
git_last_commit: ad476a9
git_last_commit_date: 2024-04-30 10:58:12 -0400
nebbiolo1Linux (Ubuntu 22.04.3 LTS) / x86_64  OK    OK    WARNINGS  UNNEEDED, same version is already published
palomino7Windows Server 2022 Datacenter / x64  OK    OK    WARNINGS    OK  
merida1macOS 12.7.5 Monterey / x86_64  OK    OK    WARNINGS    OK  UNNEEDED, same version is already published
kjohnson1macOS 13.6.6 Ventura / arm64  OK    OK    WARNINGS    NA  
Package 112/142HostnameOS / ArchINSTALLBUILDCHECKBUILD BIN
RLSeq 1.10.0  (landing page)
Henry Miller
git_last_commit: 3f1415b
git_last_commit_date: 2024-04-30 11:39:11 -0400
nebbiolo1Linux (Ubuntu 22.04.3 LTS) / x86_64  OK    ERROR  skipped
palomino7Windows Server 2022 Datacenter / x64  OK    OK    OK    OK  
merida1macOS 12.7.5 Monterey / x86_64  OK    ERROR  skippedskipped
kjohnson1macOS 13.6.6 Ventura / arm64  OK    ERROR  skippedskipped
Package 113/142HostnameOS / ArchINSTALLBUILDCHECKBUILD BIN
RNAmodR 1.18.0  (landing page)
Felix G.M. Ernst
git_last_commit: c4d43a6
git_last_commit_date: 2024-04-30 11:15:21 -0400
nebbiolo1Linux (Ubuntu 22.04.3 LTS) / x86_64  OK    OK    OK  UNNEEDED, same version is already published
palomino7Windows Server 2022 Datacenter / x64  OK    OK    OK    OK  
merida1macOS 12.7.5 Monterey / x86_64  OK    OK    OK    OK  UNNEEDED, same version is already published
kjohnson1macOS 13.6.6 Ventura / arm64  OK    OK    OK    NA  
Package 114/142HostnameOS / ArchINSTALLBUILDCHECKBUILD BIN
SARC 1.2.0  (landing page)
Krutik Patel
git_last_commit: 610c333
git_last_commit_date: 2024-04-30 11:50:40 -0400
nebbiolo1Linux (Ubuntu 22.04.3 LTS) / x86_64  OK    OK    OK  UNNEEDED, same version is already published
palomino7Windows Server 2022 Datacenter / x64  OK    OK    OK    OK  
merida1macOS 12.7.5 Monterey / x86_64  OK    OK    OK    OK  UNNEEDED, same version is already published
kjohnson1macOS 13.6.6 Ventura / arm64  OK    OK    OK    NA  
Package 115/142HostnameOS / ArchINSTALLBUILDCHECKBUILD BIN
saseR 1.0.0  (landing page)
Alexandre Segers
git_last_commit: 83a2bb6
git_last_commit_date: 2024-04-30 11:53:31 -0400
nebbiolo1Linux (Ubuntu 22.04.3 LTS) / x86_64  OK    OK    WARNINGS  UNNEEDED, same version is already published
palomino7Windows Server 2022 Datacenter / x64  OK    OK    WARNINGS    OK  
merida1macOS 12.7.5 Monterey / x86_64  OK    OK    WARNINGS    OK  UNNEEDED, same version is already published
kjohnson1macOS 13.6.6 Ventura / arm64  OK    OK    WARNINGS    NA  
Package 116/142HostnameOS / ArchINSTALLBUILDCHECKBUILD BIN
scanMiRApp 1.10.0  (landing page)
Pierre-Luc Germain
git_last_commit: 93d0c4a
git_last_commit_date: 2024-04-30 11:36:18 -0400
nebbiolo1Linux (Ubuntu 22.04.3 LTS) / x86_64  OK    OK    OK  UNNEEDED, same version is already published
palomino7Windows Server 2022 Datacenter / x64  OK    OK    OK    OK  
merida1macOS 12.7.5 Monterey / x86_64  OK    OK    OK    OK  UNNEEDED, same version is already published
kjohnson1macOS 13.6.6 Ventura / arm64  OK    OK    OK    NA  
Package 117/142HostnameOS / ArchINSTALLBUILDCHECKBUILD BIN
scruff 1.22.0  (landing page)
Zhe Wang
git_last_commit: 0c32919
git_last_commit_date: 2024-04-30 11:07:52 -0400
nebbiolo1Linux (Ubuntu 22.04.3 LTS) / x86_64  OK    OK    OK  UNNEEDED, same version is already published
palomino7Windows Server 2022 Datacenter / x64  OK    OK    OK    OK  
merida1macOS 12.7.5 Monterey / x86_64  OK    OK    OK    OK  UNNEEDED, same version is already published
kjohnson1macOS 13.6.6 Ventura / arm64  OK    OK    OK    NA  
Package 118/142HostnameOS / ArchINSTALLBUILDCHECKBUILD BIN
SGSeq 1.38.0  (landing page)
Leonard Goldstein
git_last_commit: f7dd457
git_last_commit_date: 2024-04-30 10:39:57 -0400
nebbiolo1Linux (Ubuntu 22.04.3 LTS) / x86_64  OK    OK    OK  UNNEEDED, same version is already published
palomino7Windows Server 2022 Datacenter / x64  OK    OK    OK    OK  
merida1macOS 12.7.5 Monterey / x86_64  OK    OK    OK    OK  UNNEEDED, same version is already published
kjohnson1macOS 13.6.6 Ventura / arm64  OK    OK    OK    NA  
Package 119/142HostnameOS / ArchINSTALLBUILDCHECKBUILD BIN
sitadela 1.12.0  (landing page)
Panagiotis Moulos
git_last_commit: 19f078e
git_last_commit_date: 2024-04-30 11:32:08 -0400
nebbiolo1Linux (Ubuntu 22.04.3 LTS) / x86_64  OK    OK    OK  UNNEEDED, same version is already published
palomino7Windows Server 2022 Datacenter / x64  OK    OK    OK    OK  
merida1macOS 12.7.5 Monterey / x86_64  OK    OK    OK    OK  UNNEEDED, same version is already published
kjohnson1macOS 13.6.6 Ventura / arm64  OK    OK    OK    NA  
Package 120/142HostnameOS / ArchINSTALLBUILDCHECKBUILD BIN
spatzie 1.10.0  (landing page)
Jennifer Hammelman
git_last_commit: adb0b9b
git_last_commit_date: 2024-04-30 11:36:15 -0400
nebbiolo1Linux (Ubuntu 22.04.3 LTS) / x86_64  OK    OK    OK  UNNEEDED, same version is already published
palomino7Windows Server 2022 Datacenter / x64  OK    OK    OK    OK  
merida1macOS 12.7.5 Monterey / x86_64  OK    OK    OK    OK  UNNEEDED, same version is already published
kjohnson1macOS 13.6.6 Ventura / arm64  OK    OK    OK    NA  
Package 121/142HostnameOS / ArchINSTALLBUILDCHECKBUILD BIN
SplicingGraphs 1.44.0  (landing page)
H. Pagès
git_last_commit: f431360
git_last_commit_date: 2024-04-30 10:31:50 -0400
nebbiolo1Linux (Ubuntu 22.04.3 LTS) / x86_64  OK    OK    WARNINGS  UNNEEDED, same version is already published
palomino7Windows Server 2022 Datacenter / x64  OK    OK    WARNINGS    OK  
merida1macOS 12.7.5 Monterey / x86_64  OK    OK    WARNINGS    OK  UNNEEDED, same version is already published
kjohnson1macOS 13.6.6 Ventura / arm64  OK    OK    WARNINGS    NA  
Package 122/142HostnameOS / ArchINSTALLBUILDCHECKBUILD BIN
SPLINTER 1.30.0  (landing page)
Diana Low
git_last_commit: 29fb995
git_last_commit_date: 2024-04-30 10:53:54 -0400
nebbiolo1Linux (Ubuntu 22.04.3 LTS) / x86_64  OK    OK    OK  UNNEEDED, same version is already published
palomino7Windows Server 2022 Datacenter / x64  OK    OK    WARNINGS    OK  
merida1macOS 12.7.5 Monterey / x86_64  OK    OK    OK    OK  UNNEEDED, same version is already published
kjohnson1macOS 13.6.6 Ventura / arm64  OK    ERROR  skippedskipped
Package 123/142HostnameOS / ArchINSTALLBUILDCHECKBUILD BIN
srnadiff 1.24.0  (landing page)
Zytnicki Matthias
git_last_commit: 12aa125
git_last_commit_date: 2024-04-30 11:03:38 -0400
nebbiolo1Linux (Ubuntu 22.04.3 LTS) / x86_64  OK    OK    TIMEOUT  
palomino7Windows Server 2022 Datacenter / x64  OK    OK    TIMEOUT    OK  
merida1macOS 12.7.5 Monterey / x86_64  OK    OK    TIMEOUT    OK  
kjohnson1macOS 13.6.6 Ventura / arm64  OK    OK    TIMEOUT    NA  
Package 124/142HostnameOS / ArchINSTALLBUILDCHECKBUILD BIN
StructuralVariantAnnotation 1.20.0  (landing page)
Daniel Cameron
git_last_commit: 95de7cb
git_last_commit_date: 2024-04-30 11:15:07 -0400
nebbiolo1Linux (Ubuntu 22.04.3 LTS) / x86_64  OK    OK    OK  UNNEEDED, same version is already published
palomino7Windows Server 2022 Datacenter / x64  OK    OK    OK    OK  
merida1macOS 12.7.5 Monterey / x86_64  OK    OK    OK    OK  UNNEEDED, same version is already published
kjohnson1macOS 13.6.6 Ventura / arm64  OK    OK    OK    NA  
Package 125/142HostnameOS / ArchINSTALLBUILDCHECKBUILD BIN
svaNUMT 1.10.0  (landing page)
Ruining Dong
git_last_commit: 760b990
git_last_commit_date: 2024-04-30 11:35:44 -0400
nebbiolo1Linux (Ubuntu 22.04.3 LTS) / x86_64  OK    OK    OK  UNNEEDED, same version is already published
palomino7Windows Server 2022 Datacenter / x64  OK    OK    OK    OK  
merida1macOS 12.7.5 Monterey / x86_64  OK    OK    OK    OK  UNNEEDED, same version is already published
kjohnson1macOS 13.6.6 Ventura / arm64  OK    OK    OK    NA  
Package 126/142HostnameOS / ArchINSTALLBUILDCHECKBUILD BIN
svaRetro 1.10.0  (landing page)
Ruining Dong
git_last_commit: d0a70d7
git_last_commit_date: 2024-04-30 11:36:51 -0400
nebbiolo1Linux (Ubuntu 22.04.3 LTS) / x86_64  OK    OK    OK  UNNEEDED, same version is already published
palomino7Windows Server 2022 Datacenter / x64  OK    OK    OK    OK  
merida1macOS 12.7.5 Monterey / x86_64  OK    OK    OK    OK  UNNEEDED, same version is already published
kjohnson1macOS 13.6.6 Ventura / arm64  OK    OK    OK    NA  
Package 127/142HostnameOS / ArchINSTALLBUILDCHECKBUILD BIN
TAPseq 1.16.0  (landing page)
Andreas R. Gschwind
git_last_commit: e3d22d8
git_last_commit_date: 2024-04-30 11:21:30 -0400
nebbiolo1Linux (Ubuntu 22.04.3 LTS) / x86_64  OK    OK    WARNINGS  UNNEEDED, same version is already published
palomino7Windows Server 2022 Datacenter / x64  OK    OK    WARNINGS    OK  
merida1macOS 12.7.5 Monterey / x86_64  OK    OK    WARNINGS    OK  UNNEEDED, same version is already published
kjohnson1macOS 13.6.6 Ventura / arm64  OK    OK    WARNINGS    NA  
Package 128/142HostnameOS / ArchINSTALLBUILDCHECKBUILD BIN
TCGAutils 1.24.0  (landing page)
Marcel Ramos
git_last_commit: 9707923
git_last_commit_date: 2024-04-30 11:06:17 -0400
nebbiolo1Linux (Ubuntu 22.04.3 LTS) / x86_64  OK    OK    OK  UNNEEDED, same version is already published
palomino7Windows Server 2022 Datacenter / x64  OK    OK    OK    OK  
merida1macOS 12.7.5 Monterey / x86_64  OK    OK    OK    OK  UNNEEDED, same version is already published
kjohnson1macOS 13.6.6 Ventura / arm64  OK    OK    OK    NA  
Package 129/142HostnameOS / ArchINSTALLBUILDCHECKBUILD BIN
TFEA.ChIP 1.24.0  (landing page)
Laura Puente Santamaría
git_last_commit: 558f990
git_last_commit_date: 2024-04-30 11:03:03 -0400
nebbiolo1Linux (Ubuntu 22.04.3 LTS) / x86_64  OK    OK    OK  UNNEEDED, same version is already published
palomino7Windows Server 2022 Datacenter / x64  OK    OK    OK    OK  
merida1macOS 12.7.5 Monterey / x86_64  OK    OK    OK    OK  UNNEEDED, same version is already published
kjohnson1macOS 13.6.6 Ventura / arm64  OK    OK    OK    NA  
Package 130/142HostnameOS / ArchINSTALLBUILDCHECKBUILD BIN
trackViewer 1.40.0  (landing page)
Jianhong Ou
git_last_commit: 14c514b
git_last_commit_date: 2024-04-30 10:34:52 -0400
nebbiolo1Linux (Ubuntu 22.04.3 LTS) / x86_64  OK    OK    OK  UNNEEDED, same version is already published
palomino7Windows Server 2022 Datacenter / x64  OK    OK    OK    OK  
merida1macOS 12.7.5 Monterey / x86_64  OK    OK    OK    OK  UNNEEDED, same version is already published
kjohnson1macOS 13.6.6 Ventura / arm64  OK    OK    OK    NA  
Package 131/142HostnameOS / ArchINSTALLBUILDCHECKBUILD BIN
transcriptR 1.32.0  (landing page)
Armen R. Karapetyan
git_last_commit: 9485856
git_last_commit_date: 2024-04-30 10:47:14 -0400
nebbiolo1Linux (Ubuntu 22.04.3 LTS) / x86_64  OK    OK    OK  UNNEEDED, same version is already published
palomino7Windows Server 2022 Datacenter / x64  OK    OK    OK    OK  
merida1macOS 12.7.5 Monterey / x86_64  OK    OK    OK    OK  UNNEEDED, same version is already published
kjohnson1macOS 13.6.6 Ventura / arm64  OK    OK    OK    NA  
Package 132/142HostnameOS / ArchINSTALLBUILDCHECKBUILD BIN
transmogR 1.0.0  (landing page)
Stevie Pederson
git_last_commit: 986a846
git_last_commit_date: 2024-04-30 11:54:12 -0400
nebbiolo1Linux (Ubuntu 22.04.3 LTS) / x86_64  OK    OK    OK  UNNEEDED, same version is already published
palomino7Windows Server 2022 Datacenter / x64  OK    OK    OK    OK  
merida1macOS 12.7.5 Monterey / x86_64  OK    OK    OK    OK  UNNEEDED, same version is already published
kjohnson1macOS 13.6.6 Ventura / arm64  OK    OK    OK    NA  
Package 133/142HostnameOS / ArchINSTALLBUILDCHECKBUILD BIN
TRESS 1.10.0  (landing page)
Zhenxing Guo
git_last_commit: 85863f3
git_last_commit_date: 2024-04-30 11:37:58 -0400
nebbiolo1Linux (Ubuntu 22.04.3 LTS) / x86_64  OK    OK    OK  UNNEEDED, same version is already published
palomino7Windows Server 2022 Datacenter / x64  OK    OK    OK    OK  
merida1macOS 12.7.5 Monterey / x86_64  OK    OK    OK    OK  UNNEEDED, same version is already published
kjohnson1macOS 13.6.6 Ventura / arm64  OK    OK    OK    NA  
Package 134/142HostnameOS / ArchINSTALLBUILDCHECKBUILD BIN
txcutr 1.10.0  (landing page)
Mervin Fansler
git_last_commit: 0333b6d
git_last_commit_date: 2024-04-30 11:38:51 -0400
nebbiolo1Linux (Ubuntu 22.04.3 LTS) / x86_64  OK    OK    OK  UNNEEDED, same version is already published
palomino7Windows Server 2022 Datacenter / x64  OK    OK    OK    OK  
merida1macOS 12.7.5 Monterey / x86_64  OK    OK    OK    OK  UNNEEDED, same version is already published
kjohnson1macOS 13.6.6 Ventura / arm64  OK    OK    OK    NA  
Package 135/142HostnameOS / ArchINSTALLBUILDCHECKBUILD BIN
txdbmaker 1.0.1  (landing page)
H. Pagès
git_last_commit: 555cfa8
git_last_commit_date: 2024-06-19 17:41:46 -0400
nebbiolo1Linux (Ubuntu 22.04.3 LTS) / x86_64  OK    OK    OK  UNNEEDED, same version is already published
palomino7Windows Server 2022 Datacenter / x64  OK    OK    ERROR    OK  
merida1macOS 12.7.5 Monterey / x86_64  OK    OK    OK    OK  UNNEEDED, same version is already published
kjohnson1macOS 13.6.6 Ventura / arm64  OK    OK    OK    NA  
Package 136/142HostnameOS / ArchINSTALLBUILDCHECKBUILD BIN
tximeta 1.22.1  (landing page)
Michael Love
git_last_commit: d63e297
git_last_commit_date: 2024-05-14 09:31:08 -0400
nebbiolo1Linux (Ubuntu 22.04.3 LTS) / x86_64  OK    OK    OK  UNNEEDED, same version is already published
palomino7Windows Server 2022 Datacenter / x64  OK    OK    OK    OK  
merida1macOS 12.7.5 Monterey / x86_64  OK    OK    OK    OK  UNNEEDED, same version is already published
kjohnson1macOS 13.6.6 Ventura / arm64  OK    OK    OK    NA  
Package 137/142HostnameOS / ArchINSTALLBUILDCHECKBUILD BIN
Ularcirc 1.22.0  (landing page)
David Humphreys
git_last_commit: 839155f
git_last_commit_date: 2024-04-30 11:07:08 -0400
nebbiolo1Linux (Ubuntu 22.04.3 LTS) / x86_64  OK    OK    WARNINGS  UNNEEDED, same version is already published
palomino7Windows Server 2022 Datacenter / x64  OK    OK    WARNINGS    OK  
merida1macOS 12.7.5 Monterey / x86_64  OK    OK    WARNINGS    OK  UNNEEDED, same version is already published
kjohnson1macOS 13.6.6 Ventura / arm64  OK    OK    WARNINGS    NA  
Package 138/142HostnameOS / ArchINSTALLBUILDCHECKBUILD BIN
UMI4Cats 1.14.0  (landing page)
Mireia Ramos-Rodriguez
git_last_commit: 0cd2846
git_last_commit_date: 2024-04-30 11:25:59 -0400
nebbiolo1Linux (Ubuntu 22.04.3 LTS) / x86_64  OK    OK    OK  UNNEEDED, same version is already published
palomino7Windows Server 2022 Datacenter / x64  ERROR    ERROR  skippedskipped
merida1macOS 12.7.5 Monterey / x86_64  OK    OK    OK    OK  UNNEEDED, same version is already published
kjohnson1macOS 13.6.6 Ventura / arm64  OK    OK    OK    NA  
Package 139/142HostnameOS / ArchINSTALLBUILDCHECKBUILD BIN
VariantAnnotation 1.50.0  (landing page)
Bioconductor Package Maintainer
git_last_commit: 7805cec
git_last_commit_date: 2024-04-30 10:25:08 -0400
nebbiolo1Linux (Ubuntu 22.04.3 LTS) / x86_64  OK    OK    WARNINGS  UNNEEDED, same version is already published
palomino7Windows Server 2022 Datacenter / x64  OK    OK    WARNINGS    OK  
merida1macOS 12.7.5 Monterey / x86_64  OK    ERROR  skippedskipped
kjohnson1macOS 13.6.6 Ventura / arm64  OK    OK    WARNINGS    NA  
Package 140/142HostnameOS / ArchINSTALLBUILDCHECKBUILD BIN
VariantFiltering 1.40.0  (landing page)
Robert Castelo
git_last_commit: 4fd2f0f
git_last_commit_date: 2024-04-30 10:36:09 -0400
nebbiolo1Linux (Ubuntu 22.04.3 LTS) / x86_64  OK    OK    OK  UNNEEDED, same version is already published
palomino7Windows Server 2022 Datacenter / x64  OK    OK    OK    OK  
merida1macOS 12.7.5 Monterey / x86_64  OK    OK    OK    OK  UNNEEDED, same version is already published
kjohnson1macOS 13.6.6 Ventura / arm64  OK    OK    OK    NA  
Package 141/142HostnameOS / ArchINSTALLBUILDCHECKBUILD BIN
VariantTools 1.46.0  (landing page)
Michael Lawrence
git_last_commit: 4376907
git_last_commit_date: 2024-04-30 10:29:25 -0400
nebbiolo1Linux (Ubuntu 22.04.3 LTS) / x86_64  OK    OK    WARNINGS  UNNEEDED, same version is already published
palomino7Windows Server 2022 Datacenter / x64  OK    OK    WARNINGS    OK  
merida1macOS 12.7.5 Monterey / x86_64  OK    OK    WARNINGS    OK  UNNEEDED, same version is already published
kjohnson1macOS 13.6.6 Ventura / arm64  OK    OK    WARNINGS    NA  
Package 142/142HostnameOS / ArchINSTALLBUILDCHECKBUILD BIN
wavClusteR 2.38.0  (landing page)
Federico Comoglio
git_last_commit: 638af1c
git_last_commit_date: 2024-04-30 10:36:55 -0400
nebbiolo1Linux (Ubuntu 22.04.3 LTS) / x86_64  OK    OK    OK  UNNEEDED, same version is already published
palomino7Windows Server 2022 Datacenter / x64  OK    OK    OK    OK  
merida1macOS 12.7.5 Monterey / x86_64  OK    OK    OK    OK  UNNEEDED, same version is already published
kjohnson1macOS 13.6.6 Ventura / arm64  OK    OK    OK    NA