Back to Multiple platform build/check report for BioC 3.12
AB[C]DEFGHIJKLMNOPQRSTUVWXYZ

Multiple platform build/check report for BioC 3.12

Results for CNVfilteR

This page was generated on 2020-11-30 12:11:37 -0500 (Mon, 30 Nov 2020).

Package 339/1974HostnameOS / ArchINSTALLBUILDCHECKBUILD BIN
CNVfilteR 1.4.1
Jose Marcos Moreno-Cabrera
Snapshot Date: 2020-11-29 14:40:18 -0500 (Sun, 29 Nov 2020)
URL: https://git.bioconductor.org/packages/CNVfilteR
Branch: RELEASE_3_12
Last Commit: 7fa5f13
Last Changed Date: 2020-11-29 01:39:07 -0500 (Sun, 29 Nov 2020)
malbec1 Linux (Ubuntu 18.04.4 LTS) / x86_64  OK  OK  OK YES, new version is higher than in internal repository
nebbiolo1 Linux (Ubuntu 20.04.1 LTS) / x86_64  OK  OK  OK 
tokay1 Windows Server 2012 R2 Standard / x64  OK  OK  OK  OK YES, new version is higher than in internal repository
merida1 macOS 10.14.6 Mojave / x86_64  OK  OK  OK  OK YES, new version is higher than in internal repository