Back to Multiple platform build/check report for BioC 3.12
ABCDEF[G]HIJKLMNOPQRSTUVWXYZ

Multiple platform build/check report for BioC 3.12

Results for GOTHiC

This page was generated on 2020-11-30 12:11:41 -0500 (Mon, 30 Nov 2020).

Package 769/1974HostnameOS / ArchINSTALLBUILDCHECKBUILD BIN
GOTHiC 1.26.0
Borbala Mifsud
Snapshot Date: 2020-11-29 14:40:18 -0500 (Sun, 29 Nov 2020)
URL: https://git.bioconductor.org/packages/GOTHiC
Branch: RELEASE_3_12
Last Commit: 49fc755
Last Changed Date: 2020-10-27 11:47:18 -0500 (Tue, 27 Oct 2020)
malbec1 Linux (Ubuntu 18.04.4 LTS) / x86_64  OK  OK  OK UNNEEDED, same version exists in internal repository
nebbiolo1 Linux (Ubuntu 20.04.1 LTS) / x86_64  OK  OK  OK 
tokay1 Windows Server 2012 R2 Standard / x64  OK  OK  ERROR  OK 
merida1 macOS 10.14.6 Mojave / x86_64  OK  OK  OK  OK UNNEEDED, same version exists in internal repository