Back to Build/check report for BioC 3.15
ABCDEFGHIJKLMNOPQR[S]TUVWXYZ

This page was generated on 2022-06-27 11:10:08 -0400 (Mon, 27 Jun 2022).

HostnameOSArch (*)R versionInstalled pkgs
nebbiolo1Linux (Ubuntu 20.04.4 LTS)x86_644.2.0 (2022-04-22) -- "Vigorous Calisthenics" 4380
Click on any hostname to see more info about the system (e.g. compilers)      (*) as reported by 'uname -p', except on Windows and Mac OS X

BUILD results for shinyepico on nebbiolo1


To the developers/maintainers of the shinyepico package:
- Please allow up to 24 hours (and sometimes 48 hours) for your latest push to git@git.bioconductor.org:packages/shinyepico.git to
reflect on this report. See How and When does the builder pull? When will my changes propagate? for more information.
- Make sure to use the following settings in order to reproduce any error or warning you see on this page.

raw results

Package 1829/2140HostnameOS / ArchINSTALLBUILDCHECKBUILD BIN
shinyepico 1.4.2  (landing page)
Octavio Morante-Palacios
Snapshot Date: 2022-06-26 13:55:11 -0400 (Sun, 26 Jun 2022)
git_url: https://git.bioconductor.org/packages/shinyepico
git_branch: RELEASE_3_15
git_last_commit: 731c058
git_last_commit_date: 2022-05-18 14:37:19 -0400 (Wed, 18 May 2022)
nebbiolo1Linux (Ubuntu 20.04.4 LTS) / x86_64  OK    OK    OK  UNNEEDED, same version is already published

Summary

Package: shinyepico
Version: 1.4.2
Command: /home/biocbuild/bbs-3.15-bioc/R/bin/R CMD build --keep-empty-dirs --no-resave-data shinyepico
StartedAt: 2022-06-26 17:51:31 -0400 (Sun, 26 Jun 2022)
EndedAt: 2022-06-26 17:51:41 -0400 (Sun, 26 Jun 2022)
EllapsedTime: 10.0 seconds
RetCode: 0
Status:   OK  
PackageFile: shinyepico_1.4.2.tar.gz
PackageFileSize: 2.232 MiB

Command output

##############################################################################
##############################################################################
###
### Running command:
###
###   /home/biocbuild/bbs-3.15-bioc/R/bin/R CMD build --keep-empty-dirs --no-resave-data shinyepico
###
##############################################################################
##############################################################################


* checking for file ‘shinyepico/DESCRIPTION’ ... OK
* preparing ‘shinyepico’:
* checking DESCRIPTION meta-information ... OK
* installing the package to build vignettes
* creating vignettes ... OK
* checking for LF line-endings in source and make files and shell scripts
* checking for empty or unneeded directories
Omitted ‘LazyData’ from DESCRIPTION
* building ‘shinyepico_1.4.2.tar.gz’