Back to Multiple platform build/check report for BioC 3.19:   simplified   long
ABCDEFGHIJKL[M]NOPQRSTUVWXYZ

This page was generated on 2024-07-19 17:40 -0400 (Fri, 19 Jul 2024).

HostnameOSArch (*)R versionInstalled pkgs
nebbiolo1Linux (Ubuntu 22.04.3 LTS)x86_644.4.1 (2024-06-14) -- "Race for Your Life" 4742
palomino7Windows Server 2022 Datacenterx644.4.1 (2024-06-14 ucrt) -- "Race for Your Life" 4484
merida1macOS 12.7.5 Montereyx86_644.4.1 (2024-06-14) -- "Race for Your Life" 4513
kjohnson1macOS 13.6.6 Venturaarm644.4.1 (2024-06-14) -- "Race for Your Life" 4462
Click on any hostname to see more info about the system (e.g. compilers)      (*) as reported by 'uname -p', except on Windows and Mac OS X

Package 1229/2300HostnameOS / ArchINSTALLBUILDCHECKBUILD BIN
methInheritSim 1.26.0  (landing page)
Pascal Belleau
Snapshot Date: 2024-07-17 14:00 -0400 (Wed, 17 Jul 2024)
git_url: https://git.bioconductor.org/packages/methInheritSim
git_branch: RELEASE_3_19
git_last_commit: 8d60c74
git_last_commit_date: 2024-04-30 10:58:22 -0400 (Tue, 30 Apr 2024)
nebbiolo1Linux (Ubuntu 22.04.3 LTS) / x86_64  OK    OK    OK  UNNEEDED, same version is already published
palomino7Windows Server 2022 Datacenter / x64  OK    OK    OK    OK  
merida1macOS 12.7.5 Monterey / x86_64  OK    OK    OK    OK  UNNEEDED, same version is already published
kjohnson1macOS 13.6.6 Ventura / arm64  OK    OK    OK    OK  UNNEEDED, same version is already published


BUILD results for methInheritSim on merida1

To the developers/maintainers of the methInheritSim package:
- Allow up to 24 hours (and sometimes 48 hours) for your latest push to git@git.bioconductor.org:packages/methInheritSim.git to reflect on this report. See Troubleshooting Build Report for more information.
- Use the following Renviron settings to reproduce errors and warnings.
- If 'R CMD check' started to fail recently on the Linux builder(s) over a missing dependency, add the missing dependency to 'Suggests:' in your DESCRIPTION file. See Renviron.bioc for more information.

raw results


Summary

Package: methInheritSim
Version: 1.26.0
Command: /Library/Frameworks/R.framework/Resources/bin/R CMD build --keep-empty-dirs --no-resave-data methInheritSim
StartedAt: 2024-07-17 20:41:21 -0400 (Wed, 17 Jul 2024)
EndedAt: 2024-07-17 20:44:15 -0400 (Wed, 17 Jul 2024)
EllapsedTime: 174.5 seconds
RetCode: 0
Status:   OK  
PackageFile: methInheritSim_1.26.0.tar.gz
PackageFileSize: 1.117 MiB

Command output

##############################################################################
##############################################################################
###
### Running command:
###
###   /Library/Frameworks/R.framework/Resources/bin/R CMD build --keep-empty-dirs --no-resave-data methInheritSim
###
##############################################################################
##############################################################################


* checking for file ‘methInheritSim/DESCRIPTION’ ... OK
* preparing ‘methInheritSim’:
* checking DESCRIPTION meta-information ... OK
* installing the package to build vignettes
* creating vignettes ... OK
* checking for LF line-endings in source and make files and shell scripts
* checking for empty or unneeded directories
* looking to see if a ‘data/datalist’ file should be added
  NB: this package now depends on R (>= 3.5.0)
  WARNING: Added dependency on R >= 3.5.0 because serialized objects in
  serialize/load version 3 cannot be read in older versions of R.
  File(s) containing such objects:
    ‘methInheritSim/data/dataSimExample.RData’
    ‘methInheritSim/vignettes/demo_runSim/methylGR_S1_1_3_0.9_0.8_0.5_1.rds’
    ‘methInheritSim/vignettes/demo_runSim/methylGR_S1_1_3_0.9_0.8_0.5_2.rds’
    ‘methInheritSim/vignettes/demo_runSim/methylGR_S1_1_6_0.9_0.8_0.5_1.rds’
    ‘methInheritSim/vignettes/demo_runSim/methylGR_S1_1_6_0.9_0.8_0.5_2.rds’
    ‘methInheritSim/vignettes/demo_runSim/simData_S1_1_3_0.9_0.8_0.5_1.rds’
    ‘methInheritSim/vignettes/demo_runSim/simData_S1_1_3_0.9_0.8_0.5_2.rds’
    ‘methInheritSim/vignettes/demo_runSim/simData_S1_1_6_0.9_0.8_0.5_1.rds’
    ‘methInheritSim/vignettes/demo_runSim/simData_S1_1_6_0.9_0.8_0.5_2.rds’
    ‘methInheritSim/vignettes/demo_runSim/syntheticChr_S1_1.rds’
* building ‘methInheritSim_1.26.0.tar.gz’