Back to Multiple platform build/check report for BioC 3.15
ABCDEFGHIJKL[M]NOPQRSTUVWXYZ

This page was generated on 2022-08-15 13:20:27 -0400 (Mon, 15 Aug 2022).

HostnameOSArch (*)R versionInstalled pkgs
nebbiolo1Linux (Ubuntu 20.04.4 LTS)x86_644.2.1 (2022-06-23) -- "Funny-Looking Kid" 4365
palomino3Windows Server 2022 Datacenterx644.2.1 (2022-06-23 ucrt) -- "Funny-Looking Kid" 4118
merida1macOS 10.14.6 Mojavex86_644.2.1 (2022-06-23) -- "Funny-Looking Kid" 4183
Click on any hostname to see more info about the system (e.g. compilers)      (*) as reported by 'uname -p', except on Windows and Mac OS X

BUILD results for methimpute on nebbiolo1


To the developers/maintainers of the methimpute package:
- Please allow up to 24 hours (and sometimes 48 hours) for your latest push to git@git.bioconductor.org:packages/methimpute.git to
reflect on this report. See How and When does the builder pull? When will my changes propagate? for more information.
- Make sure to use the following settings in order to reproduce any error or warning you see on this page.

raw results

Package 1141/2140HostnameOS / ArchINSTALLBUILDCHECKBUILD BIN
methimpute 1.18.0  (landing page)
Aaron Taudt
Snapshot Date: 2022-08-14 13:55:13 -0400 (Sun, 14 Aug 2022)
git_url: https://git.bioconductor.org/packages/methimpute
git_branch: RELEASE_3_15
git_last_commit: eb32b6c
git_last_commit_date: 2022-04-26 11:44:00 -0400 (Tue, 26 Apr 2022)
nebbiolo1Linux (Ubuntu 20.04.4 LTS) / x86_64  OK    OK    OK  UNNEEDED, same version is already published
palomino3Windows Server 2022 Datacenter / x64  OK    OK    OK    OK  UNNEEDED, same version is already published
merida1macOS 10.14.6 Mojave / x86_64  OK    OK    OK    OK  UNNEEDED, same version is already published

Summary

Package: methimpute
Version: 1.18.0
Command: /home/biocbuild/bbs-3.15-bioc/R/bin/R CMD build --keep-empty-dirs --no-resave-data methimpute
StartedAt: 2022-08-14 16:56:38 -0400 (Sun, 14 Aug 2022)
EndedAt: 2022-08-14 16:58:56 -0400 (Sun, 14 Aug 2022)
EllapsedTime: 137.2 seconds
RetCode: 0
Status:   OK  
PackageFile: methimpute_1.18.0.tar.gz
PackageFileSize: 1.258 MiB

Command output

##############################################################################
##############################################################################
###
### Running command:
###
###   /home/biocbuild/bbs-3.15-bioc/R/bin/R CMD build --keep-empty-dirs --no-resave-data methimpute
###
##############################################################################
##############################################################################


* checking for file ‘methimpute/DESCRIPTION’ ... OK
* preparing ‘methimpute’:
* checking DESCRIPTION meta-information ... OK
* cleaning src
* installing the package to build vignettes
* creating vignettes ... OK
* cleaning src
* checking for LF line-endings in source and make files and shell scripts
* checking for empty or unneeded directories
* looking to see if a ‘data/datalist’ file should be added
  NB: this package now depends on R (>= 3.5.0)
  WARNING: Added dependency on R >= 3.5.0 because serialized objects in
  serialize/load version 3 cannot be read in older versions of R.
  File(s) containing such objects:
    ‘methimpute/data/arabidopsis_TEs.RData’
    ‘methimpute/data/arabidopsis_genes.RData’
    ‘methimpute/data/arabidopsis_toydata.RData’
* building ‘methimpute_1.18.0.tar.gz’