Back to Multiple platform build/check report for BioC 3.11
ABCDEFGHIJKL[M]NOPQRSTUVWXYZ

Multiple platform build/check report for BioC 3.11

Results for MDTS

This page was generated on 2020-09-23 11:43:43 -0400 (Wed, 23 Sep 2020).

Package 1014/1905HostnameOS / ArchINSTALLBUILDCHECKBUILD BIN
MDTS 1.8.0
Jack M.. Fu
Snapshot Date: 2020-09-22 14:51:36 -0400 (Tue, 22 Sep 2020)
URL: https://git.bioconductor.org/packages/MDTS
Branch: RELEASE_3_11
Last Commit: 80d165b
Last Changed Date: 2020-04-27 15:14:29 -0400 (Mon, 27 Apr 2020)
malbec2 Linux (Ubuntu 18.04.4 LTS) / x86_64  OK  OK  OK UNNEEDED, same version exists in internal repository
tokay2 Windows Server 2012 R2 Standard / x64  OK  OK  OK  OK UNNEEDED, same version exists in internal repository
machv2 macOS 10.14.6 Mojave / x86_64  OK  OK  OK  OK UNNEEDED, same version exists in internal repository