Back to Multiple platform build/check report for BioC 3.14
AB[C]DEFGHIJKLMNOPQRSTUVWXYZ

This page was generated on 2021-11-29 15:04:23 -0500 (Mon, 29 Nov 2021).

All results for package chipseq

To the developers/maintainers of the chipseq package:
- Please allow up to 24 hours (and sometimes 48 hours) for your latest push to git@git.bioconductor.org:packages/chipseq.git to
reflect on this report. See How and When does the builder pull? When will my changes propagate? here for more information.
- Make sure to use the following settings in order to reproduce any error or warning you see on this page.

raw results

Package 305/2083HostnameOS / ArchINSTALLBUILDCHECKBUILD BIN
chipseq 1.44.0  (landing page)
Bioconductor Package Maintainer
Snapshot Date: 2021-11-28 04:15:06 -0500 (Sun, 28 Nov 2021)
git_url: https://git.bioconductor.org/packages/chipseq
git_branch: RELEASE_3_14
git_last_commit: b64d0d2
git_last_commit_date: 2021-10-26 11:54:04 -0500 (Tue, 26 Oct 2021)
nebbiolo2Linux (Ubuntu 20.04.3 LTS) / x86_64  OK    OK    WARNINGS  UNNEEDED, same version is already published
tokay2Windows Server 2012 R2 Standard / x64  OK    OK    WARNINGS    OK  UNNEEDED, same version is already published
machv2macOS 10.14.6 Mojave / x86_64  OK    OK    WARNINGS    OK  UNNEEDED, same version is already published

Results for Bioconductor software packages that depend directly on package chipseq

QUICK STATSOS / ArchINSTALLBUILDCHECKBUILD BIN
nebbiolo2Linux (Ubuntu 20.04.3 LTS) / x86_64
005
005
0014
tokay2Windows Server 2012 R2 Standard / x64
004
004
0013
004
machv2macOS 10.14.6 Mojave / x86_64
004
004
0013
004
Package 1/5HostnameOS / ArchINSTALLBUILDCHECKBUILD BIN
ChIPQC 1.30.0  (landing page)
Tom Carroll , Rory Stark
git_last_commit: 566bb1a
git_last_commit_date: 2021-10-26 12:12:48 -0500
nebbiolo2Linux (Ubuntu 20.04.3 LTS) / x86_64  OK    OK    WARNINGS  UNNEEDED, same version is already published
tokay2Windows Server 2012 R2 Standard / x64  OK    OK    WARNINGS    OK  UNNEEDED, same version is already published
machv2macOS 10.14.6 Mojave / x86_64  OK    OK    WARNINGS    OK  UNNEEDED, same version is already published
Package 2/5HostnameOS / ArchINSTALLBUILDCHECKBUILD BIN
CopywriteR 2.26.0  (landing page)
Oscar Krijgsman
git_last_commit: 84f6999
git_last_commit_date: 2021-10-26 12:19:59 -0500
nebbiolo2Linux (Ubuntu 20.04.3 LTS) / x86_64  OK    OK    OK  UNNEEDED, same version is already published
tokay2Windows Server 2012 R2 Standard / x64  OK    OK    OK    OK  UNNEEDED, same version is already published
machv2macOS 10.14.6 Mojave / x86_64  OK    OK    OK    OK  UNNEEDED, same version is already published
Package 3/5HostnameOS / ArchINSTALLBUILDCHECKBUILD BIN
HTSeqGenie 4.24.0  (landing page)
Jens Reeder
git_last_commit: eb291fb
git_last_commit_date: 2021-10-26 12:05:03 -0500
nebbiolo2Linux (Ubuntu 20.04.3 LTS) / x86_64  OK    OK    OK  UNNEEDED, same version is already published
tokay2Windows Server 2012 R2 Standard / x64... NOT SUPPORTED ...
machv2macOS 10.14.6 Mojave / x86_64... NOT SUPPORTED ...
Package 4/5HostnameOS / ArchINSTALLBUILDCHECKBUILD BIN
soGGi 1.26.0  (landing page)
Tom Carroll
git_last_commit: 15900b3
git_last_commit_date: 2021-10-26 12:20:13 -0500
nebbiolo2Linux (Ubuntu 20.04.3 LTS) / x86_64  OK    OK    OK  UNNEEDED, same version is already published
tokay2Windows Server 2012 R2 Standard / x64  OK    OK    OK    OK  UNNEEDED, same version is already published
machv2macOS 10.14.6 Mojave / x86_64  OK    OK    OK    OK  UNNEEDED, same version is already published
Package 5/5HostnameOS / ArchINSTALLBUILDCHECKBUILD BIN
transcriptR 1.22.0  (landing page)
Armen R. Karapetyan
git_last_commit: 6605278
git_last_commit_date: 2021-10-26 12:24:18 -0500
nebbiolo2Linux (Ubuntu 20.04.3 LTS) / x86_64  OK    OK    OK  UNNEEDED, same version is already published
tokay2Windows Server 2012 R2 Standard / x64  OK    OK    OK    OK  UNNEEDED, same version is already published
machv2macOS 10.14.6 Mojave / x86_64  OK    OK    OK    OK  UNNEEDED, same version is already published