Back to Multiple platform build/check report for BioC 3.18:   simplified   long
ABCDEF[G]HIJKLMNOPQRSTUVWXYZ

This page was generated on 2024-02-21 11:35:18 -0500 (Wed, 21 Feb 2024).

HostnameOSArch (*)R versionInstalled pkgs
nebbiolo2Linux (Ubuntu 22.04.3 LTS)x86_644.3.2 Patched (2023-11-13 r85521) -- "Eye Holes" 4691
palomino4Windows Server 2022 Datacenterx644.3.2 (2023-10-31 ucrt) -- "Eye Holes" 4444
lconwaymacOS 12.7.1 Montereyx86_644.3.2 Patched (2023-11-01 r85457) -- "Eye Holes" 4465
Click on any hostname to see more info about the system (e.g. compilers)      (*) as reported by 'uname -p', except on Windows and Mac OS X

All results for package Gviz


To the developers/maintainers of the Gviz package:
- Allow up to 24 hours (and sometimes 48 hours) for your latest push to git@git.bioconductor.org:packages/Gviz.git to reflect on this report. See Troubleshooting Build Report for more information.
- Use the following Renviron settings to reproduce errors and warnings.
- If 'R CMD check' started to fail recently on the Linux builder(s) over a missing dependency, add the missing dependency to 'Suggests:' in your DESCRIPTION file. See Renviron.bioc for more information.

raw results

Package 923/2266HostnameOS / ArchINSTALLBUILDCHECKBUILD BIN
Gviz 1.46.1  (landing page)
Robert Ivanek
Snapshot Date: 2024-02-20 14:05:06 -0500 (Tue, 20 Feb 2024)
git_url: https://git.bioconductor.org/packages/Gviz
git_branch: RELEASE_3_18
git_last_commit: ef98aa8
git_last_commit_date: 2023-11-16 09:48:08 -0500 (Thu, 16 Nov 2023)
nebbiolo2Linux (Ubuntu 22.04.3 LTS) / x86_64  OK    OK    OK  UNNEEDED, same version is already published
palomino4Windows Server 2022 Datacenter / x64  OK    OK    OK    OK  UNNEEDED, same version is already published
lconwaymacOS 12.7.1 Monterey / x86_64  OK    OK    OK    OK  UNNEEDED, same version is already published
kjohnson1macOS 13.6.1 Ventura / arm64see weekly results here

Results for Bioconductor software packages that depend directly on package Gviz

QUICK STATSOS / ArchINSTALLBUILDCHECKBUILD BIN
nebbiolo2Linux (Ubuntu 22.04.3 LTS) / x86_64
0037
0136
001125
palomino4Windows Server 2022 Datacenter / x64
0036
0135
001124
0035
lconwaymacOS 12.7.1 Monterey / x86_64
0037
0136
001125
0036
Package 1/37HostnameOS / ArchINSTALLBUILDCHECKBUILD BIN
AllelicImbalance 1.40.0  (landing page)
Jesper R Gadin
git_last_commit: e3fc911
git_last_commit_date: 2023-10-24 09:56:05 -0500
nebbiolo2Linux (Ubuntu 22.04.3 LTS) / x86_64  OK    OK    OK  UNNEEDED, same version is already published
palomino4Windows Server 2022 Datacenter / x64  OK    OK    OK    OK  UNNEEDED, same version is already published
lconwaymacOS 12.7.1 Monterey / x86_64  OK    OK    OK    OK  UNNEEDED, same version is already published
kjohnson1macOS 13.6.1 Ventura / arm64see weekly results here
Package 2/37HostnameOS / ArchINSTALLBUILDCHECKBUILD BIN
ASpli 2.12.0  (landing page)
Ariel Chernomoretz
git_last_commit: bf94d05
git_last_commit_date: 2023-10-24 10:51:51 -0500
nebbiolo2Linux (Ubuntu 22.04.3 LTS) / x86_64  OK    OK    WARNINGS  UNNEEDED, same version is already published
palomino4Windows Server 2022 Datacenter / x64  OK    OK    WARNINGS    OK  UNNEEDED, same version is already published
lconwaymacOS 12.7.1 Monterey / x86_64  OK    OK    WARNINGS    OK  UNNEEDED, same version is already published
kjohnson1macOS 13.6.1 Ventura / arm64see weekly results here
Package 3/37HostnameOS / ArchINSTALLBUILDCHECKBUILD BIN
biomvRCNS 1.42.2  (landing page)
Yang Du
git_last_commit: b3a0be7
git_last_commit_date: 2023-12-19 22:48:10 -0500
nebbiolo2Linux (Ubuntu 22.04.3 LTS) / x86_64  OK    OK    OK  UNNEEDED, same version is already published
palomino4Windows Server 2022 Datacenter / x64  OK    OK    OK    OK  UNNEEDED, same version is already published
lconwaymacOS 12.7.1 Monterey / x86_64  OK    OK    OK    OK  UNNEEDED, same version is already published
kjohnson1macOS 13.6.1 Ventura / arm64see weekly results here
Package 4/37HostnameOS / ArchINSTALLBUILDCHECKBUILD BIN
CAGEfightR 1.22.0  (landing page)
Malte Thodberg
git_last_commit: 8a75f42
git_last_commit_date: 2023-10-24 11:05:23 -0500
nebbiolo2Linux (Ubuntu 22.04.3 LTS) / x86_64  OK    OK    OK  UNNEEDED, same version is already published
palomino4Windows Server 2022 Datacenter / x64  OK    OK    OK    OK  UNNEEDED, same version is already published
lconwaymacOS 12.7.1 Monterey / x86_64  OK    OK    OK    OK  UNNEEDED, same version is already published
kjohnson1macOS 13.6.1 Ventura / arm64see weekly results here
Package 5/37HostnameOS / ArchINSTALLBUILDCHECKBUILD BIN
chimeraviz 1.28.0  (landing page)
Stian Lågstad
git_last_commit: 2a2ebf3
git_last_commit_date: 2023-10-24 10:54:26 -0500
nebbiolo2Linux (Ubuntu 22.04.3 LTS) / x86_64  OK    OK    OK  UNNEEDED, same version is already published
palomino4Windows Server 2022 Datacenter / x64  OK    OK    OK    OK  UNNEEDED, same version is already published
lconwaymacOS 12.7.1 Monterey / x86_64  OK    OK    OK    OK  UNNEEDED, same version is already published
kjohnson1macOS 13.6.1 Ventura / arm64see weekly results here
Package 6/37HostnameOS / ArchINSTALLBUILDCHECKBUILD BIN
cicero 1.20.0  (landing page)
Hannah Pliner
git_last_commit: 5f59985
git_last_commit_date: 2023-10-24 11:08:17 -0500
nebbiolo2Linux (Ubuntu 22.04.3 LTS) / x86_64  OK    OK    OK  UNNEEDED, same version is already published
palomino4Windows Server 2022 Datacenter / x64  OK    OK    OK    OK  UNNEEDED, same version is already published
lconwaymacOS 12.7.1 Monterey / x86_64  OK    OK    OK    OK  UNNEEDED, same version is already published
kjohnson1macOS 13.6.1 Ventura / arm64see weekly results here
Package 7/37HostnameOS / ArchINSTALLBUILDCHECKBUILD BIN
comapr 1.6.1  (landing page)
Ruqian Lyu
git_last_commit: fe01419
git_last_commit_date: 2023-10-27 00:06:38 -0500
nebbiolo2Linux (Ubuntu 22.04.3 LTS) / x86_64  OK    OK    OK  UNNEEDED, same version is already published
palomino4Windows Server 2022 Datacenter / x64  OK    OK    OK    OK  UNNEEDED, same version is already published
lconwaymacOS 12.7.1 Monterey / x86_64  OK    OK    OK    OK  UNNEEDED, same version is already published
kjohnson1macOS 13.6.1 Ventura / arm64see weekly results here
Package 8/37HostnameOS / ArchINSTALLBUILDCHECKBUILD BIN
coMET 1.34.0  (landing page)
Tiphaine Martin
git_last_commit: 79c0b13
git_last_commit_date: 2023-10-24 11:45:22 -0500
nebbiolo2Linux (Ubuntu 22.04.3 LTS) / x86_64  OK    OK    WARNINGS  UNNEEDED, same version is already published
palomino4Windows Server 2022 Datacenter / x64  OK    OK    WARNINGS    OK  UNNEEDED, same version is already published
lconwaymacOS 12.7.1 Monterey / x86_64  OK    OK    WARNINGS    OK  UNNEEDED, same version is already published
kjohnson1macOS 13.6.1 Ventura / arm64see weekly results here
Package 9/37HostnameOS / ArchINSTALLBUILDCHECKBUILD BIN
crisprViz 1.4.0  (landing page)
Jean-Philippe Fortin
git_last_commit: 1275317
git_last_commit_date: 2023-10-24 11:44:10 -0500
nebbiolo2Linux (Ubuntu 22.04.3 LTS) / x86_64  OK    OK    OK  UNNEEDED, same version is already published
palomino4Windows Server 2022 Datacenter / x64  OK    OK    OK    OK  UNNEEDED, same version is already published
lconwaymacOS 12.7.1 Monterey / x86_64  OK    OK    OK    OK  UNNEEDED, same version is already published
kjohnson1macOS 13.6.1 Ventura / arm64see weekly results here
Package 10/37HostnameOS / ArchINSTALLBUILDCHECKBUILD BIN
cummeRbund 2.44.0  (landing page)
Loyal A. Goff
git_last_commit: c4179c6
git_last_commit_date: 2023-10-24 09:48:13 -0500
nebbiolo2Linux (Ubuntu 22.04.3 LTS) / x86_64  OK    OK    WARNINGS  UNNEEDED, same version is already published
palomino4Windows Server 2022 Datacenter / x64  OK    OK    WARNINGS    OK  UNNEEDED, same version is already published
lconwaymacOS 12.7.1 Monterey / x86_64  OK    OK    WARNINGS    OK  UNNEEDED, same version is already published
kjohnson1macOS 13.6.1 Ventura / arm64see weekly results here
Package 11/37HostnameOS / ArchINSTALLBUILDCHECKBUILD BIN
DMRcate 2.16.1  (landing page)
Tim Peters
git_last_commit: 4cd2397
git_last_commit_date: 2023-12-04 22:28:28 -0500
nebbiolo2Linux (Ubuntu 22.04.3 LTS) / x86_64  OK    OK    OK  UNNEEDED, same version is already published
palomino4Windows Server 2022 Datacenter / x64  OK    OK    OK    OK  UNNEEDED, same version is already published
lconwaymacOS 12.7.1 Monterey / x86_64  OK    OK    OK    OK  UNNEEDED, same version is already published
kjohnson1macOS 13.6.1 Ventura / arm64see weekly results here
Package 12/37HostnameOS / ArchINSTALLBUILDCHECKBUILD BIN
DMRforPairs 1.38.0  (landing page)
Martin Rijlaarsdam
git_last_commit: 370714c
git_last_commit_date: 2023-10-24 09:58:37 -0500
nebbiolo2Linux (Ubuntu 22.04.3 LTS) / x86_64  OK    ERROR  skipped
palomino4Windows Server 2022 Datacenter / x64  OK    ERROR  skippedskipped
lconwaymacOS 12.7.1 Monterey / x86_64  OK    ERROR  skippedskipped
kjohnson1macOS 13.6.1 Ventura / arm64see weekly results here
Package 13/37HostnameOS / ArchINSTALLBUILDCHECKBUILD BIN
ELMER 2.26.0  (landing page)
Tiago Chedraoui Silva
git_last_commit: ceacb6a
git_last_commit_date: 2023-10-24 10:43:48 -0500
nebbiolo2Linux (Ubuntu 22.04.3 LTS) / x86_64  OK    OK    OK  UNNEEDED, same version is already published
palomino4Windows Server 2022 Datacenter / x64  OK    OK    OK    OK  UNNEEDED, same version is already published
lconwaymacOS 12.7.1 Monterey / x86_64  OK    OK    OK    OK  UNNEEDED, same version is already published
kjohnson1macOS 13.6.1 Ventura / arm64see weekly results here
Package 14/37HostnameOS / ArchINSTALLBUILDCHECKBUILD BIN
epimutacions 1.6.1  (landing page)
Dolors Pelegri-Siso
git_last_commit: ba2e314
git_last_commit_date: 2023-11-03 07:47:17 -0500
nebbiolo2Linux (Ubuntu 22.04.3 LTS) / x86_64  OK    OK    OK  UNNEEDED, same version is already published
palomino4Windows Server 2022 Datacenter / x64  OK    OK    OK    OK  UNNEEDED, same version is already published
lconwaymacOS 12.7.1 Monterey / x86_64  OK    OK    OK    OK  UNNEEDED, same version is already published
kjohnson1macOS 13.6.1 Ventura / arm64see weekly results here
Package 15/37HostnameOS / ArchINSTALLBUILDCHECKBUILD BIN
extraChIPs 1.6.0  (landing page)
Stephen Pederson
git_last_commit: 5a8ce24
git_last_commit_date: 2023-10-24 11:41:36 -0500
nebbiolo2Linux (Ubuntu 22.04.3 LTS) / x86_64  OK    OK    OK  UNNEEDED, same version is already published
palomino4Windows Server 2022 Datacenter / x64  OK    OK    OK    OK  UNNEEDED, same version is already published
lconwaymacOS 12.7.1 Monterey / x86_64  OK    OK    OK    OK  UNNEEDED, same version is already published
kjohnson1macOS 13.6.1 Ventura / arm64see weekly results here
Package 16/37HostnameOS / ArchINSTALLBUILDCHECKBUILD BIN
GeneStructureTools 1.22.0  (landing page)
Beth Signal
git_last_commit: 81b9c5e
git_last_commit_date: 2023-10-24 11:03:19 -0500
nebbiolo2Linux (Ubuntu 22.04.3 LTS) / x86_64  OK    OK    OK  UNNEEDED, same version is already published
palomino4Windows Server 2022 Datacenter / x64  OK    OK    OK    OK  UNNEEDED, same version is already published
lconwaymacOS 12.7.1 Monterey / x86_64  OK    OK    OK    OK  UNNEEDED, same version is already published
kjohnson1macOS 13.6.1 Ventura / arm64see weekly results here
Package 17/37HostnameOS / ArchINSTALLBUILDCHECKBUILD BIN
GenomicInteractions 1.36.0  (landing page)
Liz Ing-Simmons
git_last_commit: 879441e
git_last_commit_date: 2023-10-24 10:38:45 -0500
nebbiolo2Linux (Ubuntu 22.04.3 LTS) / x86_64  OK    OK    OK  UNNEEDED, same version is already published
palomino4Windows Server 2022 Datacenter / x64  OK    OK    OK    OK  UNNEEDED, same version is already published
lconwaymacOS 12.7.1 Monterey / x86_64  OK    OK    OK    OK  UNNEEDED, same version is already published
kjohnson1macOS 13.6.1 Ventura / arm64see weekly results here
Package 18/37HostnameOS / ArchINSTALLBUILDCHECKBUILD BIN
maser 1.20.0  (landing page)
Diogo F.T. Veiga
git_last_commit: 2ed0e4a
git_last_commit_date: 2023-10-24 11:05:44 -0500
nebbiolo2Linux (Ubuntu 22.04.3 LTS) / x86_64  OK    OK    OK  UNNEEDED, same version is already published
palomino4Windows Server 2022 Datacenter / x64  OK    OK    OK    OK  UNNEEDED, same version is already published
lconwaymacOS 12.7.1 Monterey / x86_64  OK    OK    OK    OK  UNNEEDED, same version is already published
kjohnson1macOS 13.6.1 Ventura / arm64see weekly results here
Package 19/37HostnameOS / ArchINSTALLBUILDCHECKBUILD BIN
mCSEA 1.22.0  (landing page)
Jordi Martorell-Marugán
git_last_commit: d875693
git_last_commit_date: 2023-10-24 11:02:15 -0500
nebbiolo2Linux (Ubuntu 22.04.3 LTS) / x86_64  OK    OK    OK  UNNEEDED, same version is already published
palomino4Windows Server 2022 Datacenter / x64  OK    OK    OK    OK  UNNEEDED, same version is already published
lconwaymacOS 12.7.1 Monterey / x86_64  OK    OK    OK    OK  UNNEEDED, same version is already published
kjohnson1macOS 13.6.1 Ventura / arm64see weekly results here
Package 20/37HostnameOS / ArchINSTALLBUILDCHECKBUILD BIN
MEAL 1.32.0  (landing page)
Xavier Escribà Montagut
git_last_commit: 4d6f89b
git_last_commit_date: 2023-10-24 10:45:36 -0500
nebbiolo2Linux (Ubuntu 22.04.3 LTS) / x86_64  OK    OK    WARNINGS  UNNEEDED, same version is already published
palomino4Windows Server 2022 Datacenter / x64  OK    OK    WARNINGS    OK  UNNEEDED, same version is already published
lconwaymacOS 12.7.1 Monterey / x86_64  OK    OK    WARNINGS    OK  UNNEEDED, same version is already published
kjohnson1macOS 13.6.1 Ventura / arm64see weekly results here
Package 21/37HostnameOS / ArchINSTALLBUILDCHECKBUILD BIN
methylPipe 1.36.0  (landing page)
Mattia Furlan
git_last_commit: eac2790
git_last_commit_date: 2023-10-24 10:00:55 -0500
nebbiolo2Linux (Ubuntu 22.04.3 LTS) / x86_64  OK    OK    WARNINGS  UNNEEDED, same version is already published
palomino4Windows Server 2022 Datacenter / x64  OK    OK    WARNINGS    OK  UNNEEDED, same version is already published
lconwaymacOS 12.7.1 Monterey / x86_64  OK    OK    WARNINGS    OK  UNNEEDED, same version is already published
kjohnson1macOS 13.6.1 Ventura / arm64see weekly results here
Package 22/37HostnameOS / ArchINSTALLBUILDCHECKBUILD BIN
motifbreakR 2.16.0  (landing page)
Simon Gert Coetzee
git_last_commit: 741df7f
git_last_commit_date: 2023-10-24 10:45:13 -0500
nebbiolo2Linux (Ubuntu 22.04.3 LTS) / x86_64  OK    OK    WARNINGS  UNNEEDED, same version is already published
palomino4Windows Server 2022 Datacenter / x64  OK    OK    WARNINGS    OK  UNNEEDED, same version is already published
lconwaymacOS 12.7.1 Monterey / x86_64  OK    OK    WARNINGS    OK  UNNEEDED, same version is already published
kjohnson1macOS 13.6.1 Ventura / arm64see weekly results here
Package 23/37HostnameOS / ArchINSTALLBUILDCHECKBUILD BIN
OGRE 1.6.0  (landing page)
Sven Berres
git_last_commit: a47cbc3
git_last_commit_date: 2023-10-24 11:39:04 -0500
nebbiolo2Linux (Ubuntu 22.04.3 LTS) / x86_64  OK    OK    OK  UNNEEDED, same version is already published
palomino4Windows Server 2022 Datacenter / x64  OK    OK    OK    OK  UNNEEDED, same version is already published
lconwaymacOS 12.7.1 Monterey / x86_64  OK    OK    OK    OK  UNNEEDED, same version is already published
kjohnson1macOS 13.6.1 Ventura / arm64see weekly results here
Package 24/37HostnameOS / ArchINSTALLBUILDCHECKBUILD BIN
PING 2.46.0  (landing page)
Renan Sauteraud
git_last_commit: 49706e2
git_last_commit_date: 2023-10-24 09:49:31 -0500
nebbiolo2Linux (Ubuntu 22.04.3 LTS) / x86_64  OK    OK    WARNINGS  UNNEEDED, same version is already published
palomino4Windows Server 2022 Datacenter / x64  OK    OK    WARNINGS    OK  UNNEEDED, same version is already published
lconwaymacOS 12.7.1 Monterey / x86_64  OK    OK    WARNINGS    OK  UNNEEDED, same version is already published
kjohnson1macOS 13.6.1 Ventura / arm64see weekly results here
Package 25/37HostnameOS / ArchINSTALLBUILDCHECKBUILD BIN
primirTSS 1.20.0  (landing page)
Pumin Li
git_last_commit: 8fd698e
git_last_commit_date: 2023-10-24 11:07:37 -0500
nebbiolo2Linux (Ubuntu 22.04.3 LTS) / x86_64  OK    OK    WARNINGS  UNNEEDED, same version is already published
palomino4Windows Server 2022 Datacenter / x64  OK    OK    WARNINGS    OK  UNNEEDED, same version is already published
lconwaymacOS 12.7.1 Monterey / x86_64  OK    OK    WARNINGS    OK  UNNEEDED, same version is already published
kjohnson1macOS 13.6.1 Ventura / arm64see weekly results here
Package 26/37HostnameOS / ArchINSTALLBUILDCHECKBUILD BIN
Pviz 1.36.0  (landing page)
Renan Sauteraud
git_last_commit: a1df6d9
git_last_commit_date: 2023-10-24 09:59:51 -0500
nebbiolo2Linux (Ubuntu 22.04.3 LTS) / x86_64  OK    OK    WARNINGS  UNNEEDED, same version is already published
palomino4Windows Server 2022 Datacenter / x64  OK    OK    WARNINGS    OK  UNNEEDED, same version is already published
lconwaymacOS 12.7.1 Monterey / x86_64  OK    OK    WARNINGS    OK  UNNEEDED, same version is already published
kjohnson1macOS 13.6.1 Ventura / arm64see weekly results here
Package 27/37HostnameOS / ArchINSTALLBUILDCHECKBUILD BIN
regutools 1.14.0  (landing page)
Joselyn Chavez
git_last_commit: 5db6548
git_last_commit_date: 2023-10-24 11:22:02 -0500
nebbiolo2Linux (Ubuntu 22.04.3 LTS) / x86_64  OK    OK    OK  UNNEEDED, same version is already published
palomino4Windows Server 2022 Datacenter / x64  OK    OK    OK    OK  UNNEEDED, same version is already published
lconwaymacOS 12.7.1 Monterey / x86_64  OK    OK    OK    OK  UNNEEDED, same version is already published
kjohnson1macOS 13.6.1 Ventura / arm64see weekly results here
Package 28/37HostnameOS / ArchINSTALLBUILDCHECKBUILD BIN
RNAmodR 1.16.0  (landing page)
Felix G.M. Ernst
git_last_commit: 721aa3d
git_last_commit_date: 2023-10-24 11:14:34 -0500
nebbiolo2Linux (Ubuntu 22.04.3 LTS) / x86_64  OK    OK    OK  UNNEEDED, same version is already published
palomino4Windows Server 2022 Datacenter / x64  OK    OK    OK    OK  UNNEEDED, same version is already published
lconwaymacOS 12.7.1 Monterey / x86_64  OK    OK    OK    OK  UNNEEDED, same version is already published
kjohnson1macOS 13.6.1 Ventura / arm64see weekly results here
Package 29/37HostnameOS / ArchINSTALLBUILDCHECKBUILD BIN
RNAmodR.AlkAnilineSeq 1.16.0  (landing page)
Felix G.M. Ernst
git_last_commit: b7a1355
git_last_commit_date: 2023-10-24 11:14:40 -0500
nebbiolo2Linux (Ubuntu 22.04.3 LTS) / x86_64  OK    OK    OK  UNNEEDED, same version is already published
palomino4Windows Server 2022 Datacenter / x64  OK    OK    OK    OK  UNNEEDED, same version is already published
lconwaymacOS 12.7.1 Monterey / x86_64  OK    OK    OK    OK  UNNEEDED, same version is already published
kjohnson1macOS 13.6.1 Ventura / arm64see weekly results here
Package 30/37HostnameOS / ArchINSTALLBUILDCHECKBUILD BIN
RNAmodR.RiboMethSeq 1.16.0  (landing page)
Felix G.M. Ernst
git_last_commit: 1dba636
git_last_commit_date: 2023-10-24 11:14:37 -0500
nebbiolo2Linux (Ubuntu 22.04.3 LTS) / x86_64  OK    OK    OK  UNNEEDED, same version is already published
palomino4Windows Server 2022 Datacenter / x64  OK    OK    OK    OK  UNNEEDED, same version is already published
lconwaymacOS 12.7.1 Monterey / x86_64  OK    OK    OK    OK  UNNEEDED, same version is already published
kjohnson1macOS 13.6.1 Ventura / arm64see weekly results here
Package 31/37HostnameOS / ArchINSTALLBUILDCHECKBUILD BIN
SPLINTER 1.28.0  (landing page)
Diana Low
git_last_commit: 501b0f9
git_last_commit_date: 2023-10-24 10:53:00 -0500
nebbiolo2Linux (Ubuntu 22.04.3 LTS) / x86_64  OK    OK    OK  UNNEEDED, same version is already published
palomino4Windows Server 2022 Datacenter / x64  OK    OK    WARNINGS    OK  UNNEEDED, same version is already published
lconwaymacOS 12.7.1 Monterey / x86_64  OK    OK    OK    OK  UNNEEDED, same version is already published
kjohnson1macOS 13.6.1 Ventura / arm64see weekly results here
Package 32/37HostnameOS / ArchINSTALLBUILDCHECKBUILD BIN
srnadiff 1.22.0  (landing page)
Zytnicki Matthias
git_last_commit: 7a6ca7f
git_last_commit_date: 2023-10-24 11:02:30 -0500
nebbiolo2Linux (Ubuntu 22.04.3 LTS) / x86_64  OK    OK    WARNINGS  UNNEEDED, same version is already published
palomino4Windows Server 2022 Datacenter / x64  OK    OK    WARNINGS    OK  UNNEEDED, same version is already published
lconwaymacOS 12.7.1 Monterey / x86_64  OK    OK    WARNINGS    OK  UNNEEDED, same version is already published
kjohnson1macOS 13.6.1 Ventura / arm64see weekly results here
Package 33/37HostnameOS / ArchINSTALLBUILDCHECKBUILD BIN
tadar 1.0.0  (landing page)
Lachlan Baer
git_last_commit: fdabf0f
git_last_commit_date: 2023-10-24 11:51:23 -0500
nebbiolo2Linux (Ubuntu 22.04.3 LTS) / x86_64  OK    OK    OK  UNNEEDED, same version is already published
palomino4Windows Server 2022 Datacenter / x64  OK    OK    OK    OK  UNNEEDED, same version is already published
lconwaymacOS 12.7.1 Monterey / x86_64  OK    OK    OK    OK  UNNEEDED, same version is already published
kjohnson1macOS 13.6.1 Ventura / arm64see weekly results here
Package 34/37HostnameOS / ArchINSTALLBUILDCHECKBUILD BIN
trackViewer 1.38.1  (landing page)
Jianhong Ou
git_last_commit: af4019c
git_last_commit_date: 2023-11-15 12:41:01 -0500
nebbiolo2Linux (Ubuntu 22.04.3 LTS) / x86_64  OK    OK    OK  UNNEEDED, same version is already published
palomino4Windows Server 2022 Datacenter / x64  OK    OK    OK    OK  UNNEEDED, same version is already published
lconwaymacOS 12.7.1 Monterey / x86_64  OK    OK    OK    OK  UNNEEDED, same version is already published
kjohnson1macOS 13.6.1 Ventura / arm64see weekly results here
Package 35/37HostnameOS / ArchINSTALLBUILDCHECKBUILD BIN
TVTB 1.28.0  (landing page)
Kevin Rue-Albrecht
git_last_commit: 4bc60c2
git_last_commit_date: 2023-10-24 10:53:50 -0500
nebbiolo2Linux (Ubuntu 22.04.3 LTS) / x86_64  OK    OK    WARNINGS  UNNEEDED, same version is already published
palomino4Windows Server 2022 Datacenter / x64... NOT SUPPORTED ...
lconwaymacOS 12.7.1 Monterey / x86_64  OK    OK    WARNINGS    OK  UNNEEDED, same version is already published
kjohnson1macOS 13.6.1 Ventura / arm64see weekly results here
Package 36/37HostnameOS / ArchINSTALLBUILDCHECKBUILD BIN
uncoverappLib 1.12.0  (landing page)
Emanuela Iovino
git_last_commit: 2424917
git_last_commit_date: 2023-10-24 11:24:30 -0500
nebbiolo2Linux (Ubuntu 22.04.3 LTS) / x86_64  OK    OK    OK  UNNEEDED, same version is already published
palomino4Windows Server 2022 Datacenter / x64  OK    OK    OK    OK  UNNEEDED, same version is already published
lconwaymacOS 12.7.1 Monterey / x86_64  OK    OK    OK    OK  UNNEEDED, same version is already published
kjohnson1macOS 13.6.1 Ventura / arm64see weekly results here
Package 37/37HostnameOS / ArchINSTALLBUILDCHECKBUILD BIN
VariantFiltering 1.38.0  (landing page)
Robert Castelo
git_last_commit: fa37d53
git_last_commit_date: 2023-10-24 09:58:34 -0500
nebbiolo2Linux (Ubuntu 22.04.3 LTS) / x86_64  OK    OK    OK  UNNEEDED, same version is already published
palomino4Windows Server 2022 Datacenter / x64  OK    OK    OK    OK  UNNEEDED, same version is already published
lconwaymacOS 12.7.1 Monterey / x86_64  OK    OK    OK    OK  UNNEEDED, same version is already published
kjohnson1macOS 13.6.1 Ventura / arm64see weekly results here