Back to Multiple platform build/check report for BioC 3.12
ABCDEFGHIJKL[M]NOPQRSTUVWXYZ

INSTALL report for maser on merida1

This page was generated on 2021-04-12 12:34:08 -0400 (Mon, 12 Apr 2021).

To the developers/maintainers of the maser package:
Please make sure to use the following settings in order to reproduce any error or warning you see on this page.
Package 1003/1974HostnameOS / ArchINSTALLBUILDCHECKBUILD BIN
maser 1.8.0  (landing page)
Diogo F.T. Veiga
Snapshot Date: 2021-04-11 14:51:36 -0400 (Sun, 11 Apr 2021)
URL: https://git.bioconductor.org/packages/maser
Branch: RELEASE_3_12
Last Commit: e86964d
Last Changed Date: 2020-10-27 11:35:52 -0400 (Tue, 27 Oct 2020)
malbec1Linux (Ubuntu 18.04.5 LTS) / x86_64  OK    OK    OK  UNNEEDED, same version exists in internal repository
tokay1Windows Server 2012 R2 Standard / x64  OK    OK    OK    OK  UNNEEDED, same version exists in internal repository
merida1macOS 10.14.6 Mojave / x86_64  OK    OK    OK    OK  UNNEEDED, same version exists in internal repository

Summary

Package: maser
Version: 1.8.0
Command: /Library/Frameworks/R.framework/Versions/Current/Resources/bin/R CMD INSTALL maser
StartedAt: 2021-04-11 17:19:31 -0400 (Sun, 11 Apr 2021)
EndedAt: 2021-04-11 17:20:28 -0400 (Sun, 11 Apr 2021)
EllapsedTime: 57.2 seconds
RetCode: 0
Status:   OK  

Command output

##############################################################################
##############################################################################
###
### Running command:
###
###   /Library/Frameworks/R.framework/Versions/Current/Resources/bin/R CMD INSTALL maser
###
##############################################################################
##############################################################################


* installing to library ‘/Library/Frameworks/R.framework/Versions/4.0/Resources/library’
* installing *source* package ‘maser’ ...
** using staged installation
** R
** inst
** byte-compile and prepare package for lazy loading
** help
*** installing help indices
** building package indices
** installing vignettes
** testing if installed package can be loaded from temporary location
** testing if installed package can be loaded from final location
** testing if installed package keeps a record of temporary installation path
* DONE (maser)