Back to Multiple platform build/check report for BioC 3.11
ABCDEFGHIJKLMNOPQR[S]TUVWXYZ

Multiple platform build/check report for BioC 3.11

Results for SomaticSignatures

This page was generated on 2020-08-08 12:29:06 -0400 (Sat, 08 Aug 2020).

Package 1698/1905HostnameOS / ArchINSTALLBUILDCHECKBUILD BIN
SomaticSignatures 2.24.0
Julian Gehring
Snapshot Date: 2020-08-07 14:50:16 -0400 (Fri, 07 Aug 2020)
URL: https://git.bioconductor.org/packages/SomaticSignatures
Branch: RELEASE_3_11
Last Commit: 4633cef
Last Changed Date: 2020-04-27 14:38:15 -0400 (Mon, 27 Apr 2020)
malbec2 Linux (Ubuntu 18.04.4 LTS) / x86_64  OK  OK  OK UNNEEDED, same version exists in internal repository
tokay2 Windows Server 2012 R2 Standard / x64  OK  OK  WARNINGS  OK UNNEEDED, same version exists in internal repository
machv2 macOS 10.14.6 Mojave / x86_64  OK  OK  OK  OK UNNEEDED, same version exists in internal repository