Back to Multiple platform build/check report for BioC 3.19:   simplified   long
ABCDEFGHIJKLMNOPQR[S]TUVWXYZ

This page was generated on 2024-07-12 17:43 -0400 (Fri, 12 Jul 2024).

HostnameOSArch (*)R versionInstalled pkgs
nebbiolo1Linux (Ubuntu 22.04.3 LTS)x86_644.4.1 (2024-06-14) -- "Race for Your Life" 4741
palomino7Windows Server 2022 Datacenterx644.4.1 (2024-06-14 ucrt) -- "Race for Your Life" 4483
merida1macOS 12.7.4 Montereyx86_644.4.1 (2024-06-14) -- "Race for Your Life" 4512
kjohnson1macOS 13.6.6 Venturaarm644.4.1 (2024-06-14) -- "Race for Your Life" 4461
Click on any hostname to see more info about the system (e.g. compilers)      (*) as reported by 'uname -p', except on Windows and Mac OS X

Package 2125/2300HostnameOS / ArchINSTALLBUILDCHECKBUILD BIN
systemPipeR 2.10.0  (landing page)
Thomas Girke
Snapshot Date: 2024-07-10 14:00 -0400 (Wed, 10 Jul 2024)
git_url: https://git.bioconductor.org/packages/systemPipeR
git_branch: RELEASE_3_19
git_last_commit: 4521e19
git_last_commit_date: 2024-04-30 10:38:46 -0400 (Tue, 30 Apr 2024)
nebbiolo1Linux (Ubuntu 22.04.3 LTS) / x86_64  OK    OK    OK  UNNEEDED, same version is already published
palomino7Windows Server 2022 Datacenter / x64  OK    OK    OK    OK  
merida1macOS 12.7.4 Monterey / x86_64  OK    OK    OK    OK  UNNEEDED, same version is already published
kjohnson1macOS 13.6.6 Ventura / arm64  OK    OK    OK    OK  UNNEEDED, same version is already published


CHECK results for systemPipeR on kjohnson1

To the developers/maintainers of the systemPipeR package:
- Allow up to 24 hours (and sometimes 48 hours) for your latest push to git@git.bioconductor.org:packages/systemPipeR.git to reflect on this report. See Troubleshooting Build Report for more information.
- Use the following Renviron settings to reproduce errors and warnings.
- If 'R CMD check' started to fail recently on the Linux builder(s) over a missing dependency, add the missing dependency to 'Suggests:' in your DESCRIPTION file. See Renviron.bioc for more information.

raw results


Summary

Package: systemPipeR
Version: 2.10.0
Command: /Library/Frameworks/R.framework/Resources/bin/R CMD check --install=check:systemPipeR.install-out.txt --library=/Library/Frameworks/R.framework/Resources/library --no-vignettes --timings systemPipeR_2.10.0.tar.gz
StartedAt: 2024-07-12 11:11:59 -0400 (Fri, 12 Jul 2024)
EndedAt: 2024-07-12 11:18:36 -0400 (Fri, 12 Jul 2024)
EllapsedTime: 396.8 seconds
RetCode: 0
Status:   OK  
CheckDir: systemPipeR.Rcheck
Warnings: 0

Command output

##############################################################################
##############################################################################
###
### Running command:
###
###   /Library/Frameworks/R.framework/Resources/bin/R CMD check --install=check:systemPipeR.install-out.txt --library=/Library/Frameworks/R.framework/Resources/library --no-vignettes --timings systemPipeR_2.10.0.tar.gz
###
##############################################################################
##############################################################################


* using log directory ‘/Users/biocbuild/bbs-3.19-bioc/meat/systemPipeR.Rcheck’
* using R version 4.4.1 (2024-06-14)
* using platform: aarch64-apple-darwin20
* R was compiled by
    Apple clang version 14.0.0 (clang-1400.0.29.202)
    GNU Fortran (GCC) 12.2.0
* running under: macOS Ventura 13.6.6
* using session charset: UTF-8
* using option ‘--no-vignettes’
* checking for file ‘systemPipeR/DESCRIPTION’ ... OK
* checking extension type ... Package
* this is package ‘systemPipeR’ version ‘2.10.0’
* checking package namespace information ... OK
* checking package dependencies ... OK
* checking if this is a source package ... OK
* checking if there is a namespace ... OK
* checking for hidden files and directories ... NOTE
Found the following hidden files and directories:
  inst/extdata/.batchtools.conf.R
  inst/extdata/.batchtools.conf.R.sge
  inst/extdata/.batchtools.conf.R.torque
These were most likely included in error. See section ‘Package
structure’ in the ‘Writing R Extensions’ manual.
* checking for portable file names ... OK
* checking for sufficient/correct file permissions ... OK
* checking whether package ‘systemPipeR’ can be installed ... OK
* checking installed package size ... NOTE
  installed size is  6.7Mb
  sub-directories of 1Mb or more:
    R             1.6Mb
    extdata       2.7Mb
    htmlwidgets   2.0Mb
* checking package directory ... OK
* checking ‘build’ directory ... OK
* checking DESCRIPTION meta-information ... OK
* checking top-level files ... OK
* checking for left-over files ... OK
* checking index information ... OK
* checking package subdirectories ... NOTE
Problems with news in ‘NEWS’:
  Cannot process chunk/lines:
    OVERVIEW
* checking code files for non-ASCII characters ... OK
* checking R files for syntax errors ... OK
* checking whether the package can be loaded ... OK
* checking whether the package can be loaded with stated dependencies ... OK
* checking whether the package can be unloaded cleanly ... OK
* checking whether the namespace can be loaded with stated dependencies ... OK
* checking whether the namespace can be unloaded cleanly ... OK
* checking dependencies in R code ... OK
* checking S3 generic/method consistency ... OK
* checking replacement functions ... OK
* checking foreign function calls ... OK
* checking R code for possible problems ... NOTE
.cmd2cwl2: no visible global function definition for ‘ave’
.getPreprotext: no visible binding for global variable ‘.’
Undefined global functions or variables:
  . ave
Consider adding
  importFrom("stats", "ave")
to your NAMESPACE file.
* checking Rd files ... OK
* checking Rd metadata ... OK
* checking Rd cross-references ... OK
* checking for missing documentation entries ... OK
* checking for code/documentation mismatches ... OK
* checking Rd \usage sections ... OK
* checking Rd contents ... OK
* checking for unstated dependencies in examples ... OK
* checking line endings in Makefiles ... OK
* checking for GNU extensions in Makefiles ... OK
* checking include directives in Makefiles ... OK
* checking files in ‘vignettes’ ... OK
* checking examples ... OK
Examples with CPU (user + system) or elapsed time > 5s
              user system elapsed
genFeatures 34.018  0.438  34.815
run_DESeq2  10.503  0.166  10.732
renderLogs   4.276  0.717   5.289
* checking for unstated dependencies in ‘tests’ ... OK
* checking tests ...
  Running ‘testthat.R’
 OK
* checking for unstated dependencies in vignettes ... OK
* checking package vignettes ... OK
* checking running R code from vignettes ... SKIPPED
* checking re-building of vignette outputs ... SKIPPED
* checking PDF version of manual ... OK
* DONE

Status: 4 NOTEs
See
  ‘/Users/biocbuild/bbs-3.19-bioc/meat/systemPipeR.Rcheck/00check.log’
for details.


Installation output

systemPipeR.Rcheck/00install.out

##############################################################################
##############################################################################
###
### Running command:
###
###   /Library/Frameworks/R.framework/Resources/bin/R CMD INSTALL systemPipeR
###
##############################################################################
##############################################################################


* installing to library ‘/Library/Frameworks/R.framework/Versions/4.4-arm64/Resources/library’
* installing *source* package ‘systemPipeR’ ...
** using staged installation
** R
** inst
** byte-compile and prepare package for lazy loading
** help
*** installing help indices
** building package indices
** installing vignettes
** testing if installed package can be loaded from temporary location
** testing if installed package can be loaded from final location
** testing if installed package keeps a record of temporary installation path
* DONE (systemPipeR)

Tests output

systemPipeR.Rcheck/tests/testthat.Rout


R version 4.4.1 (2024-06-14) -- "Race for Your Life"
Copyright (C) 2024 The R Foundation for Statistical Computing
Platform: aarch64-apple-darwin20

R is free software and comes with ABSOLUTELY NO WARRANTY.
You are welcome to redistribute it under certain conditions.
Type 'license()' or 'licence()' for distribution details.

R is a collaborative project with many contributors.
Type 'contributors()' for more information and
'citation()' on how to cite R or R packages in publications.

Type 'demo()' for some demos, 'help()' for on-line help, or
'help.start()' for an HTML browser interface to help.
Type 'q()' to quit R.

> library(testthat)
> library(systemPipeR)
Loading required package: Rsamtools
Loading required package: GenomeInfoDb
Loading required package: BiocGenerics

Attaching package: 'BiocGenerics'

The following objects are masked from 'package:stats':

    IQR, mad, sd, var, xtabs

The following objects are masked from 'package:base':

    Filter, Find, Map, Position, Reduce, anyDuplicated, aperm, append,
    as.data.frame, basename, cbind, colnames, dirname, do.call,
    duplicated, eval, evalq, get, grep, grepl, intersect, is.unsorted,
    lapply, mapply, match, mget, order, paste, pmax, pmax.int, pmin,
    pmin.int, rank, rbind, rownames, sapply, setdiff, table, tapply,
    union, unique, unsplit, which.max, which.min

Loading required package: S4Vectors
Loading required package: stats4

Attaching package: 'S4Vectors'

The following object is masked from 'package:utils':

    findMatches

The following objects are masked from 'package:base':

    I, expand.grid, unname

Loading required package: IRanges
Loading required package: GenomicRanges
Loading required package: Biostrings
Loading required package: XVector

Attaching package: 'Biostrings'

The following object is masked from 'package:base':

    strsplit

Loading required package: ShortRead
Loading required package: BiocParallel
Loading required package: GenomicAlignments
Loading required package: SummarizedExperiment
Loading required package: MatrixGenerics
Loading required package: matrixStats

Attaching package: 'MatrixGenerics'

The following objects are masked from 'package:matrixStats':

    colAlls, colAnyNAs, colAnys, colAvgsPerRowSet, colCollapse,
    colCounts, colCummaxs, colCummins, colCumprods, colCumsums,
    colDiffs, colIQRDiffs, colIQRs, colLogSumExps, colMadDiffs,
    colMads, colMaxs, colMeans2, colMedians, colMins, colOrderStats,
    colProds, colQuantiles, colRanges, colRanks, colSdDiffs, colSds,
    colSums2, colTabulates, colVarDiffs, colVars, colWeightedMads,
    colWeightedMeans, colWeightedMedians, colWeightedSds,
    colWeightedVars, rowAlls, rowAnyNAs, rowAnys, rowAvgsPerColSet,
    rowCollapse, rowCounts, rowCummaxs, rowCummins, rowCumprods,
    rowCumsums, rowDiffs, rowIQRDiffs, rowIQRs, rowLogSumExps,
    rowMadDiffs, rowMads, rowMaxs, rowMeans2, rowMedians, rowMins,
    rowOrderStats, rowProds, rowQuantiles, rowRanges, rowRanks,
    rowSdDiffs, rowSds, rowSums2, rowTabulates, rowVarDiffs, rowVars,
    rowWeightedMads, rowWeightedMeans, rowWeightedMedians,
    rowWeightedSds, rowWeightedVars

Loading required package: Biobase
Welcome to Bioconductor

    Vignettes contain introductory material; view with
    'browseVignettes()'. To cite Bioconductor, see
    'citation("Biobase")', and for packages 'citation("pkgname")'.


Attaching package: 'Biobase'

The following object is masked from 'package:MatrixGenerics':

    rowMedians

The following objects are masked from 'package:matrixStats':

    anyMissing, rowMedians

> 
> test_check("systemPipeR")
[1] "Generated /tmp/RtmpKynPBJ/rnaseq directory. Next run in rnaseq directory, the R code from *.Rmd template interactively. Alternatively, workflows can be exectued with a single command as instructed in the vignette."
[1] "Generated /tmp/RtmpKynPBJ/rnaseq2 directory. Next run in rnaseq directory, the R code from *.Rmd template interactively. Alternatively, workflows can be exectued with a single command as instructed in the vignette."
Creating directory '/private/tmp/RtmpKynPBJ/rnaseq2/.SPRproject'
Creating file '/private/tmp/RtmpKynPBJ/rnaseq2/.SPRproject/SYSargsList.yml'
Running Step:  example 
Running Session: Management 

  |                                                                            
  |                                                                      |   0%
  |                                                                            
  |=======================                                               |  33%
  |                                                                            
  |===============================================                       |  67%
  |                                                                            
  |======================================================================| 100%
---- Summary ---- 
   Targets Total_Files Existing_Files Missing_Files example
M1      M1           1              1             0 Success
M2      M2           1              1             0 Success
M3      M3           1              1             0 Success

Step Status:  Success 
Done with workflow running, now consider rendering logs & reports
To render logs, run:    sal <- renderLogs(sal)
From command-line:      Rscript -e "sal = systemPipeR::SPRproject(resume = TRUE); sal = systemPipeR::renderLogs(sal)"
To render reports, run: sal <- renderReport(sal)
From command-line:      Rscript -e "sal= s ystemPipeR::SPRproject(resume = TRUE); sal = systemPipeR::renderReport(sal)"
This message is displayed once per R session
Running Step:  newStep 
Running Session: Management 

  |                                                                            
  |                                                                      |   0%
  |                                                                            
  |=======================                                               |  33%
  |                                                                            
  |===============================================                       |  67%
  |                                                                            
  |======================================================================| 100%
---- Summary ---- 
   Targets Total_Files Existing_Files Missing_Files example
M1      M1           1              1             0 Success
M2      M2           1              1             0 Success
M3      M3           1              1             0 Success

Step Status:  Success 
Running Step:  R_code 
Running Session: Management 

  |                                                                            
  |                                                                      |   0%
  |                                                                            
  |======================================================================| 100%
Step Status:  Warning 
[1] "Generated /tmp/RtmpKynPBJ/newtest directory. Next run in new directory, the R code from *.Rmd template interactively. Alternatively, workflows can be exectued with a single command as instructed in the vignette."
Creating directory '/private/tmp/RtmpKynPBJ/newtest/.SPRproject'
Creating file '/private/tmp/RtmpKynPBJ/newtest/.SPRproject/SYSargsList.yml'
Reading Rmd file
Now importing step 'load_library' 
Now importing step 'export_iris' 
Now importing step 'gzip' 
Now importing step 'gunzip' 
Now importing step 'stats' 
Now back up current Rmd file as template for `renderReport`
Template for renderReport is stored at 
 /private/tmp/RtmpKynPBJ/newtest/.SPRproject/workflow_template.Rmd 
 Edit this file manually is not recommended 
Now check if required tools are installed 
Check if they are in path:
Checking path for gzip
PASS
Checking path for gunzip
PASS
  step_name   tool in_path
1      gzip   gzip    TRUE
2    gunzip gunzip    TRUE
All required tools in PATH, skip module check. If you want to check modules use `listCmdModules`Import  done
Instance of 'LineWise'
    Code Chunk length: 1
mapply(function(x, y) write.csv(x, y), split(iris, factor(iris$Species)), file.path("results", paste0(names(split(iris, factor(iris$Species))), ".csv")))
load_library
    5 + 5
load_library
    5 + 5
    66 + 55
Running Step:  load_library 
Running Session: Management 

  |                                                                            
  |                                                                      |   0%
  |                                                                            
  |======================================================================| 100%
Step Status:  Success 
Running Step:  export_iris 
Running Session: Management 

  |                                                                            
  |                                                                      |   0%
  |                                                                            
  |======================================================================| 100%
Step Status:  Success 
Skipping Step:  gzip 
Skipping Step:  gunzip 
Skipping Step:  stats 
[ FAIL 0 | WARN 0 | SKIP 10 | PASS 47 ]

══ Skipped tests (10) ══════════════════════════════════════════════════════════
• On Bioconductor (10): 'test-01-SYSargs.R:2:1', 'test-02-SYSargs2.R:9:5',
  'test-02-SYSargs2.R:55:5', 'test-03-SYSargsList.R:63:5',
  'test-05-catDB.R:3:1', 'test-06-VENNset.R:3:1', 'test-07-features.R:3:1',
  'test-08-cmd2cwl.R:2:1', 'test-10-chipSeq.R:4:1', 'test-utilities.R:2:1'

[ FAIL 0 | WARN 0 | SKIP 10 | PASS 47 ]
> 
> proc.time()
   user  system elapsed 
 14.407   1.882  16.660 

Example timings

systemPipeR.Rcheck/systemPipeR-Ex.timings

nameusersystemelapsed
EnvModules-class0.0010.0010.002
GOHyperGAll0.0000.0010.001
INTERSECTset-class0.0070.0070.014
LineWise-class0.1520.0220.176
ParamFiles0.0870.0030.090
ParamFiles20.1300.0040.135
SPRproject0.0040.0020.006
SYSargs-class0.0230.0080.030
SYSargs2-class0.0580.0060.064
SYSargsList-class0.5940.0470.645
SYSargsList0.0900.0080.098
VENNset-class0.0050.0040.009
alignStats2.0610.0422.111
catDB-class0.0000.0010.001
catmap0.0000.0010.001
check.output1.1660.0191.190
clusterRun1.1090.0121.126
config.param000
configWF000
countRangeset0.0400.0040.044
createParamFiles0.1320.0020.134
cwlFilesUpdate000
evalCode0.0270.0050.037
featureCoverage1.0980.0061.108
featuretypeCounts1.0780.0061.089
filterDEGs2.6800.0442.737
filterVars0.0080.0030.012
genFeatures34.018 0.43834.815
importWF0.0360.0090.047
listCmdTools000
loadWorkflow3.8860.0623.979
mergeBamByFactor0.0090.0030.011
moduleload0.0010.0010.001
olBarplot0.6520.0410.695
olRanges0.1060.0030.110
output_update1.2910.0081.304
overLapper0.3400.0270.372
plotfeatureCoverage1.2810.0071.296
plotfeaturetypeCounts0.9360.0080.966
predORF0.1790.0050.202
preprocessReads0.4110.0060.432
readComp1.2680.0071.283
renderLogs4.2760.7175.289
renderReport1.7980.4492.340
returnRPKM000
runCommandline1.3510.1961.555
runDiff0.0330.0040.037
runWF0.1090.0110.121
run_DESeq210.503 0.16610.732
run_edgeR1.2480.0281.312
sal2bash2.4050.3492.789
sal2rmd0.3780.2140.621
scaleRanges0.1380.0450.187
seeFastq0.0000.0010.001
showDF0.0540.0320.088
subsetWF1.3450.1941.552
symLink2bam1.2930.0191.317
sysargs0.0110.0060.017
systemArgs0.0100.0050.015
targets.as.df0.0060.0010.007
trimbatch0.4630.0050.469
tryCMD000
tryPath0.0010.0010.002
variantReport0.0090.0040.013
vennPlot0.3660.0390.406
writeTargets0.0860.0090.095
writeTargetsRef0.0020.0010.002
writeTargetsout1.2850.0091.301
write_SYSargsList0.1050.0090.115