Back to Multiple platform build/check report for BioC 3.11
ABCDEF[G]HIJKLMNOPQRSTUVWXYZ

Multiple platform build/check report for BioC 3.11

Results for gmoviz

This page was generated on 2020-09-29 11:57:08 -0400 (Tue, 29 Sep 2020).

Package 746/1905HostnameOS / ArchINSTALLBUILDCHECKBUILD BIN
gmoviz 1.0.1
Kathleen Zeglinski
Snapshot Date: 2020-09-28 14:50:55 -0400 (Mon, 28 Sep 2020)
URL: https://git.bioconductor.org/packages/gmoviz
Branch: RELEASE_3_11
Last Commit: 960d15d
Last Changed Date: 2020-09-19 04:47:21 -0400 (Sat, 19 Sep 2020)
malbec2 Linux (Ubuntu 18.04.4 LTS) / x86_64  OK  OK  OK UNNEEDED, same version exists in internal repository
tokay2 Windows Server 2012 R2 Standard / x64  OK  OK  OK  NA 
machv2 macOS 10.14.6 Mojave / x86_64  OK  OK  OK  OK UNNEEDED, same version exists in internal repository