Back to Multiple platform build/check report for BioC 3.11
ABC[D]EFGHIJKLMNOPQRSTUVWXYZ

Multiple platform build/check report for BioC 3.11

Results for decompTumor2Sig

This page was generated on 2020-07-13 13:34:55 -0400 (Mon, 13 Jul 2020).

Package 435/1905HostnameOS / ArchINSTALLBUILDCHECKBUILD BIN
decompTumor2Sig 2.4.0
Rosario M. Piro
Snapshot Date: 2020-07-12 15:50:18 -0400 (Sun, 12 Jul 2020)
URL: https://git.bioconductor.org/packages/decompTumor2Sig
Branch: RELEASE_3_11
Last Commit: f6bf155
Last Changed Date: 2020-04-27 15:21:56 -0400 (Mon, 27 Apr 2020)
malbec2 Linux (Ubuntu 18.04.4 LTS) / x86_64  ERROR  ERROR  skipped 
tokay2 Windows Server 2012 R2 Standard / x64  ERROR  ERROR  skipped  skipped 
machv2 macOS 10.14.6 Mojave / x86_64  ERROR  ERROR  skipped  skipped