Back to Multiple platform build/check report for BioC 3.17:   simplified   long
AB[C]DEFGHIJKLMNOPQRSTUVWXYZ

This page was generated on 2023-09-25 11:34:34 -0400 (Mon, 25 Sep 2023).

HostnameOSArch (*)R versionInstalled pkgs
nebbiolo1Linux (Ubuntu 22.04.2 LTS)x86_644.3.1 (2023-06-16) -- "Beagle Scouts" 4625
palomino3Windows Server 2022 Datacenterx644.3.1 (2023-06-16 ucrt) -- "Beagle Scouts" 4378
merida1macOS 12.6.4 Montereyx86_644.3.1 (2023-06-16) -- "Beagle Scouts" 4394
Click on any hostname to see more info about the system (e.g. compilers)      (*) as reported by 'uname -p', except on Windows and Mac OS X

All results for package consensusSeekeR


To the developers/maintainers of the consensusSeekeR package:
- Allow up to 24 hours (and sometimes 48 hours) for your latest push to git@git.bioconductor.org:packages/consensusSeekeR.git to reflect on this report. See Troubleshooting Build Report for more information.
- Use the following Renviron settings to reproduce errors and warnings.
- If 'R CMD check' started to fail recently on the Linux builder(s) over a missing dependency, add the missing dependency to 'Suggests:' in your DESCRIPTION file. See Renviron.bioc for more information.

raw results

Package 420/2230HostnameOS / ArchINSTALLBUILDCHECKBUILD BIN
consensusSeekeR 1.28.0  (landing page)
Astrid Deschenes
Snapshot Date: 2023-09-24 14:00:11 -0400 (Sun, 24 Sep 2023)
git_url: https://git.bioconductor.org/packages/consensusSeekeR
git_branch: RELEASE_3_17
git_last_commit: e96278e
git_last_commit_date: 2023-04-25 10:42:44 -0400 (Tue, 25 Apr 2023)
nebbiolo1Linux (Ubuntu 22.04.2 LTS) / x86_64  OK    OK    OK  UNNEEDED, same version is already published
palomino3Windows Server 2022 Datacenter / x64  OK    OK    OK    OK  UNNEEDED, same version is already published
merida1macOS 12.6.4 Monterey / x86_64  OK    OK    OK    OK  UNNEEDED, same version is already published

Results for Bioconductor software packages that depend directly on package consensusSeekeR

QUICK STATSOS / ArchINSTALLBUILDCHECKBUILD BIN
nebbiolo1Linux (Ubuntu 22.04.2 LTS) / x86_64
001
001
0001
palomino3Windows Server 2022 Datacenter / x64
001
001
0001
001
merida1macOS 12.6.4 Monterey / x86_64
001
001
0001
001
Package 1/1HostnameOS / ArchINSTALLBUILDCHECKBUILD BIN
RJMCMCNucleosomes 1.24.0  (landing page)
Astrid DeschĂȘnes
git_last_commit: ab64faf
git_last_commit_date: 2023-04-25 10:51:45 -0400
nebbiolo1Linux (Ubuntu 22.04.2 LTS) / x86_64  OK    OK    OK  UNNEEDED, same version is already published
palomino3Windows Server 2022 Datacenter / x64  OK    OK    OK    OK  UNNEEDED, same version is already published
merida1macOS 12.6.4 Monterey / x86_64  OK    OK    OK    OK  UNNEEDED, same version is already published