Back to Multiple platform build/check report for BioC 3.12
ABCD[E]FGHIJKLMNOPQRSTUVWXYZ

Multiple platform build/check report for BioC 3.12

Results for package ensemblVEP

This page was generated on 2021-02-22 12:27:44 -0500 (Mon, 22 Feb 2021).

Package 553/1974HostnameOS / ArchINSTALLBUILDCHECKBUILD BIN
ensemblVEP 1.32.0
Bioconductor Package Maintainer
Snapshot Date: 2021-02-21 14:52:07 -0500 (Sun, 21 Feb 2021)
URL: https://git.bioconductor.org/packages/ensemblVEP
Branch: RELEASE_3_12
Last Commit: 2ec24cc
Last Changed Date: 2020-10-27 10:48:25 -0500 (Tue, 27 Oct 2020)
malbec1Linux (Ubuntu 18.04.5 LTS) / x86_64  OK    ERROR  skipped
nebbiolo1Linux (Ubuntu 20.04.2 LTS) / x86_64  OK    ERROR  skipped
tokay1Windows Server 2012 R2 Standard / x64... NOT SUPPORTED ...
merida1macOS 10.14.6 Mojave / x86_64  OK    ERROR  skippedskipped